Back to Multiple platform build/check report for BioC 3.14
A[B]CDEFGHIJKLMNOPQRSTUVWXYZ

This page was generated on 2021-10-23 14:05:53 -0400 (Sat, 23 Oct 2021).

BUILD results for barcodetrackR on nebbiolo2

To the developers/maintainers of the barcodetrackR package:
- Please allow up to 24 hours (and sometimes 48 hours) for your latest push to git@git.bioconductor.org:packages/barcodetrackR.git to
reflect on this report. See How and When does the builder pull? When will my changes propagate? here for more information.
- Make sure to use the following settings in order to reproduce any error or warning you see on this page.

raw results

Package 114/2083HostnameOS / ArchINSTALLBUILDCHECKBUILD BIN
barcodetrackR 1.1.0  (landing page)
Diego Alexander Espinoza
Snapshot Date: 2021-10-22 14:50:11 -0400 (Fri, 22 Oct 2021)
git_url: https://git.bioconductor.org/packages/barcodetrackR
git_branch: master
git_last_commit: 7d0712b
git_last_commit_date: 2021-05-19 13:01:26 -0400 (Wed, 19 May 2021)
nebbiolo2Linux (Ubuntu 20.04.2 LTS) / x86_64  OK    OK    OK  UNNEEDED, same version is already published
riesling1Windows Server 2019 Standard / x64  OK    OK    OK    OK  UNNEEDED, same version is already published
merida1macOS 10.14.6 Mojave / x86_64  OK    OK    OK    OK  UNNEEDED, same version is already published

Summary

Package: barcodetrackR
Version: 1.1.0
Command: /home/biocbuild/bbs-3.14-bioc/R/bin/R CMD build --keep-empty-dirs --no-resave-data barcodetrackR
StartedAt: 2021-10-22 16:44:40 -0400 (Fri, 22 Oct 2021)
EndedAt: 2021-10-22 16:45:47 -0400 (Fri, 22 Oct 2021)
EllapsedTime: 66.7 seconds
RetCode: 0
Status:   OK  
PackageFile: barcodetrackR_1.1.0.tar.gz
PackageFileSize: 2.954 MiB

Command output

##############################################################################
##############################################################################
###
### Running command:
###
###   /home/biocbuild/bbs-3.14-bioc/R/bin/R CMD build --keep-empty-dirs --no-resave-data barcodetrackR
###
##############################################################################
##############################################################################


* checking for file ‘barcodetrackR/DESCRIPTION’ ... OK
* preparing ‘barcodetrackR’:
* checking DESCRIPTION meta-information ... OK
* installing the package to build vignettes
* creating vignettes ... OK
* checking for LF line-endings in source and make files and shell scripts
* checking for empty or unneeded directories
* looking to see if a ‘data/datalist’ file should be added
* building ‘barcodetrackR_1.1.0.tar.gz’