Back to Multiple platform build/check report for BioC 3.14
A[B]CDEFGHIJKLMNOPQRSTUVWXYZ

This page was generated on 2021-11-26 15:05:42 -0500 (Fri, 26 Nov 2021).

BUILD BIN results for barcodetrackR on machv2

To the developers/maintainers of the barcodetrackR package:
- Please allow up to 24 hours (and sometimes 48 hours) for your latest push to git@git.bioconductor.org:packages/barcodetrackR.git to
reflect on this report. See How and When does the builder pull? When will my changes propagate? here for more information.
- Make sure to use the following settings in order to reproduce any error or warning you see on this page.

raw results

Package 114/2083HostnameOS / ArchINSTALLBUILDCHECKBUILD BIN
barcodetrackR 1.2.0  (landing page)
Diego Alexander Espinoza
Snapshot Date: 2021-11-25 04:15:05 -0500 (Thu, 25 Nov 2021)
git_url: https://git.bioconductor.org/packages/barcodetrackR
git_branch: RELEASE_3_14
git_last_commit: 29ecd67
git_last_commit_date: 2021-10-26 13:08:19 -0500 (Tue, 26 Oct 2021)
nebbiolo2Linux (Ubuntu 20.04.3 LTS) / x86_64  OK    OK    OK  UNNEEDED, same version is already published
tokay2Windows Server 2012 R2 Standard / x64  OK    OK    OK    OK  UNNEEDED, same version is already published
machv2macOS 10.14.6 Mojave / x86_64  OK    OK    OK    OK  UNNEEDED, same version is already published

Summary

Package: barcodetrackR
Version: 1.2.0
Command: rm -rf barcodetrackR.buildbin-libdir && mkdir barcodetrackR.buildbin-libdir && /Users/biocbuild/BBS/utils/build-universal.sh barcodetrackR_1.2.0.tar.gz /Library/Frameworks/R.framework/Resources/bin/R barcodetrackR.buildbin-libdir
StartedAt: 2021-11-25 23:25:53 -0500 (Thu, 25 Nov 2021)
EndedAt: 2021-11-25 23:27:01 -0500 (Thu, 25 Nov 2021)
EllapsedTime: 67.7 seconds
RetCode: 0
Status:   OK  
PackageFile: barcodetrackR_1.2.0.tgz
PackageFileSize: 3.114 MiB

Command output

##############################################################################
##############################################################################
###
### Running command:
###
###   rm -rf barcodetrackR.buildbin-libdir && mkdir barcodetrackR.buildbin-libdir && /Users/biocbuild/BBS/utils/build-universal.sh barcodetrackR_1.2.0.tar.gz /Library/Frameworks/R.framework/Resources/bin/R barcodetrackR.buildbin-libdir
###
##############################################################################
##############################################################################


>>>>>>> 
>>>>>>> INSTALLATION WITH 'R CMD INSTALL --preclean --no-multiarch --library=barcodetrackR.buildbin-libdir barcodetrackR_1.2.0.tar.gz'
>>>>>>> 

* installing *source* package ‘barcodetrackR’ ...
** using staged installation
** R
** data
** inst
** byte-compile and prepare package for lazy loading
** help
*** installing help indices
** building package indices
** installing vignettes
** testing if installed package can be loaded from temporary location
** testing if installed package can be loaded from final location
** testing if installed package keeps a record of temporary installation path
* DONE (barcodetrackR)