Back to Multiple platform build/check report for BioC 3.14
A[B]CDEFGHIJKLMNOPQRSTUVWXYZ

This page was generated on 2021-10-18 12:03:58 -0400 (Mon, 18 Oct 2021).

INSTALL results for banocc on riesling1

To the developers/maintainers of the banocc package:
- Please allow up to 24 hours (and sometimes 48 hours) for your latest push to git@git.bioconductor.org:packages/banocc.git to
reflect on this report. See How and When does the builder pull? When will my changes propagate? here for more information.
- Make sure to use the following settings in order to reproduce any error or warning you see on this page.

raw results

Package 113/2060HostnameOS / ArchINSTALLBUILDCHECKBUILD BIN
banocc 1.17.0  (landing page)
George Weingart
Snapshot Date: 2021-10-17 14:50:03 -0400 (Sun, 17 Oct 2021)
git_url: https://git.bioconductor.org/packages/banocc
git_branch: master
git_last_commit: d6fba03
git_last_commit_date: 2021-05-19 12:27:05 -0400 (Wed, 19 May 2021)
nebbiolo2Linux (Ubuntu 20.04.2 LTS) / x86_64  OK    OK    OK  UNNEEDED, same version is already published
riesling1Windows Server 2019 Standard / x64  OK    ERROR  skippedskipped
merida1macOS 10.14.6 Mojave / x86_64  OK    OK    OK    OK  UNNEEDED, same version is already published

Summary

Package: banocc
Version: 1.17.0
Command: C:\cygwin\bin\curl.exe -O http://155.52.207.166/BBS/3.14/bioc/src/contrib/banocc_1.17.0.tar.gz && rm -rf banocc.buildbin-libdir && mkdir banocc.buildbin-libdir && D:\biocbuild\bbs-3.14-bioc\R\bin\R.exe CMD INSTALL --merge-multiarch --build --library=banocc.buildbin-libdir banocc_1.17.0.tar.gz && D:\biocbuild\bbs-3.14-bioc\R\bin\R.exe CMD INSTALL banocc_1.17.0.zip && rm banocc_1.17.0.tar.gz banocc_1.17.0.zip
StartedAt: 2021-10-17 17:14:59 -0400 (Sun, 17 Oct 2021)
EndedAt: 2021-10-17 17:18:00 -0400 (Sun, 17 Oct 2021)
EllapsedTime: 181.5 seconds
RetCode: 0
Status:   OK  

Command output

##############################################################################
##############################################################################
###
### Running command:
###
###   C:\cygwin\bin\curl.exe -O http://155.52.207.166/BBS/3.14/bioc/src/contrib/banocc_1.17.0.tar.gz && rm -rf banocc.buildbin-libdir && mkdir banocc.buildbin-libdir && D:\biocbuild\bbs-3.14-bioc\R\bin\R.exe CMD INSTALL --merge-multiarch --build --library=banocc.buildbin-libdir banocc_1.17.0.tar.gz && D:\biocbuild\bbs-3.14-bioc\R\bin\R.exe CMD INSTALL banocc_1.17.0.zip && rm banocc_1.17.0.tar.gz banocc_1.17.0.zip
###
##############################################################################
##############################################################################


  % Total    % Received % Xferd  Average Speed   Time    Time     Time  Current
                                 Dload  Upload   Total   Spent    Left  Speed

  0     0    0     0    0     0      0      0 --:--:-- --:--:-- --:--:--     0
  0     0    0     0    0     0      0      0 --:--:-- --:--:-- --:--:--     0
 95 25.3M   95 24.1M    0     0  23.2M      0  0:00:01  0:00:01 --:--:-- 23.2M
100 25.3M  100 25.3M    0     0  15.3M      0  0:00:01  0:00:01 --:--:-- 15.3M

install for i386

* installing *source* package 'banocc' ...
** using staged installation
** R
** data
** byte-compile and prepare package for lazy loading
** help
*** installing help indices
  converting help for package 'banocc'
    finding HTML links ... done
    banocc                                  html  
    banocc_model                            html  
    compositions_hard_null                  html  
    compositions_neg_spike                  html  
    compositions_null                       html  
    compositions_pos_spike                  html  
    counts_hard_null                        html  
    counts_neg_spike                        html  
    counts_null                             html  
    counts_pos_spike                        html  
    get_banocc_output                       html  
    run_banocc                              html  
    finding level-2 HTML links ... done

** building package indices
** installing vignettes
** testing if installed package can be loaded from temporary location
** testing if installed package can be loaded from final location
** testing if installed package keeps a record of temporary installation path

install for x64

* installing *source* package 'banocc' ...
** testing if installed package can be loaded
* MD5 sums
packaged installation of 'banocc' as banocc_1.17.0.zip
* DONE (banocc)
* installing to library 'D:/biocbuild/bbs-3.14-bioc/R/library'
package 'banocc' successfully unpacked and MD5 sums checked