Back to Multiple platform build/check report for BioC 3.14
A[B]CDEFGHIJKLMNOPQRSTUVWXYZ

This page was generated on 2021-10-18 12:04:26 -0400 (Mon, 18 Oct 2021).

BUILD BIN results for banocc on merida1

To the developers/maintainers of the banocc package:
- Please allow up to 24 hours (and sometimes 48 hours) for your latest push to git@git.bioconductor.org:packages/banocc.git to
reflect on this report. See How and When does the builder pull? When will my changes propagate? here for more information.
- Make sure to use the following settings in order to reproduce any error or warning you see on this page.

raw results

Package 113/2060HostnameOS / ArchINSTALLBUILDCHECKBUILD BIN
banocc 1.17.0  (landing page)
George Weingart
Snapshot Date: 2021-10-17 14:50:03 -0400 (Sun, 17 Oct 2021)
git_url: https://git.bioconductor.org/packages/banocc
git_branch: master
git_last_commit: d6fba03
git_last_commit_date: 2021-05-19 12:27:05 -0400 (Wed, 19 May 2021)
nebbiolo2Linux (Ubuntu 20.04.2 LTS) / x86_64  OK    OK    OK  UNNEEDED, same version is already published
riesling1Windows Server 2019 Standard / x64  OK    ERROR  skippedskipped
merida1macOS 10.14.6 Mojave / x86_64  OK    OK    OK    OK  UNNEEDED, same version is already published

Summary

Package: banocc
Version: 1.17.0
Command: rm -rf banocc.buildbin-libdir && mkdir banocc.buildbin-libdir && /Users/biocbuild/BBS/utils/build-universal.sh banocc_1.17.0.tar.gz /Library/Frameworks/R.framework/Resources/bin/R banocc.buildbin-libdir
StartedAt: 2021-10-18 11:21:20 -0400 (Mon, 18 Oct 2021)
EndedAt: 2021-10-18 11:22:06 -0400 (Mon, 18 Oct 2021)
EllapsedTime: 46.3 seconds
RetCode: 0
Status:   OK  
PackageFile: banocc_1.17.0.tgz
PackageFileSize: 1020 KiB

Command output

##############################################################################
##############################################################################
###
### Running command:
###
###   rm -rf banocc.buildbin-libdir && mkdir banocc.buildbin-libdir && /Users/biocbuild/BBS/utils/build-universal.sh banocc_1.17.0.tar.gz /Library/Frameworks/R.framework/Resources/bin/R banocc.buildbin-libdir
###
##############################################################################
##############################################################################


>>>>>>> 
>>>>>>> INSTALLATION WITH 'R CMD INSTALL --preclean --no-multiarch --library=banocc.buildbin-libdir banocc_1.17.0.tar.gz'
>>>>>>> 

* installing *source* package ‘banocc’ ...
** using staged installation
** R
** data
** inst
** byte-compile and prepare package for lazy loading
** help
*** installing help indices
** building package indices
** installing vignettes
** testing if installed package can be loaded from temporary location
** testing if installed package can be loaded from final location
** testing if installed package keeps a record of temporary installation path
* DONE (banocc)