Back to Multiple platform build/check report for BioC 3.14
A[B]CDEFGHIJKLMNOPQRSTUVWXYZ

This page was generated on 2021-11-26 15:05:42 -0500 (Fri, 26 Nov 2021).

BUILD results for banocc on machv2

To the developers/maintainers of the banocc package:
- Please allow up to 24 hours (and sometimes 48 hours) for your latest push to git@git.bioconductor.org:packages/banocc.git to
reflect on this report. See How and When does the builder pull? When will my changes propagate? here for more information.
- Make sure to use the following settings in order to reproduce any error or warning you see on this page.

raw results

Package 113/2083HostnameOS / ArchINSTALLBUILDCHECKBUILD BIN
banocc 1.18.0  (landing page)
George Weingart
Snapshot Date: 2021-11-25 04:15:05 -0500 (Thu, 25 Nov 2021)
git_url: https://git.bioconductor.org/packages/banocc
git_branch: RELEASE_3_14
git_last_commit: 8884459
git_last_commit_date: 2021-10-26 12:34:28 -0500 (Tue, 26 Oct 2021)
nebbiolo2Linux (Ubuntu 20.04.3 LTS) / x86_64  OK    OK    OK  UNNEEDED, same version is already published
tokay2Windows Server 2012 R2 Standard / x64  OK    ERROR  skippedskipped
machv2macOS 10.14.6 Mojave / x86_64  OK    OK    OK    OK  UNNEEDED, same version is already published

Summary

Package: banocc
Version: 1.18.0
Command: /Library/Frameworks/R.framework/Resources/bin/R CMD build --keep-empty-dirs --no-resave-data banocc
StartedAt: 2021-11-25 07:51:41 -0500 (Thu, 25 Nov 2021)
EndedAt: 2021-11-25 07:53:44 -0500 (Thu, 25 Nov 2021)
EllapsedTime: 123.7 seconds
RetCode: 0
Status:   OK  
PackageFile: banocc_1.18.0.tar.gz
PackageFileSize: 25.49 MiB

Command output

##############################################################################
##############################################################################
###
### Running command:
###
###   /Library/Frameworks/R.framework/Resources/bin/R CMD build --keep-empty-dirs --no-resave-data banocc
###
##############################################################################
##############################################################################


* checking for file ‘banocc/DESCRIPTION’ ... OK
* preparing ‘banocc’:
* checking DESCRIPTION meta-information ... OK
* installing the package to build vignettes
* creating vignettes ... OK
* checking for LF line-endings in source and make files and shell scripts
* checking for empty or unneeded directories
* looking to see if a ‘data/datalist’ file should be added
* building ‘banocc_1.18.0.tar.gz’