Back to Multiple platform build/check report for BioC 3.14
A[B]CDEFGHIJKLMNOPQRSTUVWXYZ

This page was generated on 2022-01-21 13:05:58 -0500 (Fri, 21 Jan 2022).

HostnameOSArch (*)R versionInstalled pkgs
nebbiolo2Linux (Ubuntu 20.04.4 LTS)x86_644.1.2 (2021-11-01) -- "Bird Hippie" 4329
tokay2Windows Server 2012 R2 Standardx644.1.2 (2021-11-01) -- "Bird Hippie" 4079
machv2macOS 10.14.6 Mojavex86_644.1.2 (2021-11-01) -- "Bird Hippie" 4140
Click on any hostname to see more info about the system (e.g. compilers)      (*) as reported by 'uname -p', except on Windows and Mac OS X

CHECK results for bambu on tokay2


To the developers/maintainers of the bambu package:
- Please allow up to 24 hours (and sometimes 48 hours) for your latest push to git@git.bioconductor.org:packages/bambu.git to
reflect on this report. See How and When does the builder pull? When will my changes propagate? here for more information.
- Make sure to use the following settings in order to reproduce any error or warning you see on this page.

raw results

Package 110/2083HostnameOS / ArchINSTALLBUILDCHECKBUILD BIN
bambu 2.0.1  (landing page)
Ying Chen
Snapshot Date: 2022-01-20 01:55:04 -0500 (Thu, 20 Jan 2022)
git_url: https://git.bioconductor.org/packages/bambu
git_branch: RELEASE_3_14
git_last_commit: 16a6d66
git_last_commit_date: 2021-11-22 21:16:11 -0500 (Mon, 22 Nov 2021)
nebbiolo2Linux (Ubuntu 20.04.4 LTS) / x86_64  OK    OK    OK  UNNEEDED, same version is already published
tokay2Windows Server 2012 R2 Standard / x64  OK    OK    OK    OK  UNNEEDED, same version is already published
machv2macOS 10.14.6 Mojave / x86_64  OK    OK    OK    OK  UNNEEDED, same version is already published

Summary

Package: bambu
Version: 2.0.1
Command: C:\Users\biocbuild\bbs-3.14-bioc\R\bin\R.exe CMD check --force-multiarch --install=check:bambu.install-out.txt --library=C:\Users\biocbuild\bbs-3.14-bioc\R\library --no-vignettes --timings bambu_2.0.1.tar.gz
StartedAt: 2022-01-20 16:07:07 -0500 (Thu, 20 Jan 2022)
EndedAt: 2022-01-20 16:19:41 -0500 (Thu, 20 Jan 2022)
EllapsedTime: 753.8 seconds
RetCode: 0
Status:   OK  
CheckDir: bambu.Rcheck
Warnings: 0

Command output

##############################################################################
##############################################################################
###
### Running command:
###
###   C:\Users\biocbuild\bbs-3.14-bioc\R\bin\R.exe CMD check --force-multiarch --install=check:bambu.install-out.txt --library=C:\Users\biocbuild\bbs-3.14-bioc\R\library --no-vignettes --timings bambu_2.0.1.tar.gz
###
##############################################################################
##############################################################################


* using log directory 'C:/Users/biocbuild/bbs-3.14-bioc/meat/bambu.Rcheck'
* using R version 4.1.2 (2021-11-01)
* using platform: x86_64-w64-mingw32 (64-bit)
* using session charset: ISO8859-1
* using option '--no-vignettes'
* checking for file 'bambu/DESCRIPTION' ... OK
* checking extension type ... Package
* this is package 'bambu' version '2.0.1'
* package encoding: UTF-8
* checking package namespace information ... OK
* checking package dependencies ... OK
* checking if this is a source package ... OK
* checking if there is a namespace ... OK
* checking for hidden files and directories ... OK
* checking for portable file names ... OK
* checking whether package 'bambu' can be installed ... OK
* checking installed package size ... NOTE
  installed size is  6.4Mb
  sub-directories of 1Mb or more:
    R         1.1Mb
    extdata   3.1Mb
    libs      2.1Mb
* checking package directory ... OK
* checking 'build' directory ... OK
* checking DESCRIPTION meta-information ... OK
* checking top-level files ... OK
* checking for left-over files ... OK
* checking index information ... OK
* checking package subdirectories ... OK
* checking R files for non-ASCII characters ... OK
* checking R files for syntax errors ... OK
* loading checks for arch 'i386'
** checking whether the package can be loaded ... OK
** checking whether the package can be loaded with stated dependencies ... OK
** checking whether the package can be unloaded cleanly ... OK
** checking whether the namespace can be loaded with stated dependencies ... OK
** checking whether the namespace can be unloaded cleanly ... OK
* loading checks for arch 'x64'
** checking whether the package can be loaded ... OK
** checking whether the package can be loaded with stated dependencies ... OK
** checking whether the package can be unloaded cleanly ... OK
** checking whether the namespace can be loaded with stated dependencies ... OK
** checking whether the namespace can be unloaded cleanly ... OK
* checking dependencies in R code ... NOTE
Unexported objects imported by ':::' calls:
  'GenomicAlignments:::.result' 'xgboost:::predict.xgb.Booster'
  See the note in ?`:::` about the use of this operator.
* checking S3 generic/method consistency ... OK
* checking replacement functions ... OK
* checking foreign function calls ... OK
* checking R code for possible problems ... OK
* checking Rd files ... OK
* checking Rd metadata ... OK
* checking Rd cross-references ... OK
* checking for missing documentation entries ... OK
* checking for code/documentation mismatches ... OK
* checking Rd \usage sections ... OK
* checking Rd contents ... OK
* checking for unstated dependencies in examples ... OK
* checking R/sysdata.rda ... OK
* checking line endings in C/C++/Fortran sources/headers ... OK
* checking line endings in Makefiles ... OK
* checking compilation flags in Makevars ... OK
* checking for GNU extensions in Makefiles ... OK
* checking for portable use of $(BLAS_LIBS) and $(LAPACK_LIBS) ... OK
* checking use of PKG_*FLAGS in Makefiles ... OK
* checking compiled code ... NOTE
Note: information on .o files for i386 is not available
Note: information on .o files for x64 is not available
File 'C:/Users/biocbuild/bbs-3.14-bioc/R/library/bambu/libs/i386/bambu.dll':
  Found 'abort', possibly from 'abort' (C), 'runtime' (Fortran)
  Found 'exit', possibly from 'exit' (C), 'stop' (Fortran)
  Found 'printf', possibly from 'printf' (C)
File 'C:/Users/biocbuild/bbs-3.14-bioc/R/library/bambu/libs/x64/bambu.dll':
  Found 'abort', possibly from 'abort' (C), 'runtime' (Fortran)
  Found 'exit', possibly from 'exit' (C), 'stop' (Fortran)
  Found 'printf', possibly from 'printf' (C)

Compiled code should not call entry points which might terminate R nor
write to stdout/stderr instead of to the console, nor use Fortran I/O
nor system RNGs. The detected symbols are linked into the code but
might come from libraries and not actually be called.

See 'Writing portable packages' in the 'Writing R Extensions' manual.
* checking files in 'vignettes' ... OK
* checking examples ...
** running examples for arch 'i386' ... OK
Examples with CPU (user + system) or elapsed time > 5s
      user system elapsed
bambu 12.5   0.68   13.71
** running examples for arch 'x64' ... OK
Examples with CPU (user + system) or elapsed time > 5s
       user system elapsed
bambu 17.69   0.16   17.86
* checking for unstated dependencies in 'tests' ... OK
* checking tests ...
** running tests for arch 'i386' ...
  Running 'testthat.R'
 OK
** running tests for arch 'x64' ...
  Running 'testthat.R'
 OK
* checking for unstated dependencies in vignettes ... OK
* checking package vignettes in 'inst/doc' ... OK
* checking running R code from vignettes ... SKIPPED
* checking re-building of vignette outputs ... SKIPPED
* checking PDF version of manual ... OK
* DONE

Status: 3 NOTEs
See
  'C:/Users/biocbuild/bbs-3.14-bioc/meat/bambu.Rcheck/00check.log'
for details.



Installation output

bambu.Rcheck/00install.out

##############################################################################
##############################################################################
###
### Running command:
###
###   C:\cygwin\bin\curl.exe -O http://155.52.207.166/BBS/3.14/bioc/src/contrib/bambu_2.0.1.tar.gz && rm -rf bambu.buildbin-libdir && mkdir bambu.buildbin-libdir && C:\Users\biocbuild\bbs-3.14-bioc\R\bin\R.exe CMD INSTALL --merge-multiarch --build --library=bambu.buildbin-libdir bambu_2.0.1.tar.gz && C:\Users\biocbuild\bbs-3.14-bioc\R\bin\R.exe CMD INSTALL bambu_2.0.1.zip && rm bambu_2.0.1.tar.gz bambu_2.0.1.zip
###
##############################################################################
##############################################################################


  % Total    % Received % Xferd  Average Speed   Time    Time     Time  Current
                                 Dload  Upload   Total   Spent    Left  Speed

  0     0    0     0    0     0      0      0 --:--:-- --:--:-- --:--:--     0
100 3312k  100 3312k    0     0  4205k      0 --:--:-- --:--:-- --:--:-- 4209k

install for i386

* installing *source* package 'bambu' ...
** using staged installation
** libs
"C:/rtools40/mingw32/bin/"g++ -std=gnu++11  -I"C:/Users/BIOCBU~1/BBS-3~1.14-/R/include" -DNDEBUG  -I'C:/Users/biocbuild/bbs-3.14-bioc/R/library/Rcpp/include' -I'C:/Users/biocbuild/bbs-3.14-bioc/R/library/RcppArmadillo/include'   -I"C:/extsoft/include"  -fopenmp   -O2 -Wall  -mfpmath=sse -msse2 -mstackrealign  -c RcppExports.cpp -o RcppExports.o
"C:/rtools40/mingw32/bin/"g++ -std=gnu++11  -I"C:/Users/BIOCBU~1/BBS-3~1.14-/R/include" -DNDEBUG  -I'C:/Users/biocbuild/bbs-3.14-bioc/R/library/Rcpp/include' -I'C:/Users/biocbuild/bbs-3.14-bioc/R/library/RcppArmadillo/include'   -I"C:/extsoft/include"  -fopenmp   -O2 -Wall  -mfpmath=sse -msse2 -mstackrealign  -c em.cpp -o em.o
C:/rtools40/mingw32/bin/g++ -std=gnu++11 -shared -s -static-libgcc -o bambu.dll tmp.def RcppExports.o em.o -LC:/Users/BIOCBU~1/BBS-3~1.14-/R/bin/i386 -lRlapack -LC:/Users/BIOCBU~1/BBS-3~1.14-/R/bin/i386 -lRblas -lgfortran -lm -lquadmath -fopenmp -LC:/extsoft/lib/i386 -LC:/extsoft/lib -LC:/Users/BIOCBU~1/BBS-3~1.14-/R/bin/i386 -lR
installing to C:/Users/biocbuild/bbs-3.14-bioc/meat/bambu.buildbin-libdir/00LOCK-bambu/00new/bambu/libs/i386
** R
** inst
** byte-compile and prepare package for lazy loading
** help
*** installing help indices
  converting help for package 'bambu'
    finding HTML links ... done
    bambu                                   html  
    plotBambu                               html  
    prepareAnnotations                      html  
    readFromGTF                             html  
    transcriptToGeneExpression              html  
    writeBambuOutput                        html  
    finding level-2 HTML links ... done

    writeToGTF                              html  
** building package indices
** installing vignettes
** testing if installed package can be loaded from temporary location
** testing if installed package can be loaded from final location
** testing if installed package keeps a record of temporary installation path

install for x64

* installing *source* package 'bambu' ...
** libs
"C:/rtools40/mingw64/bin/"g++ -std=gnu++11  -I"C:/Users/BIOCBU~1/BBS-3~1.14-/R/include" -DNDEBUG  -I'C:/Users/biocbuild/bbs-3.14-bioc/R/library/Rcpp/include' -I'C:/Users/biocbuild/bbs-3.14-bioc/R/library/RcppArmadillo/include'   -I"C:/extsoft/include"  -fopenmp   -O2 -Wall  -mfpmath=sse -msse2 -mstackrealign  -c RcppExports.cpp -o RcppExports.o
"C:/rtools40/mingw64/bin/"g++ -std=gnu++11  -I"C:/Users/BIOCBU~1/BBS-3~1.14-/R/include" -DNDEBUG  -I'C:/Users/biocbuild/bbs-3.14-bioc/R/library/Rcpp/include' -I'C:/Users/biocbuild/bbs-3.14-bioc/R/library/RcppArmadillo/include'   -I"C:/extsoft/include"  -fopenmp   -O2 -Wall  -mfpmath=sse -msse2 -mstackrealign  -c em.cpp -o em.o
C:/rtools40/mingw64/bin/g++ -std=gnu++11 -shared -s -static-libgcc -o bambu.dll tmp.def RcppExports.o em.o -LC:/Users/BIOCBU~1/BBS-3~1.14-/R/bin/x64 -lRlapack -LC:/Users/BIOCBU~1/BBS-3~1.14-/R/bin/x64 -lRblas -lgfortran -lm -lquadmath -fopenmp -LC:/extsoft/lib/x64 -LC:/extsoft/lib -LC:/Users/BIOCBU~1/BBS-3~1.14-/R/bin/x64 -lR
installing to C:/Users/biocbuild/bbs-3.14-bioc/meat/bambu.buildbin-libdir/bambu/libs/x64
** testing if installed package can be loaded
* MD5 sums
packaged installation of 'bambu' as bambu_2.0.1.zip
* DONE (bambu)
* installing to library 'C:/Users/biocbuild/bbs-3.14-bioc/R/library'
package 'bambu' successfully unpacked and MD5 sums checked

Tests output

bambu.Rcheck/tests_i386/testthat.Rout


R version 4.1.2 (2021-11-01) -- "Bird Hippie"
Copyright (C) 2021 The R Foundation for Statistical Computing
Platform: i386-w64-mingw32/i386 (32-bit)

R is free software and comes with ABSOLUTELY NO WARRANTY.
You are welcome to redistribute it under certain conditions.
Type 'license()' or 'licence()' for distribution details.

R is a collaborative project with many contributors.
Type 'contributors()' for more information and
'citation()' on how to cite R or R packages in publications.

Type 'demo()' for some demos, 'help()' for on-line help, or
'help.start()' for an HTML browser interface to help.
Type 'q()' to quit R.

> Sys.setenv("R_TESTS" = "")
> 
> library(testthat)
> library(bambu)
Loading required package: SummarizedExperiment
Loading required package: MatrixGenerics
Loading required package: matrixStats

Attaching package: 'MatrixGenerics'

The following objects are masked from 'package:matrixStats':

    colAlls, colAnyNAs, colAnys, colAvgsPerRowSet, colCollapse,
    colCounts, colCummaxs, colCummins, colCumprods, colCumsums,
    colDiffs, colIQRDiffs, colIQRs, colLogSumExps, colMadDiffs,
    colMads, colMaxs, colMeans2, colMedians, colMins, colOrderStats,
    colProds, colQuantiles, colRanges, colRanks, colSdDiffs, colSds,
    colSums2, colTabulates, colVarDiffs, colVars, colWeightedMads,
    colWeightedMeans, colWeightedMedians, colWeightedSds,
    colWeightedVars, rowAlls, rowAnyNAs, rowAnys, rowAvgsPerColSet,
    rowCollapse, rowCounts, rowCummaxs, rowCummins, rowCumprods,
    rowCumsums, rowDiffs, rowIQRDiffs, rowIQRs, rowLogSumExps,
    rowMadDiffs, rowMads, rowMaxs, rowMeans2, rowMedians, rowMins,
    rowOrderStats, rowProds, rowQuantiles, rowRanges, rowRanks,
    rowSdDiffs, rowSds, rowSums2, rowTabulates, rowVarDiffs, rowVars,
    rowWeightedMads, rowWeightedMeans, rowWeightedMedians,
    rowWeightedSds, rowWeightedVars

Loading required package: GenomicRanges
Loading required package: stats4
Loading required package: BiocGenerics

Attaching package: 'BiocGenerics'

The following objects are masked from 'package:stats':

    IQR, mad, sd, var, xtabs

The following objects are masked from 'package:base':

    Filter, Find, Map, Position, Reduce, anyDuplicated, append,
    as.data.frame, basename, cbind, colnames, dirname, do.call,
    duplicated, eval, evalq, get, grep, grepl, intersect, is.unsorted,
    lapply, mapply, match, mget, order, paste, pmax, pmax.int, pmin,
    pmin.int, rank, rbind, rownames, sapply, setdiff, sort, table,
    tapply, union, unique, unsplit, which.max, which.min

Loading required package: S4Vectors

Attaching package: 'S4Vectors'

The following objects are masked from 'package:base':

    I, expand.grid, unname

Loading required package: IRanges

Attaching package: 'IRanges'

The following object is masked from 'package:grDevices':

    windows

Loading required package: GenomeInfoDb
Loading required package: Biobase
Welcome to Bioconductor

    Vignettes contain introductory material; view with
    'browseVignettes()'. To cite Bioconductor, see
    'citation("Biobase")', and for packages 'citation("pkgname")'.


Attaching package: 'Biobase'

The following object is masked from 'package:MatrixGenerics':

    rowMedians

The following objects are masked from 'package:matrixStats':

    anyMissing, rowMedians

> 
> test_check("bambu")

  |                                                                            
  |                                                                      |   0%
  |                                                                            
  |======================================================================| 100%


  |                                                                            
  |                                                                      |   0%
  |                                                                            
  |======================================================================| 100%


  |                                                                            
  |                                                                      |   0%
  |                                                                            
  |======================================================================| 100%


  |                                                                            
  |                                                                      |   0%
  |                                                                            
  |======================================================================| 100%


  |                                                                            
  |                                                                      |   0%
  |                                                                            
  |======================================================================| 100%


  |                                                                            
  |                                                                      |   0%
  |                                                                            
  |======================================================================| 100%


  |                                                                            
  |                                                                      |   0%
  |                                                                            
  |======================================================================| 100%


  |                                                                            
  |                                                                      |   0%
  |                                                                            
  |======================================================================| 100%


  |                                                                            
  |                                                                      |   0%
  |                                                                            
  |======================================================================| 100%


  |                                                                            
  |                                                                      |   0%
  |                                                                            
  |======================================================================| 100%


  |                                                                            
  |                                                                      |   0%
  |                                                                            
  |======================================================================| 100%


  |                                                                            
  |                                                                      |   0%
  |                                                                            
  |======================================================================| 100%


  |                                                                            
  |                                                                      |   0%
  |                                                                            
  |======================================================================| 100%


  |                                                                            
  |                                                                      |   0%
  |                                                                            
  |======================================================================| 100%


  |                                                                            
  |                                                                      |   0%
  |                                                                            
  |======================================================================| 100%


  |                                                                            
  |                                                                      |   0%
  |                                                                            
  |======================================================================| 100%


  |                                                                            
  |                                                                      |   0%
  |                                                                            
  |======================================================================| 100%


  |                                                                            
  |                                                                      |   0%
  |                                                                            
  |======================================================================| 100%


  |                                                                            
  |                                                                      |   0%
  |                                                                            
  |======================================================================| 100%


  |                                                                            
  |                                                                      |   0%
  |                                                                            
  |======================================================================| 100%


  |                                                                            
  |                                                                      |   0%
  |                                                                            
  |======================================================================| 100%


  |                                                                            
  |                                                                      |   0%
  |                                                                            
  |======================================================================| 100%


  |                                                                            
  |                                                                      |   0%
  |                                                                            
  |======================================================================| 100%


  |                                                                            
  |                                                                      |   0%
  |                                                                            
  |======================================================================| 100%


  |                                                                            
  |                                                                      |   0%
  |                                                                            
  |======================================================================| 100%


  |                                                                            
  |                                                                      |   0%
  |                                                                            
  |======================================================================| 100%


  |                                                                            
  |                                                                      |   0%
  |                                                                            
  |======================================================================| 100%


  |                                                                            
  |                                                                      |   0%
  |                                                                            
  |======================================================================| 100%

[ FAIL 0 | WARN 17 | SKIP 0 | PASS 99 ]
> 
> proc.time()
   user  system elapsed 
 172.81    9.26  190.95 

bambu.Rcheck/tests_x64/testthat.Rout


R version 4.1.2 (2021-11-01) -- "Bird Hippie"
Copyright (C) 2021 The R Foundation for Statistical Computing
Platform: x86_64-w64-mingw32/x64 (64-bit)

R is free software and comes with ABSOLUTELY NO WARRANTY.
You are welcome to redistribute it under certain conditions.
Type 'license()' or 'licence()' for distribution details.

R is a collaborative project with many contributors.
Type 'contributors()' for more information and
'citation()' on how to cite R or R packages in publications.

Type 'demo()' for some demos, 'help()' for on-line help, or
'help.start()' for an HTML browser interface to help.
Type 'q()' to quit R.

> Sys.setenv("R_TESTS" = "")
> 
> library(testthat)
> library(bambu)
Loading required package: SummarizedExperiment
Loading required package: MatrixGenerics
Loading required package: matrixStats

Attaching package: 'MatrixGenerics'

The following objects are masked from 'package:matrixStats':

    colAlls, colAnyNAs, colAnys, colAvgsPerRowSet, colCollapse,
    colCounts, colCummaxs, colCummins, colCumprods, colCumsums,
    colDiffs, colIQRDiffs, colIQRs, colLogSumExps, colMadDiffs,
    colMads, colMaxs, colMeans2, colMedians, colMins, colOrderStats,
    colProds, colQuantiles, colRanges, colRanks, colSdDiffs, colSds,
    colSums2, colTabulates, colVarDiffs, colVars, colWeightedMads,
    colWeightedMeans, colWeightedMedians, colWeightedSds,
    colWeightedVars, rowAlls, rowAnyNAs, rowAnys, rowAvgsPerColSet,
    rowCollapse, rowCounts, rowCummaxs, rowCummins, rowCumprods,
    rowCumsums, rowDiffs, rowIQRDiffs, rowIQRs, rowLogSumExps,
    rowMadDiffs, rowMads, rowMaxs, rowMeans2, rowMedians, rowMins,
    rowOrderStats, rowProds, rowQuantiles, rowRanges, rowRanks,
    rowSdDiffs, rowSds, rowSums2, rowTabulates, rowVarDiffs, rowVars,
    rowWeightedMads, rowWeightedMeans, rowWeightedMedians,
    rowWeightedSds, rowWeightedVars

Loading required package: GenomicRanges
Loading required package: stats4
Loading required package: BiocGenerics

Attaching package: 'BiocGenerics'

The following objects are masked from 'package:stats':

    IQR, mad, sd, var, xtabs

The following objects are masked from 'package:base':

    Filter, Find, Map, Position, Reduce, anyDuplicated, append,
    as.data.frame, basename, cbind, colnames, dirname, do.call,
    duplicated, eval, evalq, get, grep, grepl, intersect, is.unsorted,
    lapply, mapply, match, mget, order, paste, pmax, pmax.int, pmin,
    pmin.int, rank, rbind, rownames, sapply, setdiff, sort, table,
    tapply, union, unique, unsplit, which.max, which.min

Loading required package: S4Vectors

Attaching package: 'S4Vectors'

The following objects are masked from 'package:base':

    I, expand.grid, unname

Loading required package: IRanges

Attaching package: 'IRanges'

The following object is masked from 'package:grDevices':

    windows

Loading required package: GenomeInfoDb
Loading required package: Biobase
Welcome to Bioconductor

    Vignettes contain introductory material; view with
    'browseVignettes()'. To cite Bioconductor, see
    'citation("Biobase")', and for packages 'citation("pkgname")'.


Attaching package: 'Biobase'

The following object is masked from 'package:MatrixGenerics':

    rowMedians

The following objects are masked from 'package:matrixStats':

    anyMissing, rowMedians

> 
> test_check("bambu")

  |                                                                            
  |                                                                      |   0%
  |                                                                            
  |======================================================================| 100%


  |                                                                            
  |                                                                      |   0%
  |                                                                            
  |======================================================================| 100%


  |                                                                            
  |                                                                      |   0%
  |                                                                            
  |======================================================================| 100%


  |                                                                            
  |                                                                      |   0%
  |                                                                            
  |======================================================================| 100%


  |                                                                            
  |                                                                      |   0%
  |                                                                            
  |======================================================================| 100%


  |                                                                            
  |                                                                      |   0%
  |                                                                            
  |======================================================================| 100%


  |                                                                            
  |                                                                      |   0%
  |                                                                            
  |======================================================================| 100%


  |                                                                            
  |                                                                      |   0%
  |                                                                            
  |======================================================================| 100%


  |                                                                            
  |                                                                      |   0%
  |                                                                            
  |======================================================================| 100%


  |                                                                            
  |                                                                      |   0%
  |                                                                            
  |======================================================================| 100%


  |                                                                            
  |                                                                      |   0%
  |                                                                            
  |======================================================================| 100%


  |                                                                            
  |                                                                      |   0%
  |                                                                            
  |======================================================================| 100%


  |                                                                            
  |                                                                      |   0%
  |                                                                            
  |======================================================================| 100%


  |                                                                            
  |                                                                      |   0%
  |                                                                            
  |======================================================================| 100%


  |                                                                            
  |                                                                      |   0%
  |                                                                            
  |======================================================================| 100%


  |                                                                            
  |                                                                      |   0%
  |                                                                            
  |======================================================================| 100%


  |                                                                            
  |                                                                      |   0%
  |                                                                            
  |======================================================================| 100%


  |                                                                            
  |                                                                      |   0%
  |                                                                            
  |======================================================================| 100%


  |                                                                            
  |                                                                      |   0%
  |                                                                            
  |======================================================================| 100%


  |                                                                            
  |                                                                      |   0%
  |                                                                            
  |======================================================================| 100%


  |                                                                            
  |                                                                      |   0%
  |                                                                            
  |======================================================================| 100%


  |                                                                            
  |                                                                      |   0%
  |                                                                            
  |======================================================================| 100%


  |                                                                            
  |                                                                      |   0%
  |                                                                            
  |======================================================================| 100%


  |                                                                            
  |                                                                      |   0%
  |                                                                            
  |======================================================================| 100%


  |                                                                            
  |                                                                      |   0%
  |                                                                            
  |======================================================================| 100%


  |                                                                            
  |                                                                      |   0%
  |                                                                            
  |======================================================================| 100%


  |                                                                            
  |                                                                      |   0%
  |                                                                            
  |======================================================================| 100%


  |                                                                            
  |                                                                      |   0%
  |                                                                            
  |======================================================================| 100%

[ FAIL 0 | WARN 17 | SKIP 0 | PASS 99 ]
> 
> proc.time()
   user  system elapsed 
 175.45    5.85  181.56 

Example timings

bambu.Rcheck/examples_i386/bambu-Ex.timings

nameusersystemelapsed
bambu12.50 0.6813.71
plotBambu0.030.000.03
prepareAnnotations0.900.000.95
readFromGTF0.190.020.21
transcriptToGeneExpression0.360.000.36
writeBambuOutput0.450.000.45
writeToGTF0.140.010.15

bambu.Rcheck/examples_x64/bambu-Ex.timings

nameusersystemelapsed
bambu17.69 0.1617.86
plotBambu0.050.000.05
prepareAnnotations0.940.000.93
readFromGTF0.200.000.21
transcriptToGeneExpression0.210.000.20
writeBambuOutput0.370.020.50
writeToGTF0.270.000.27