Back to Multiple platform build/check report for BioC 3.14
A[B]CDEFGHIJKLMNOPQRSTUVWXYZ

This page was generated on 2021-10-23 14:06:19 -0400 (Sat, 23 Oct 2021).

BUILD results for bambu on riesling1

To the developers/maintainers of the bambu package:
- Please allow up to 24 hours (and sometimes 48 hours) for your latest push to git@git.bioconductor.org:packages/bambu.git to
reflect on this report. See How and When does the builder pull? When will my changes propagate? here for more information.
- Make sure to use the following settings in order to reproduce any error or warning you see on this page.

raw results

Package 110/2083HostnameOS / ArchINSTALLBUILDCHECKBUILD BIN
bambu 1.99.2  (landing page)
Ying Chen
Snapshot Date: 2021-10-22 14:50:11 -0400 (Fri, 22 Oct 2021)
git_url: https://git.bioconductor.org/packages/bambu
git_branch: master
git_last_commit: c66aff9
git_last_commit_date: 2021-10-21 12:27:33 -0400 (Thu, 21 Oct 2021)
nebbiolo2Linux (Ubuntu 20.04.2 LTS) / x86_64  OK    OK    OK  UNNEEDED, same version is already published
riesling1Windows Server 2019 Standard / x64  OK    OK    OK    OK  UNNEEDED, same version is already published
merida1macOS 10.14.6 Mojave / x86_64  OK    OK    OK    OK  UNNEEDED, same version is already published

Summary

Package: bambu
Version: 1.99.2
Command: chmod a+r bambu -R && D:\biocbuild\bbs-3.14-bioc\R\bin\R.exe CMD build --keep-empty-dirs --no-resave-data bambu
StartedAt: 2021-10-22 19:32:41 -0400 (Fri, 22 Oct 2021)
EndedAt: 2021-10-22 19:37:30 -0400 (Fri, 22 Oct 2021)
EllapsedTime: 289.5 seconds
RetCode: 0
Status:   OK  
PackageFile: bambu_1.99.2.tar.gz
PackageFileSize: 2.795 MiB

Command output

##############################################################################
##############################################################################
###
### Running command:
###
###   chmod a+r bambu -R && D:\biocbuild\bbs-3.14-bioc\R\bin\R.exe CMD build --keep-empty-dirs --no-resave-data bambu
###
##############################################################################
##############################################################################


* checking for file 'bambu/DESCRIPTION' ... OK
* preparing 'bambu':
* checking DESCRIPTION meta-information ... OK
* cleaning src
* installing the package to build vignettes
* creating vignettes ... OK
* cleaning src
* checking for LF line-endings in source and make files and shell scripts
* checking for empty or unneeded directories
* looking to see if a 'data/datalist' file should be added
* building 'bambu_1.99.2.tar.gz'