Index of /checkResults/3.14/bioc-LATEST/bambu/raw-results/tokay2

[ICO]NameLast modifiedSizeDescription

[DIR]Parent Directory  -  
[TXT]buildbin-out.txt15-Jan-2022 03:06 3.8K 
[   ]buildbin-summary.dcf15-Jan-2022 03:06 525  
[TXT]buildsrc-out.txt15-Jan-2022 03:06 926  
[   ]buildsrc-summary.dcf15-Jan-2022 03:06 449  
[TXT]checksrc-out.txt15-Jan-2022 03:06 5.5K 
[   ]checksrc-summary.dcf15-Jan-2022 03:06 453  
[TXT]install-out.txt15-Jan-2022 03:06 4.5K 
[   ]install-summary.dcf15-Jan-2022 03:06 617