Index of /checkResults/3.14/bioc-LATEST/bambu/raw-results/nebbiolo2

[ICO]NameLast modifiedSizeDescription

[DIR]Parent Directory  -  
[TXT]buildsrc-out.txt15-Jan-2022 03:04 890  
[   ]buildsrc-summary.dcf15-Jan-2022 03:04 410  
[TXT]checksrc-out.txt15-Jan-2022 03:04 3.9K 
[   ]checksrc-summary.dcf15-Jan-2022 03:04 414  
[TXT]install-out.txt15-Jan-2022 03:04 1.9K 
[   ]install-summary.dcf15-Jan-2022 03:04 254