![]() | Name | Last modified | Size | Description |
---|---|---|---|---|
![]() | Parent Directory | - | ||
![]() | install-summary.dcf | 14-Apr-2022 01:07 | 264 | |
![]() | install-out.txt | 14-Apr-2022 01:07 | 2.4K | |
![]() | checksrc-summary.dcf | 14-Apr-2022 01:07 | 434 | |
![]() | checksrc-out.txt | 14-Apr-2022 01:07 | 3.8K | |
![]() | buildsrc-summary.dcf | 14-Apr-2022 01:07 | 420 | |
![]() | buildsrc-out.txt | 14-Apr-2022 01:07 | 900 | |
![]() | buildbin-summary.dcf | 14-Apr-2022 01:07 | 516 | |
![]() | buildbin-out.txt | 14-Apr-2022 01:07 | 3.6K | |