Back to Multiple platform build/check report for BioC 3.14
A[B]CDEFGHIJKLMNOPQRSTUVWXYZ

This page was generated on 2021-10-23 14:06:52 -0400 (Sat, 23 Oct 2021).

BUILD results for ballgown on merida1

To the developers/maintainers of the ballgown package:
- Please allow up to 24 hours (and sometimes 48 hours) for your latest push to git@git.bioconductor.org:packages/ballgown.git to
reflect on this report. See How and When does the builder pull? When will my changes propagate? here for more information.
- Make sure to use the following settings in order to reproduce any error or warning you see on this page.

raw results

Package 109/2083HostnameOS / ArchINSTALLBUILDCHECKBUILD BIN
ballgown 2.25.1  (landing page)
Jack Fu
Snapshot Date: 2021-10-22 14:50:11 -0400 (Fri, 22 Oct 2021)
git_url: https://git.bioconductor.org/packages/ballgown
git_branch: master
git_last_commit: 0d2092f
git_last_commit_date: 2021-08-29 21:19:12 -0400 (Sun, 29 Aug 2021)
nebbiolo2Linux (Ubuntu 20.04.2 LTS) / x86_64  OK    OK    OK  UNNEEDED, same version is already published
riesling1Windows Server 2019 Standard / x64  OK    OK    OK    OK  UNNEEDED, same version is already published
merida1macOS 10.14.6 Mojave / x86_64  OK    OK    OK    OK  UNNEEDED, same version is already published

Summary

Package: ballgown
Version: 2.25.1
Command: /Library/Frameworks/R.framework/Resources/bin/R CMD build --keep-empty-dirs --no-resave-data ballgown
StartedAt: 2021-10-22 18:34:27 -0400 (Fri, 22 Oct 2021)
EndedAt: 2021-10-22 18:35:45 -0400 (Fri, 22 Oct 2021)
EllapsedTime: 77.5 seconds
RetCode: 0
Status:   OK  
PackageFile: ballgown_2.25.1.tar.gz
PackageFileSize: 3.034 MiB

Command output

##############################################################################
##############################################################################
###
### Running command:
###
###   /Library/Frameworks/R.framework/Resources/bin/R CMD build --keep-empty-dirs --no-resave-data ballgown
###
##############################################################################
##############################################################################


* checking for file ‘ballgown/DESCRIPTION’ ... OK
* preparing ‘ballgown’:
* checking DESCRIPTION meta-information ... OK
* installing the package to build vignettes
* creating vignettes ... OK
* checking for LF line-endings in source and make files and shell scripts
* checking for empty or unneeded directories
* looking to see if a ‘data/datalist’ file should be added
* building ‘ballgown_2.25.1.tar.gz’