Back to Multiple platform build/check report for BioC 3.14
A[B]CDEFGHIJKLMNOPQRSTUVWXYZ

This page was generated on 2021-10-18 12:03:58 -0400 (Mon, 18 Oct 2021).

BUILD BIN results for bacon on riesling1

To the developers/maintainers of the bacon package:
- Please allow up to 24 hours (and sometimes 48 hours) for your latest push to git@git.bioconductor.org:packages/bacon.git to
reflect on this report. See How and When does the builder pull? When will my changes propagate? here for more information.
- Make sure to use the following settings in order to reproduce any error or warning you see on this page.

raw results

Package 105/2060HostnameOS / ArchINSTALLBUILDCHECKBUILD BIN
bacon 1.21.0  (landing page)
Maarten van Iterson
Snapshot Date: 2021-10-17 14:50:03 -0400 (Sun, 17 Oct 2021)
git_url: https://git.bioconductor.org/packages/bacon
git_branch: master
git_last_commit: e9ce7f8
git_last_commit_date: 2021-05-19 12:18:45 -0400 (Wed, 19 May 2021)
nebbiolo2Linux (Ubuntu 20.04.2 LTS) / x86_64  OK    OK    OK  UNNEEDED, same version is already published
riesling1Windows Server 2019 Standard / x64  OK    OK    OK    OK  UNNEEDED, same version is already published
merida1macOS 10.14.6 Mojave / x86_64  OK    OK    OK    OK  UNNEEDED, same version is already published

Summary

Package: bacon
Version: 1.21.0
Command: rm -rf bacon.buildbin-libdir && mkdir bacon.buildbin-libdir && D:\biocbuild\bbs-3.14-bioc\R\bin\R.exe CMD INSTALL --merge-multiarch --build --library=bacon.buildbin-libdir bacon_1.21.0.tar.gz
StartedAt: 2021-10-18 04:17:36 -0400 (Mon, 18 Oct 2021)
EndedAt: 2021-10-18 04:21:50 -0400 (Mon, 18 Oct 2021)
EllapsedTime: 253.4 seconds
RetCode: 0
Status:   OK  
PackageFile: bacon_1.21.0.zip
PackageFileSize: 765.2 KiB

Command output

##############################################################################
##############################################################################
###
### Running command:
###
###   rm -rf bacon.buildbin-libdir && mkdir bacon.buildbin-libdir && D:\biocbuild\bbs-3.14-bioc\R\bin\R.exe CMD INSTALL --merge-multiarch --build --library=bacon.buildbin-libdir bacon_1.21.0.tar.gz
###
##############################################################################
##############################################################################



install for i386

* installing *source* package 'bacon' ...
** using staged installation
** libs
"C:/rtools40/mingw32/bin/"gcc  -I"D:/biocbuild/bbs-3.14-bioc/R/include" -DNDEBUG     -I"C:/extsoft/include"     -O2 -Wall  -std=gnu99 -mfpmath=sse -msse2 -mstackrealign  -c Rinit.c -o Rinit.o
Rinit.c:9:40: warning: missing braces around initializer [-Wmissing-braces]
 static const R_CMethodDef cMethods[] = {
                                        ^
"C:/rtools40/mingw32/bin/"gcc  -I"D:/biocbuild/bbs-3.14-bioc/R/include" -DNDEBUG     -I"C:/extsoft/include"     -O2 -Wall  -std=gnu99 -mfpmath=sse -msse2 -mstackrealign  -c bacon.c -o bacon.o
C:/rtools40/mingw32/bin/gcc -shared -s -static-libgcc -o bacon.dll tmp.def Rinit.o bacon.o -LC:/extsoft/lib/i386 -LC:/extsoft/lib -LD:/biocbuild/bbs-3.14-bioc/R/bin/i386 -lR
installing to D:/biocbuild/bbs-3.14-bioc/meat/bacon.buildbin-libdir/00LOCK-bacon/00new/bacon/libs/i386
** R
** inst
** byte-compile and prepare package for lazy loading
** help
*** installing help indices
  converting help for package 'bacon'
    finding HTML links ... done
    Bacon-class                             html  
    bacon                                   html  
    bias-methods                            html  
    dnormmix                                html  
    es-methods                              html  
    estimates-methods                       html  
    fit-methods                             html  
    inflation-methods                       html  
    meta-methods                            html  
    plot-Bacon-method                       html  
    plotnormmix                             html  
    posteriors-methods                      html  
    pval-methods                            html  
    rnormmix                                html  
    se-methods                              html  
    topTable-methods                        html  
    traces-methods                          html  
    tstat-methods                           html  
** building package indices
** installing vignettes
** testing if installed package can be loaded from temporary location
** testing if installed package can be loaded from final location
** testing if installed package keeps a record of temporary installation path

install for x64

* installing *source* package 'bacon' ...
** libs
"C:/rtools40/mingw64/bin/"gcc  -I"D:/biocbuild/bbs-3.14-bioc/R/include" -DNDEBUG     -I"C:/extsoft/include"     -O2 -Wall  -std=gnu99 -mfpmath=sse -msse2 -mstackrealign  -c Rinit.c -o Rinit.o
Rinit.c:9:40: warning: missing braces around initializer [-Wmissing-braces]
 static const R_CMethodDef cMethods[] = {
                                        ^
"C:/rtools40/mingw64/bin/"gcc  -I"D:/biocbuild/bbs-3.14-bioc/R/include" -DNDEBUG     -I"C:/extsoft/include"     -O2 -Wall  -std=gnu99 -mfpmath=sse -msse2 -mstackrealign  -c bacon.c -o bacon.o
C:/rtools40/mingw64/bin/gcc -shared -s -static-libgcc -o bacon.dll tmp.def Rinit.o bacon.o -LC:/extsoft/lib/x64 -LC:/extsoft/lib -LD:/biocbuild/bbs-3.14-bioc/R/bin/x64 -lR
installing to D:/biocbuild/bbs-3.14-bioc/meat/bacon.buildbin-libdir/bacon/libs/x64
** testing if installed package can be loaded
* MD5 sums
packaged installation of 'bacon' as bacon_1.21.0.zip
* DONE (bacon)