Index of /checkResults/3.14/bioc-LATEST/bacon/raw-results/nebbiolo2

[ICO]NameLast modifiedSizeDescription

[DIR]Parent Directory  -  
[TXT]buildsrc-out.txt22-Jan-2022 03:04 828  
[   ]buildsrc-summary.dcf22-Jan-2022 03:04 411  
[TXT]checksrc-out.txt22-Jan-2022 03:04 3.4K 
[   ]checksrc-summary.dcf22-Jan-2022 03:04 415  
[TXT]install-out.txt22-Jan-2022 03:04 1.6K 
[   ]install-summary.dcf22-Jan-2022 03:04 254