Back to Multiple platform build/check report for BioC 3.14
A[B]CDEFGHIJKLMNOPQRSTUVWXYZ

This page was generated on 2021-12-03 13:05:39 -0500 (Fri, 03 Dec 2021).

BUILD BIN results for bacon on machv2

To the developers/maintainers of the bacon package:
- Please allow up to 24 hours (and sometimes 48 hours) for your latest push to git@git.bioconductor.org:packages/bacon.git to
reflect on this report. See How and When does the builder pull? When will my changes propagate? here for more information.
- Make sure to use the following settings in order to reproduce any error or warning you see on this page.

raw results

Package 105/2083HostnameOS / ArchINSTALLBUILDCHECKBUILD BIN
bacon 1.22.0  (landing page)
Maarten van Iterson
Snapshot Date: 2021-12-02 01:55:06 -0500 (Thu, 02 Dec 2021)
git_url: https://git.bioconductor.org/packages/bacon
git_branch: RELEASE_3_14
git_last_commit: 09c84ea
git_last_commit_date: 2021-10-26 12:26:13 -0500 (Tue, 26 Oct 2021)
nebbiolo2Linux (Ubuntu 20.04.3 LTS) / x86_64  OK    OK    OK  UNNEEDED, same version is already published
tokay2Windows Server 2012 R2 Standard / x64  OK    OK    OK    OK  UNNEEDED, same version is already published
machv2macOS 10.14.6 Mojave / x86_64  OK    OK    OK    OK  UNNEEDED, same version is already published

Summary

Package: bacon
Version: 1.22.0
Command: rm -rf bacon.buildbin-libdir && mkdir bacon.buildbin-libdir && /Users/biocbuild/BBS/utils/build-universal.sh bacon_1.22.0.tar.gz /Library/Frameworks/R.framework/Resources/bin/R bacon.buildbin-libdir
StartedAt: 2021-12-02 21:13:22 -0500 (Thu, 02 Dec 2021)
EndedAt: 2021-12-02 21:14:31 -0500 (Thu, 02 Dec 2021)
EllapsedTime: 69.7 seconds
RetCode: 0
Status:   OK  
PackageFile: bacon_1.22.0.tgz
PackageFileSize: 1.913 MiB

Command output

##############################################################################
##############################################################################
###
### Running command:
###
###   rm -rf bacon.buildbin-libdir && mkdir bacon.buildbin-libdir && /Users/biocbuild/BBS/utils/build-universal.sh bacon_1.22.0.tar.gz /Library/Frameworks/R.framework/Resources/bin/R bacon.buildbin-libdir
###
##############################################################################
##############################################################################


>>>>>>> 
>>>>>>> INSTALLATION WITH 'R CMD INSTALL --preclean --no-multiarch --library=bacon.buildbin-libdir bacon_1.22.0.tar.gz'
>>>>>>> 

* installing *source* package ‘bacon’ ...
** using staged installation
** libs
clang -mmacosx-version-min=10.13 -I"/Library/Frameworks/R.framework/Resources/include" -DNDEBUG   -I/usr/local/include   -fPIC  -Wall -g -O2  -c Rinit.c -o Rinit.o
Rinit.c:11:3: warning: suggest braces around initialization of subobject [-Wmissing-braces]
  NULL
  ^~~~
  {   }
/Library/Developer/CommandLineTools/usr/lib/clang/10.0.1/include/stddef.h:105:16: note: expanded from macro 'NULL'
#  define NULL ((void*)0)
               ^~~~~~~~~~
1 warning generated.
clang -mmacosx-version-min=10.13 -I"/Library/Frameworks/R.framework/Resources/include" -DNDEBUG   -I/usr/local/include   -fPIC  -Wall -g -O2  -c bacon.c -o bacon.o
clang -mmacosx-version-min=10.13 -dynamiclib -Wl,-headerpad_max_install_names -undefined dynamic_lookup -single_module -multiply_defined suppress -L/Library/Frameworks/R.framework/Resources/lib -L/usr/local/lib -o bacon.so Rinit.o bacon.o -F/Library/Frameworks/R.framework/.. -framework R -Wl,-framework -Wl,CoreFoundation
installing to /Users/biocbuild/bbs-3.14-bioc/meat/bacon.buildbin-libdir/00LOCK-bacon/00new/bacon/libs
** R
** inst
** byte-compile and prepare package for lazy loading
** help
*** installing help indices
** building package indices
** installing vignettes
** testing if installed package can be loaded from temporary location
** checking absolute paths in shared objects and dynamic libraries
** testing if installed package can be loaded from final location
** testing if installed package keeps a record of temporary installation path
* DONE (bacon)


>>>>>>> 
>>>>>>> FIXING LINKS FOR bacon.buildbin-libdir/bacon/libs/bacon.so
>>>>>>> 

install_name_tool -change "/usr/local/lib/libgcc_s.1.dylib" "/Library/Frameworks/R.framework/Versions/4.1/Resources/lib/libgcc_s.1.dylib" "bacon.buildbin-libdir/bacon/libs/bacon.so"
install_name_tool -change "/usr/local/lib/libgfortran.5.dylib" "/Library/Frameworks/R.framework/Versions/4.1/Resources/lib/libgfortran.5.dylib" "bacon.buildbin-libdir/bacon/libs/bacon.so"
install_name_tool -change "/usr/local/lib/libquadmath.0.dylib" "/Library/Frameworks/R.framework/Versions/4.1/Resources/lib/libquadmath.0.dylib" "bacon.buildbin-libdir/bacon/libs/bacon.so"