Back to Multiple platform build/check report for BioC 3.14
[A]BCDEFGHIJKLMNOPQRSTUVWXYZ

This page was generated on 2021-10-25 14:06:49 -0400 (Mon, 25 Oct 2021).

BUILD results for autonomics on merida1

To the developers/maintainers of the autonomics package:
- Please allow up to 24 hours (and sometimes 48 hours) for your latest push to git@git.bioconductor.org:packages/autonomics.git to
reflect on this report. See How and When does the builder pull? When will my changes propagate? here for more information.
- Make sure to use the following settings in order to reproduce any error or warning you see on this page.

raw results

Package 99/2083HostnameOS / ArchINSTALLBUILDCHECKBUILD BIN
autonomics 1.1.7  (landing page)
Aditya Bhagwat
Snapshot Date: 2021-10-24 14:50:04 -0400 (Sun, 24 Oct 2021)
git_url: https://git.bioconductor.org/packages/autonomics
git_branch: master
git_last_commit: 3bb339e
git_last_commit_date: 2021-06-04 06:39:40 -0400 (Fri, 04 Jun 2021)
nebbiolo2Linux (Ubuntu 20.04.2 LTS) / x86_64  OK    OK    WARNINGS  UNNEEDED, same version is already published
riesling1Windows Server 2019 Standard / x64  OK    OK    WARNINGS    OK  UNNEEDED, same version is already published
merida1macOS 10.14.6 Mojave / x86_64  OK    OK    WARNINGS    OK  UNNEEDED, same version is already published
machv2macOS 10.14.6 Mojave / x86_64  OK    OK    WARNINGS    OK  

Summary

Package: autonomics
Version: 1.1.7
Command: /Library/Frameworks/R.framework/Resources/bin/R CMD build --keep-empty-dirs --no-resave-data autonomics
StartedAt: 2021-10-24 18:32:29 -0400 (Sun, 24 Oct 2021)
EndedAt: 2021-10-24 18:36:55 -0400 (Sun, 24 Oct 2021)
EllapsedTime: 265.9 seconds
RetCode: 0
Status:   OK  
PackageFile: autonomics_1.1.7.tar.gz
PackageFileSize: 86.76 MiB

Command output

##############################################################################
##############################################################################
###
### Running command:
###
###   /Library/Frameworks/R.framework/Resources/bin/R CMD build --keep-empty-dirs --no-resave-data autonomics
###
##############################################################################
##############################################################################


* checking for file ‘autonomics/DESCRIPTION’ ... OK
* preparing ‘autonomics’:
* checking DESCRIPTION meta-information ... OK
* installing the package to build vignettes
* creating vignettes ... OK
* checking for LF line-endings in source and make files and shell scripts
* checking for empty or unneeded directories
Omitted ‘LazyData’ from DESCRIPTION
* building ‘autonomics_1.1.7.tar.gz’
Warning in utils::tar(filepath, pkgname, compression = compression, compression_level = 9L,  :
  storing paths of more than 100 bytes is not portable:
  ‘autonomics/vignettes/using_autonomics_cache/html/unnamed-chunk-10_bd5b3247880f03badb765e52dc334321.RData’
Warning in utils::tar(filepath, pkgname, compression = compression, compression_level = 9L,  :
  storing paths of more than 100 bytes is not portable:
  ‘autonomics/vignettes/using_autonomics_cache/html/unnamed-chunk-10_bd5b3247880f03badb765e52dc334321.rdb’
Warning in utils::tar(filepath, pkgname, compression = compression, compression_level = 9L,  :
  storing paths of more than 100 bytes is not portable:
  ‘autonomics/vignettes/using_autonomics_cache/html/unnamed-chunk-10_bd5b3247880f03badb765e52dc334321.rdx’
Warning in utils::tar(filepath, pkgname, compression = compression, compression_level = 9L,  :
  storing paths of more than 100 bytes is not portable:
  ‘autonomics/vignettes/using_autonomics_cache/html/unnamed-chunk-11_cbcd37444dd4e166d309c8dd9b2a17b3.RData’
Warning in utils::tar(filepath, pkgname, compression = compression, compression_level = 9L,  :
  storing paths of more than 100 bytes is not portable:
  ‘autonomics/vignettes/using_autonomics_cache/html/unnamed-chunk-11_cbcd37444dd4e166d309c8dd9b2a17b3.rdb’
Warning in utils::tar(filepath, pkgname, compression = compression, compression_level = 9L,  :
  storing paths of more than 100 bytes is not portable:
  ‘autonomics/vignettes/using_autonomics_cache/html/unnamed-chunk-11_cbcd37444dd4e166d309c8dd9b2a17b3.rdx’
Warning in utils::tar(filepath, pkgname, compression = compression, compression_level = 9L,  :
  storing paths of more than 100 bytes is not portable:
  ‘autonomics/vignettes/using_autonomics_cache/html/unnamed-chunk-12_3cbe32e2f729f98a31e2fc2546f91b4e.RData’
Warning in utils::tar(filepath, pkgname, compression = compression, compression_level = 9L,  :
  storing paths of more than 100 bytes is not portable:
  ‘autonomics/vignettes/using_autonomics_cache/html/unnamed-chunk-12_3cbe32e2f729f98a31e2fc2546f91b4e.rdb’
Warning in utils::tar(filepath, pkgname, compression = compression, compression_level = 9L,  :
  storing paths of more than 100 bytes is not portable:
  ‘autonomics/vignettes/using_autonomics_cache/html/unnamed-chunk-12_3cbe32e2f729f98a31e2fc2546f91b4e.rdx’
Warning in utils::tar(filepath, pkgname, compression = compression, compression_level = 9L,  :
  storing paths of more than 100 bytes is not portable:
  ‘autonomics/vignettes/using_autonomics_cache/html/unnamed-chunk-2_c1398e70c16e420994be4c2becb1f88f.RData’
Warning in utils::tar(filepath, pkgname, compression = compression, compression_level = 9L,  :
  storing paths of more than 100 bytes is not portable:
  ‘autonomics/vignettes/using_autonomics_cache/html/unnamed-chunk-2_c1398e70c16e420994be4c2becb1f88f.rdb’
Warning in utils::tar(filepath, pkgname, compression = compression, compression_level = 9L,  :
  storing paths of more than 100 bytes is not portable:
  ‘autonomics/vignettes/using_autonomics_cache/html/unnamed-chunk-2_c1398e70c16e420994be4c2becb1f88f.rdx’
Warning in utils::tar(filepath, pkgname, compression = compression, compression_level = 9L,  :
  storing paths of more than 100 bytes is not portable:
  ‘autonomics/vignettes/using_autonomics_cache/html/unnamed-chunk-3_49ea3ad60ee7b4708436f747dea99abd.RData’
Warning in utils::tar(filepath, pkgname, compression = compression, compression_level = 9L,  :
  storing paths of more than 100 bytes is not portable:
  ‘autonomics/vignettes/using_autonomics_cache/html/unnamed-chunk-3_49ea3ad60ee7b4708436f747dea99abd.rdb’
Warning in utils::tar(filepath, pkgname, compression = compression, compression_level = 9L,  :
  storing paths of more than 100 bytes is not portable:
  ‘autonomics/vignettes/using_autonomics_cache/html/unnamed-chunk-3_49ea3ad60ee7b4708436f747dea99abd.rdx’
Warning in utils::tar(filepath, pkgname, compression = compression, compression_level = 9L,  :
  storing paths of more than 100 bytes is not portable:
  ‘autonomics/vignettes/using_autonomics_cache/html/unnamed-chunk-4_1e57a3c7d6ad23671dea58d3f451bc33.RData’
Warning in utils::tar(filepath, pkgname, compression = compression, compression_level = 9L,  :
  storing paths of more than 100 bytes is not portable:
  ‘autonomics/vignettes/using_autonomics_cache/html/unnamed-chunk-4_1e57a3c7d6ad23671dea58d3f451bc33.rdb’
Warning in utils::tar(filepath, pkgname, compression = compression, compression_level = 9L,  :
  storing paths of more than 100 bytes is not portable:
  ‘autonomics/vignettes/using_autonomics_cache/html/unnamed-chunk-4_1e57a3c7d6ad23671dea58d3f451bc33.rdx’
Warning in utils::tar(filepath, pkgname, compression = compression, compression_level = 9L,  :
  storing paths of more than 100 bytes is not portable:
  ‘autonomics/vignettes/using_autonomics_cache/html/unnamed-chunk-5_0a5f929d7eaf265379bb139cb9f28a4b.RData’
Warning in utils::tar(filepath, pkgname, compression = compression, compression_level = 9L,  :
  storing paths of more than 100 bytes is not portable:
  ‘autonomics/vignettes/using_autonomics_cache/html/unnamed-chunk-5_0a5f929d7eaf265379bb139cb9f28a4b.rdb’
Warning in utils::tar(filepath, pkgname, compression = compression, compression_level = 9L,  :
  storing paths of more than 100 bytes is not portable:
  ‘autonomics/vignettes/using_autonomics_cache/html/unnamed-chunk-5_0a5f929d7eaf265379bb139cb9f28a4b.rdx’
Warning in utils::tar(filepath, pkgname, compression = compression, compression_level = 9L,  :
  storing paths of more than 100 bytes is not portable:
  ‘autonomics/vignettes/using_autonomics_cache/html/unnamed-chunk-6_16a9b0bc755599704d8a71402ddb4e68.RData’
Warning in utils::tar(filepath, pkgname, compression = compression, compression_level = 9L,  :
  storing paths of more than 100 bytes is not portable:
  ‘autonomics/vignettes/using_autonomics_cache/html/unnamed-chunk-6_16a9b0bc755599704d8a71402ddb4e68.rdb’
Warning in utils::tar(filepath, pkgname, compression = compression, compression_level = 9L,  :
  storing paths of more than 100 bytes is not portable:
  ‘autonomics/vignettes/using_autonomics_cache/html/unnamed-chunk-6_16a9b0bc755599704d8a71402ddb4e68.rdx’
Warning in utils::tar(filepath, pkgname, compression = compression, compression_level = 9L,  :
  storing paths of more than 100 bytes is not portable:
  ‘autonomics/vignettes/using_autonomics_cache/html/unnamed-chunk-7_3060078c860c53b2c64675f84ba96f3a.RData’
Warning in utils::tar(filepath, pkgname, compression = compression, compression_level = 9L,  :
  storing paths of more than 100 bytes is not portable:
  ‘autonomics/vignettes/using_autonomics_cache/html/unnamed-chunk-7_3060078c860c53b2c64675f84ba96f3a.rdb’
Warning in utils::tar(filepath, pkgname, compression = compression, compression_level = 9L,  :
  storing paths of more than 100 bytes is not portable:
  ‘autonomics/vignettes/using_autonomics_cache/html/unnamed-chunk-7_3060078c860c53b2c64675f84ba96f3a.rdx’
Warning in utils::tar(filepath, pkgname, compression = compression, compression_level = 9L,  :
  storing paths of more than 100 bytes is not portable:
  ‘autonomics/vignettes/using_autonomics_cache/html/unnamed-chunk-8_e54c7df3acbcbff4e72a17d7876a5d60.RData’
Warning in utils::tar(filepath, pkgname, compression = compression, compression_level = 9L,  :
  storing paths of more than 100 bytes is not portable:
  ‘autonomics/vignettes/using_autonomics_cache/html/unnamed-chunk-8_e54c7df3acbcbff4e72a17d7876a5d60.rdb’
Warning in utils::tar(filepath, pkgname, compression = compression, compression_level = 9L,  :
  storing paths of more than 100 bytes is not portable:
  ‘autonomics/vignettes/using_autonomics_cache/html/unnamed-chunk-8_e54c7df3acbcbff4e72a17d7876a5d60.rdx’
Warning in utils::tar(filepath, pkgname, compression = compression, compression_level = 9L,  :
  storing paths of more than 100 bytes is not portable:
  ‘autonomics/vignettes/using_autonomics_cache/html/unnamed-chunk-9_f67e33da3c2a2f7f37459b25f1ad5d4f.RData’
Warning in utils::tar(filepath, pkgname, compression = compression, compression_level = 9L,  :
  storing paths of more than 100 bytes is not portable:
  ‘autonomics/vignettes/using_autonomics_cache/html/unnamed-chunk-9_f67e33da3c2a2f7f37459b25f1ad5d4f.rdb’
Warning in utils::tar(filepath, pkgname, compression = compression, compression_level = 9L,  :
  storing paths of more than 100 bytes is not portable:
  ‘autonomics/vignettes/using_autonomics_cache/html/unnamed-chunk-9_f67e33da3c2a2f7f37459b25f1ad5d4f.rdx’