Back to Multiple platform build/check report for BioC 3.14
[A]BCDEFGHIJKLMNOPQRSTUVWXYZ

This page was generated on 2021-10-23 14:06:18 -0400 (Sat, 23 Oct 2021).

INSTALL results for atSNP on riesling1

To the developers/maintainers of the atSNP package:
- Please allow up to 24 hours (and sometimes 48 hours) for your latest push to git@git.bioconductor.org:packages/atSNP.git to
reflect on this report. See How and When does the builder pull? When will my changes propagate? here for more information.
- Make sure to use the following settings in order to reproduce any error or warning you see on this page.

raw results

Package 96/2083HostnameOS / ArchINSTALLBUILDCHECKBUILD BIN
atSNP 1.9.0  (landing page)
Sunyoung Shin
Snapshot Date: 2021-10-22 14:50:11 -0400 (Fri, 22 Oct 2021)
git_url: https://git.bioconductor.org/packages/atSNP
git_branch: master
git_last_commit: c6fdb0a
git_last_commit_date: 2021-05-19 12:41:05 -0400 (Wed, 19 May 2021)
nebbiolo2Linux (Ubuntu 20.04.2 LTS) / x86_64  OK    OK    OK  UNNEEDED, same version is already published
riesling1Windows Server 2019 Standard / x64  OK    OK    OK    OK  UNNEEDED, same version is already published
merida1macOS 10.14.6 Mojave / x86_64  OK    OK    OK    OK  UNNEEDED, same version is already published

Summary

Package: atSNP
Version: 1.9.0
Command: C:\cygwin\bin\curl.exe -O http://155.52.207.166/BBS/3.14/bioc/src/contrib/atSNP_1.9.0.tar.gz && rm -rf atSNP.buildbin-libdir && mkdir atSNP.buildbin-libdir && D:\biocbuild\bbs-3.14-bioc\R\bin\R.exe CMD INSTALL --merge-multiarch --build --library=atSNP.buildbin-libdir atSNP_1.9.0.tar.gz && D:\biocbuild\bbs-3.14-bioc\R\bin\R.exe CMD INSTALL atSNP_1.9.0.zip && rm atSNP_1.9.0.tar.gz atSNP_1.9.0.zip
StartedAt: 2021-10-22 18:45:08 -0400 (Fri, 22 Oct 2021)
EndedAt: 2021-10-22 18:47:53 -0400 (Fri, 22 Oct 2021)
EllapsedTime: 164.7 seconds
RetCode: 0
Status:   OK  

Command output

##############################################################################
##############################################################################
###
### Running command:
###
###   C:\cygwin\bin\curl.exe -O http://155.52.207.166/BBS/3.14/bioc/src/contrib/atSNP_1.9.0.tar.gz && rm -rf atSNP.buildbin-libdir && mkdir atSNP.buildbin-libdir && D:\biocbuild\bbs-3.14-bioc\R\bin\R.exe CMD INSTALL --merge-multiarch --build --library=atSNP.buildbin-libdir atSNP_1.9.0.tar.gz && D:\biocbuild\bbs-3.14-bioc\R\bin\R.exe CMD INSTALL atSNP_1.9.0.zip && rm atSNP_1.9.0.tar.gz atSNP_1.9.0.zip
###
##############################################################################
##############################################################################


  % Total    % Received % Xferd  Average Speed   Time    Time     Time  Current
                                 Dload  Upload   Total   Spent    Left  Speed

  0     0    0     0    0     0      0      0 --:--:-- --:--:-- --:--:--     0
100  514k  100  514k    0     0  1941k      0 --:--:-- --:--:-- --:--:-- 1941k

install for i386

* installing *source* package 'atSNP' ...
** using staged installation
** libs
"C:/rtools40/mingw32/bin/"g++ -std=gnu++11  -I"D:/biocbuild/bbs-3.14-bioc/R/include" -DNDEBUG  -I'D:/biocbuild/bbs-3.14-bioc/R/library/Rcpp/include'   -I"C:/extsoft/include"     -O2 -Wall  -mfpmath=sse -msse2 -mstackrealign  -c ImportanceSample.cpp -o ImportanceSample.o
"C:/rtools40/mingw32/bin/"g++ -std=gnu++11  -I"D:/biocbuild/bbs-3.14-bioc/R/include" -DNDEBUG  -I'D:/biocbuild/bbs-3.14-bioc/R/library/Rcpp/include'   -I"C:/extsoft/include"     -O2 -Wall  -mfpmath=sse -msse2 -mstackrealign  -c ImportanceSampleChange.cpp -o ImportanceSampleChange.o
"C:/rtools40/mingw32/bin/"g++ -std=gnu++11  -I"D:/biocbuild/bbs-3.14-bioc/R/include" -DNDEBUG  -I'D:/biocbuild/bbs-3.14-bioc/R/library/Rcpp/include'   -I"C:/extsoft/include"     -O2 -Wall  -mfpmath=sse -msse2 -mstackrealign  -c ImportanceSampleDiff.cpp -o ImportanceSampleDiff.o
"C:/rtools40/mingw32/bin/"g++ -std=gnu++11  -I"D:/biocbuild/bbs-3.14-bioc/R/include" -DNDEBUG  -I'D:/biocbuild/bbs-3.14-bioc/R/library/Rcpp/include'   -I"C:/extsoft/include"     -O2 -Wall  -mfpmath=sse -msse2 -mstackrealign  -c MotifScore.cpp -o MotifScore.o
C:/rtools40/mingw32/bin/g++ -std=gnu++11 -shared -s -static-libgcc -o atSNP.dll tmp.def ImportanceSample.o ImportanceSampleChange.o ImportanceSampleDiff.o MotifScore.o -LC:/extsoft/lib/i386 -LC:/extsoft/lib -LD:/biocbuild/bbs-3.14-bioc/R/bin/i386 -lR
installing to D:/biocbuild/bbs-3.14-bioc/meat/atSNP.buildbin-libdir/00LOCK-atSNP/00new/atSNP/libs/i386
** R
** data
** inst
** byte-compile and prepare package for lazy loading
** help
*** installing help indices
  converting help for package 'atSNP'
    finding HTML links ... done
    ComputeMotifScore                       html  
    ComputePValues                          html  
    GetIUPACSequence                        html  
    LoadFastaData                           html  
    LoadMotifLibrary                        html  
    LoadSNPData                             html  
    MatchSubsequence                        html  
    atSNP-package                           html  
    dtMotifMatch                            html  
    encode_motif                            html  
    encode_motifinfo                        html  
    jaspar_motif                            html  
    jaspar_motifinfo                        html  
    motif_library                           html  
    motif_match                             html  
    motif_scores                            html  
    plotMotifMatch                          html  
    prior                                   html  
    snpInfo                                 html  
    snp_tbl                                 html  
    transition                              html  
** building package indices
** installing vignettes
** testing if installed package can be loaded from temporary location
** testing if installed package can be loaded from final location
** testing if installed package keeps a record of temporary installation path

install for x64

* installing *source* package 'atSNP' ...
** libs
"C:/rtools40/mingw64/bin/"g++ -std=gnu++11  -I"D:/biocbuild/bbs-3.14-bioc/R/include" -DNDEBUG  -I'D:/biocbuild/bbs-3.14-bioc/R/library/Rcpp/include'   -I"C:/extsoft/include"     -O2 -Wall  -mfpmath=sse -msse2 -mstackrealign  -c ImportanceSample.cpp -o ImportanceSample.o
"C:/rtools40/mingw64/bin/"g++ -std=gnu++11  -I"D:/biocbuild/bbs-3.14-bioc/R/include" -DNDEBUG  -I'D:/biocbuild/bbs-3.14-bioc/R/library/Rcpp/include'   -I"C:/extsoft/include"     -O2 -Wall  -mfpmath=sse -msse2 -mstackrealign  -c ImportanceSampleChange.cpp -o ImportanceSampleChange.o
"C:/rtools40/mingw64/bin/"g++ -std=gnu++11  -I"D:/biocbuild/bbs-3.14-bioc/R/include" -DNDEBUG  -I'D:/biocbuild/bbs-3.14-bioc/R/library/Rcpp/include'   -I"C:/extsoft/include"     -O2 -Wall  -mfpmath=sse -msse2 -mstackrealign  -c ImportanceSampleDiff.cpp -o ImportanceSampleDiff.o
"C:/rtools40/mingw64/bin/"g++ -std=gnu++11  -I"D:/biocbuild/bbs-3.14-bioc/R/include" -DNDEBUG  -I'D:/biocbuild/bbs-3.14-bioc/R/library/Rcpp/include'   -I"C:/extsoft/include"     -O2 -Wall  -mfpmath=sse -msse2 -mstackrealign  -c MotifScore.cpp -o MotifScore.o
C:/rtools40/mingw64/bin/g++ -std=gnu++11 -shared -s -static-libgcc -o atSNP.dll tmp.def ImportanceSample.o ImportanceSampleChange.o ImportanceSampleDiff.o MotifScore.o -LC:/extsoft/lib/x64 -LC:/extsoft/lib -LD:/biocbuild/bbs-3.14-bioc/R/bin/x64 -lR
installing to D:/biocbuild/bbs-3.14-bioc/meat/atSNP.buildbin-libdir/atSNP/libs/x64
** testing if installed package can be loaded
* MD5 sums
packaged installation of 'atSNP' as atSNP_1.9.0.zip
* DONE (atSNP)
* installing to library 'D:/biocbuild/bbs-3.14-bioc/R/library'
package 'atSNP' successfully unpacked and MD5 sums checked