Back to Multiple platform build/check report for BioC 3.14
[A]BCDEFGHIJKLMNOPQRSTUVWXYZ

This page was generated on 2021-10-26 14:06:52 -0400 (Tue, 26 Oct 2021).

INSTALL results for artMS on riesling1

To the developers/maintainers of the artMS package:
- Please allow up to 24 hours (and sometimes 48 hours) for your latest push to git@git.bioconductor.org:packages/artMS.git to
reflect on this report. See How and When does the builder pull? When will my changes propagate? here for more information.
- Make sure to use the following settings in order to reproduce any error or warning you see on this page.

raw results

Package 84/2083HostnameOS / ArchINSTALLBUILDCHECKBUILD BIN
artMS 1.11.2  (landing page)
David Jimenez-Morales
Snapshot Date: 2021-10-25 14:50:11 -0400 (Mon, 25 Oct 2021)
git_url: https://git.bioconductor.org/packages/artMS
git_branch: master
git_last_commit: 5fd14f8
git_last_commit_date: 2021-07-14 02:53:05 -0400 (Wed, 14 Jul 2021)
nebbiolo2Linux (Ubuntu 20.04.2 LTS) / x86_64  OK    OK    OK  UNNEEDED, same version is already published
riesling1Windows Server 2019 Standard / x64  OK    OK    OK    OK  UNNEEDED, same version is already published
merida1macOS 10.14.6 Mojave / x86_64  OK    OK    OK    OK  UNNEEDED, same version is already published
machv2macOS 10.14.6 Mojave / x86_64  OK    OK    OK    OK  

Summary

Package: artMS
Version: 1.11.2
Command: C:\cygwin\bin\curl.exe -O http://155.52.207.166/BBS/3.14/bioc/src/contrib/artMS_1.11.2.tar.gz && rm -rf artMS.buildbin-libdir && mkdir artMS.buildbin-libdir && D:\biocbuild\bbs-3.14-bioc\R\bin\R.exe CMD INSTALL --merge-multiarch --build --library=artMS.buildbin-libdir artMS_1.11.2.tar.gz && D:\biocbuild\bbs-3.14-bioc\R\bin\R.exe CMD INSTALL artMS_1.11.2.zip && rm artMS_1.11.2.tar.gz artMS_1.11.2.zip
StartedAt: 2021-10-25 18:23:09 -0400 (Mon, 25 Oct 2021)
EndedAt: 2021-10-25 18:26:08 -0400 (Mon, 25 Oct 2021)
EllapsedTime: 178.6 seconds
RetCode: 0
Status:   OK  

Command output

##############################################################################
##############################################################################
###
### Running command:
###
###   C:\cygwin\bin\curl.exe -O http://155.52.207.166/BBS/3.14/bioc/src/contrib/artMS_1.11.2.tar.gz && rm -rf artMS.buildbin-libdir && mkdir artMS.buildbin-libdir && D:\biocbuild\bbs-3.14-bioc\R\bin\R.exe CMD INSTALL --merge-multiarch --build --library=artMS.buildbin-libdir artMS_1.11.2.tar.gz && D:\biocbuild\bbs-3.14-bioc\R\bin\R.exe CMD INSTALL artMS_1.11.2.zip && rm artMS_1.11.2.tar.gz artMS_1.11.2.zip
###
##############################################################################
##############################################################################


  % Total    % Received % Xferd  Average Speed   Time    Time     Time  Current
                                 Dload  Upload   Total   Spent    Left  Speed

  0     0    0     0    0     0      0      0 --:--:-- --:--:-- --:--:--     0
 35 3019k   35 1069k    0     0  2889k      0  0:00:01 --:--:--  0:00:01 2881k
100 3019k  100 3019k    0     0  4440k      0 --:--:-- --:--:-- --:--:-- 4434k

install for i386

* installing *source* package 'artMS' ...
** using staged installation
** R
** data
*** moving datasets to lazyload DB
** inst
** byte-compile and prepare package for lazy loading
** help
*** installing help indices
  converting help for package 'artMS'
    finding HTML links ... done
    artmsAnalysisQuantifications            html  
    artmsAnnotateSpecie                     html  
    artmsAnnotationUniprot                  html  
    artmsAvgIntensityRT                     html  
    artmsChangeColumnName                   html  
    artmsConvertMetabolomics                html  
    artmsDataPlots                          html  
    artmsEnrichLog2fc                       html  
    artmsEnrichProfiler                     html  
    artmsEvidenceToSAINTq                   html  
    artmsEvidenceToSaintExpress             html  
    artmsFilterEvidenceContaminants         html  
    artmsGeneratePhSiteExtended             html  
    artmsIsEvidenceNewVersion               html  
    artmsIsSpeciesSupported                 html  
    artmsLeaveOnlyUniprotEntryID            html  
    artmsMapUniprot2Entrez                  html  
    artmsMergeEvidenceAndKeys               html  
    artmsMsstatsSummary                     html  
    artmsPhosfateOutput                     html  
    artmsPhotonOutput                       html  
    artmsPlotHeatmapQuant                   html  
    artmsProtein2SiteConversion             html  
    artmsQualityControlEvidenceBasic        html  
    artmsQualityControlEvidenceExtended     html  
    artmsQualityControlMetabolomics         html  
    artmsQualityControlSummaryExtended      html  
    artmsQuantification                     html  
    artmsResultsWide                        html  
    artmsSILACtoLong                        html  
    artmsSpectralCounts                     html  
    artmsVolcanoPlot                        html  
    artmsWriteConfigYamlFile                html  
    artms_config                            html  
    artms_data_corum_mito_database          html  
    artms_data_pathogen_LPN                 html  
    artms_data_pathogen_TB                  html  
    artms_data_ph_config                    html  
    artms_data_ph_contrast                  html  
    artms_data_ph_evidence                  html  
    artms_data_ph_keys                      html  
    artms_data_ph_msstats_modelqc           html  
    artms_data_ph_msstats_results           html  
    artms_data_randomDF                     html  
** building package indices
** installing vignettes
** testing if installed package can be loaded from temporary location
** testing if installed package can be loaded from final location
** testing if installed package keeps a record of temporary installation path

install for x64

* installing *source* package 'artMS' ...
** testing if installed package can be loaded
* MD5 sums
packaged installation of 'artMS' as artMS_1.11.2.zip
* DONE (artMS)
* installing to library 'D:/biocbuild/bbs-3.14-bioc/R/library'
package 'artMS' successfully unpacked and MD5 sums checked