Back to Multiple platform build/check report for BioC 3.14
[A]BCDEFGHIJKLMNOPQRSTUVWXYZ

This page was generated on 2021-10-25 14:06:05 -0400 (Mon, 25 Oct 2021).

CHECK results for artMS on riesling1

To the developers/maintainers of the artMS package:
- Please allow up to 24 hours (and sometimes 48 hours) for your latest push to git@git.bioconductor.org:packages/artMS.git to
reflect on this report. See How and When does the builder pull? When will my changes propagate? here for more information.
- Make sure to use the following settings in order to reproduce any error or warning you see on this page.

raw results

Package 84/2083HostnameOS / ArchINSTALLBUILDCHECKBUILD BIN
artMS 1.11.2  (landing page)
David Jimenez-Morales
Snapshot Date: 2021-10-24 14:50:04 -0400 (Sun, 24 Oct 2021)
git_url: https://git.bioconductor.org/packages/artMS
git_branch: master
git_last_commit: 5fd14f8
git_last_commit_date: 2021-07-14 02:53:05 -0400 (Wed, 14 Jul 2021)
nebbiolo2Linux (Ubuntu 20.04.2 LTS) / x86_64  OK    OK    OK  UNNEEDED, same version is already published
riesling1Windows Server 2019 Standard / x64  OK    OK    OK    OK  UNNEEDED, same version is already published
merida1macOS 10.14.6 Mojave / x86_64  OK    OK    OK    OK  UNNEEDED, same version is already published
machv2macOS 10.14.6 Mojave / x86_64  OK    OK    OK    OK  

Summary

Package: artMS
Version: 1.11.2
Command: D:\biocbuild\bbs-3.14-bioc\R\bin\R.exe CMD check --force-multiarch --install=check:artMS.install-out.txt --library=D:\biocbuild\bbs-3.14-bioc\R\library --no-vignettes --timings artMS_1.11.2.tar.gz
StartedAt: 2021-10-24 23:56:35 -0400 (Sun, 24 Oct 2021)
EndedAt: 2021-10-24 23:59:40 -0400 (Sun, 24 Oct 2021)
EllapsedTime: 185.3 seconds
RetCode: 0
Status:   OK  
CheckDir: artMS.Rcheck
Warnings: 0

Command output

##############################################################################
##############################################################################
###
### Running command:
###
###   D:\biocbuild\bbs-3.14-bioc\R\bin\R.exe CMD check --force-multiarch --install=check:artMS.install-out.txt --library=D:\biocbuild\bbs-3.14-bioc\R\library --no-vignettes --timings artMS_1.11.2.tar.gz
###
##############################################################################
##############################################################################


* using log directory 'D:/biocbuild/bbs-3.14-bioc/meat/artMS.Rcheck'
* using R version 4.1.1 (2021-08-10)
* using platform: x86_64-w64-mingw32 (64-bit)
* using session charset: ISO8859-1
* using option '--no-vignettes'
* checking for file 'artMS/DESCRIPTION' ... OK
* checking extension type ... Package
* this is package 'artMS' version '1.11.2'
* package encoding: UTF-8
* checking package namespace information ... OK
* checking package dependencies ... OK
* checking if this is a source package ... OK
* checking if there is a namespace ... OK
* checking for hidden files and directories ... OK
* checking for portable file names ... OK
* checking whether package 'artMS' can be installed ... OK
* checking installed package size ... OK
* checking package directory ... OK
* checking 'build' directory ... OK
* checking DESCRIPTION meta-information ... OK
* checking top-level files ... OK
* checking for left-over files ... OK
* checking index information ... OK
* checking package subdirectories ... OK
* checking R files for non-ASCII characters ... OK
* checking R files for syntax errors ... OK
* loading checks for arch 'i386'
** checking whether the package can be loaded ... OK
** checking whether the package can be loaded with stated dependencies ... OK
** checking whether the package can be unloaded cleanly ... OK
** checking whether the namespace can be loaded with stated dependencies ... OK
** checking whether the namespace can be unloaded cleanly ... OK
* loading checks for arch 'x64'
** checking whether the package can be loaded ... OK
** checking whether the package can be loaded with stated dependencies ... OK
** checking whether the package can be unloaded cleanly ... OK
** checking whether the namespace can be loaded with stated dependencies ... OK
** checking whether the namespace can be unloaded cleanly ... OK
* checking dependencies in R code ... OK
* checking S3 generic/method consistency ... OK
* checking replacement functions ... OK
* checking foreign function calls ... OK
* checking R code for possible problems ... OK
* checking Rd files ... OK
* checking Rd metadata ... OK
* checking Rd cross-references ... OK
* checking for missing documentation entries ... OK
* checking for code/documentation mismatches ... OK
* checking Rd \usage sections ... OK
* checking Rd contents ... OK
* checking for unstated dependencies in examples ... OK
* checking contents of 'data' directory ... OK
* checking data for non-ASCII characters ... OK
* checking LazyData ... OK
* checking data for ASCII and uncompressed saves ... OK
* checking files in 'vignettes' ... OK
* checking examples ...
** running examples for arch 'i386' ... OK
** running examples for arch 'x64' ... OK
* checking for unstated dependencies in 'tests' ... OK
* checking tests ...
** running tests for arch 'i386' ...
  Running 'testthat.R'
 OK
** running tests for arch 'x64' ...
  Running 'testthat.R'
 OK
* checking for unstated dependencies in vignettes ... OK
* checking package vignettes in 'inst/doc' ... OK
* checking running R code from vignettes ... SKIPPED
* checking re-building of vignette outputs ... SKIPPED
* checking PDF version of manual ... OK
* DONE

Status: OK


Installation output

artMS.Rcheck/00install.out

##############################################################################
##############################################################################
###
### Running command:
###
###   C:\cygwin\bin\curl.exe -O http://155.52.207.166/BBS/3.14/bioc/src/contrib/artMS_1.11.2.tar.gz && rm -rf artMS.buildbin-libdir && mkdir artMS.buildbin-libdir && D:\biocbuild\bbs-3.14-bioc\R\bin\R.exe CMD INSTALL --merge-multiarch --build --library=artMS.buildbin-libdir artMS_1.11.2.tar.gz && D:\biocbuild\bbs-3.14-bioc\R\bin\R.exe CMD INSTALL artMS_1.11.2.zip && rm artMS_1.11.2.tar.gz artMS_1.11.2.zip
###
##############################################################################
##############################################################################


  % Total    % Received % Xferd  Average Speed   Time    Time     Time  Current
                                 Dload  Upload   Total   Spent    Left  Speed

  0     0    0     0    0     0      0      0 --:--:-- --:--:-- --:--:--     0
100 3019k  100 3019k    0     0  3932k      0 --:--:-- --:--:-- --:--:-- 3932k

install for i386

* installing *source* package 'artMS' ...
** using staged installation
** R
** data
*** moving datasets to lazyload DB
** inst
** byte-compile and prepare package for lazy loading
** help
*** installing help indices
  converting help for package 'artMS'
    finding HTML links ... done
    artmsAnalysisQuantifications            html  
    artmsAnnotateSpecie                     html  
    artmsAnnotationUniprot                  html  
    artmsAvgIntensityRT                     html  
    artmsChangeColumnName                   html  
    artmsConvertMetabolomics                html  
    artmsDataPlots                          html  
    artmsEnrichLog2fc                       html  
    artmsEnrichProfiler                     html  
    artmsEvidenceToSAINTq                   html  
    artmsEvidenceToSaintExpress             html  
    artmsFilterEvidenceContaminants         html  
    artmsGeneratePhSiteExtended             html  
    artmsIsEvidenceNewVersion               html  
    artmsIsSpeciesSupported                 html  
    artmsLeaveOnlyUniprotEntryID            html  
    artmsMapUniprot2Entrez                  html  
    artmsMergeEvidenceAndKeys               html  
    artmsMsstatsSummary                     html  
    artmsPhosfateOutput                     html  
    artmsPhotonOutput                       html  
    artmsPlotHeatmapQuant                   html  
    artmsProtein2SiteConversion             html  
    artmsQualityControlEvidenceBasic        html  
    artmsQualityControlEvidenceExtended     html  
    artmsQualityControlMetabolomics         html  
    artmsQualityControlSummaryExtended      html  
    artmsQuantification                     html  
    artmsResultsWide                        html  
    artmsSILACtoLong                        html  
    artmsSpectralCounts                     html  
    artmsVolcanoPlot                        html  
    artmsWriteConfigYamlFile                html  
    artms_config                            html  
    artms_data_corum_mito_database          html  
    artms_data_pathogen_LPN                 html  
    artms_data_pathogen_TB                  html  
    artms_data_ph_config                    html  
    artms_data_ph_contrast                  html  
    artms_data_ph_evidence                  html  
    artms_data_ph_keys                      html  
    artms_data_ph_msstats_modelqc           html  
    artms_data_ph_msstats_results           html  
    artms_data_randomDF                     html  
** building package indices
** installing vignettes
** testing if installed package can be loaded from temporary location
** testing if installed package can be loaded from final location
** testing if installed package keeps a record of temporary installation path

install for x64

* installing *source* package 'artMS' ...
** testing if installed package can be loaded
* MD5 sums
packaged installation of 'artMS' as artMS_1.11.2.zip
* DONE (artMS)
* installing to library 'D:/biocbuild/bbs-3.14-bioc/R/library'
package 'artMS' successfully unpacked and MD5 sums checked

Tests output

artMS.Rcheck/tests_i386/testthat.Rout


R version 4.1.1 (2021-08-10) -- "Kick Things"
Copyright (C) 2021 The R Foundation for Statistical Computing
Platform: i386-w64-mingw32/i386 (32-bit)

R is free software and comes with ABSOLUTELY NO WARRANTY.
You are welcome to redistribute it under certain conditions.
Type 'license()' or 'licence()' for distribution details.

R is a collaborative project with many contributors.
Type 'contributors()' for more information and
'citation()' on how to cite R or R packages in publications.

Type 'demo()' for some demos, 'help()' for on-line help, or
'help.start()' for an HTML browser interface to help.
Type 'q()' to quit R.

> library(testthat)
> library(artMS)

> 
> test_check("artMS")
[ FAIL 0 | WARN 0 | SKIP 0 | PASS 8 ]
> 
> proc.time()
   user  system elapsed 
   5.54    0.28    5.81 

artMS.Rcheck/tests_x64/testthat.Rout


R version 4.1.1 (2021-08-10) -- "Kick Things"
Copyright (C) 2021 The R Foundation for Statistical Computing
Platform: x86_64-w64-mingw32/x64 (64-bit)

R is free software and comes with ABSOLUTELY NO WARRANTY.
You are welcome to redistribute it under certain conditions.
Type 'license()' or 'licence()' for distribution details.

R is a collaborative project with many contributors.
Type 'contributors()' for more information and
'citation()' on how to cite R or R packages in publications.

Type 'demo()' for some demos, 'help()' for on-line help, or
'help.start()' for an HTML browser interface to help.
Type 'q()' to quit R.

> library(testthat)
> library(artMS)

> 
> test_check("artMS")
[ FAIL 0 | WARN 0 | SKIP 0 | PASS 8 ]
> 
> proc.time()
   user  system elapsed 
   5.62    0.37    6.00 

Example timings

artMS.Rcheck/examples_i386/artMS-Ex.timings

nameusersystemelapsed
artmsAnalysisQuantifications000
artmsAnnotateSpecie0.010.000.02
artmsAnnotationUniprot1.490.682.17
artmsAvgIntensityRT0.530.000.53
artmsChangeColumnName000
artmsConvertMetabolomics000
artmsDataPlots000
artmsEnrichLog2fc000
artmsEnrichProfiler000
artmsEvidenceToSAINTq000
artmsEvidenceToSaintExpress000
artmsFilterEvidenceContaminants000
artmsGeneratePhSiteExtended000
artmsIsEvidenceNewVersion0.020.000.01
artmsIsSpeciesSupported0.050.000.05
artmsLeaveOnlyUniprotEntryID0.010.000.02
artmsMapUniprot2Entrez0.140.020.15
artmsMergeEvidenceAndKeys0.020.000.02
artmsMsstatsSummary000
artmsPhosfateOutput000
artmsPhotonOutput000
artmsPlotHeatmapQuant0.370.020.39
artmsProtein2SiteConversion000
artmsQualityControlEvidenceBasic0.500.000.55
artmsQualityControlEvidenceExtended000
artmsQualityControlMetabolomics000
artmsQualityControlSummaryExtended0.020.000.01
artmsQuantification0.770.060.83
artmsResultsWide0.310.010.33
artmsSILACtoLong000
artmsSpectralCounts0.030.000.03
artmsVolcanoPlot0.220.000.22
artmsWriteConfigYamlFile000

artMS.Rcheck/examples_x64/artMS-Ex.timings

nameusersystemelapsed
artmsAnalysisQuantifications000
artmsAnnotateSpecie0.400.000.41
artmsAnnotationUniprot1.460.622.08
artmsAvgIntensityRT0.150.000.15
artmsChangeColumnName000
artmsConvertMetabolomics000
artmsDataPlots000
artmsEnrichLog2fc000
artmsEnrichProfiler000
artmsEvidenceToSAINTq000
artmsEvidenceToSaintExpress000
artmsFilterEvidenceContaminants000
artmsGeneratePhSiteExtended000
artmsIsEvidenceNewVersion000
artmsIsSpeciesSupported0.090.000.09
artmsLeaveOnlyUniprotEntryID000
artmsMapUniprot2Entrez0.140.000.14
artmsMergeEvidenceAndKeys0.020.000.02
artmsMsstatsSummary000
artmsPhosfateOutput000
artmsPhotonOutput000
artmsPlotHeatmapQuant0.390.000.39
artmsProtein2SiteConversion000
artmsQualityControlEvidenceBasic0.510.020.53
artmsQualityControlEvidenceExtended000
artmsQualityControlMetabolomics000
artmsQualityControlSummaryExtended000
artmsQuantification0.820.010.83
artmsResultsWide0.680.000.69
artmsSILACtoLong000
artmsSpectralCounts0.040.000.03
artmsVolcanoPlot0.170.000.17
artmsWriteConfigYamlFile000