Back to Multiple platform build/check report for BioC 3.14
[A]BCDEFGHIJKLMNOPQRSTUVWXYZ

This page was generated on 2021-10-18 12:03:36 -0400 (Mon, 18 Oct 2021).

CHECK results for artMS on nebbiolo2

To the developers/maintainers of the artMS package:
- Please allow up to 24 hours (and sometimes 48 hours) for your latest push to git@git.bioconductor.org:packages/artMS.git to
reflect on this report. See How and When does the builder pull? When will my changes propagate? here for more information.
- Make sure to use the following settings in order to reproduce any error or warning you see on this page.

raw results

Package 84/2060HostnameOS / ArchINSTALLBUILDCHECKBUILD BIN
artMS 1.11.2  (landing page)
David Jimenez-Morales
Snapshot Date: 2021-10-17 14:50:03 -0400 (Sun, 17 Oct 2021)
git_url: https://git.bioconductor.org/packages/artMS
git_branch: master
git_last_commit: 5fd14f8
git_last_commit_date: 2021-07-14 02:53:05 -0400 (Wed, 14 Jul 2021)
nebbiolo2Linux (Ubuntu 20.04.2 LTS) / x86_64  OK    OK    OK  UNNEEDED, same version is already published
riesling1Windows Server 2019 Standard / x64  OK    OK    OK    OK  UNNEEDED, same version is already published
merida1macOS 10.14.6 Mojave / x86_64  OK    OK    OK    OK  UNNEEDED, same version is already published

Summary

Package: artMS
Version: 1.11.2
Command: /home/biocbuild/bbs-3.14-bioc/R/bin/R CMD check --install=check:artMS.install-out.txt --library=/home/biocbuild/bbs-3.14-bioc/R/library --no-vignettes --timings artMS_1.11.2.tar.gz
StartedAt: 2021-10-17 19:05:29 -0400 (Sun, 17 Oct 2021)
EndedAt: 2021-10-17 19:07:59 -0400 (Sun, 17 Oct 2021)
EllapsedTime: 149.7 seconds
RetCode: 0
Status:   OK  
CheckDir: artMS.Rcheck
Warnings: 0

Command output

##############################################################################
##############################################################################
###
### Running command:
###
###   /home/biocbuild/bbs-3.14-bioc/R/bin/R CMD check --install=check:artMS.install-out.txt --library=/home/biocbuild/bbs-3.14-bioc/R/library --no-vignettes --timings artMS_1.11.2.tar.gz
###
##############################################################################
##############################################################################


* using log directory ‘/home/biocbuild/bbs-3.14-bioc/meat/artMS.Rcheck’
* using R version 4.1.1 (2021-08-10)
* using platform: x86_64-pc-linux-gnu (64-bit)
* using session charset: UTF-8
* using option ‘--no-vignettes’
* checking for file ‘artMS/DESCRIPTION’ ... OK
* checking extension type ... Package
* this is package ‘artMS’ version ‘1.11.2’
* package encoding: UTF-8
* checking package namespace information ... OK
* checking package dependencies ... OK
* checking if this is a source package ... OK
* checking if there is a namespace ... OK
* checking for hidden files and directories ... OK
* checking for portable file names ... OK
* checking for sufficient/correct file permissions ... OK
* checking whether package ‘artMS’ can be installed ... OK
* checking installed package size ... OK
* checking package directory ... OK
* checking ‘build’ directory ... OK
* checking DESCRIPTION meta-information ... OK
* checking top-level files ... OK
* checking for left-over files ... OK
* checking index information ... OK
* checking package subdirectories ... OK
* checking R files for non-ASCII characters ... OK
* checking R files for syntax errors ... OK
* checking whether the package can be loaded ... OK
* checking whether the package can be loaded with stated dependencies ... OK
* checking whether the package can be unloaded cleanly ... OK
* checking whether the namespace can be loaded with stated dependencies ... OK
* checking whether the namespace can be unloaded cleanly ... OK
* checking dependencies in R code ... OK
* checking S3 generic/method consistency ... OK
* checking replacement functions ... OK
* checking foreign function calls ... OK
* checking R code for possible problems ... OK
* checking Rd files ... OK
* checking Rd metadata ... OK
* checking Rd cross-references ... OK
* checking for missing documentation entries ... OK
* checking for code/documentation mismatches ... OK
* checking Rd \usage sections ... OK
* checking Rd contents ... OK
* checking for unstated dependencies in examples ... OK
* checking contents of ‘data’ directory ... OK
* checking data for non-ASCII characters ... OK
* checking LazyData ... OK
* checking data for ASCII and uncompressed saves ... OK
* checking files in ‘vignettes’ ... OK
* checking examples ... OK
* checking for unstated dependencies in ‘tests’ ... OK
* checking tests ...
  Running ‘testthat.R’
 OK
* checking for unstated dependencies in vignettes ... OK
* checking package vignettes in ‘inst/doc’ ... OK
* checking running R code from vignettes ... SKIPPED
* checking re-building of vignette outputs ... SKIPPED
* checking PDF version of manual ... OK
* DONE

Status: OK


Installation output

artMS.Rcheck/00install.out

##############################################################################
##############################################################################
###
### Running command:
###
###   /home/biocbuild/bbs-3.14-bioc/R/bin/R CMD INSTALL artMS
###
##############################################################################
##############################################################################


* installing to library ‘/home/biocbuild/bbs-3.14-bioc/R/library’
* installing *source* package ‘artMS’ ...
** using staged installation
** R
** data
*** moving datasets to lazyload DB
** inst
** byte-compile and prepare package for lazy loading
** help
*** installing help indices
** building package indices
** installing vignettes
** testing if installed package can be loaded from temporary location
** testing if installed package can be loaded from final location
** testing if installed package keeps a record of temporary installation path
* DONE (artMS)

Tests output

artMS.Rcheck/tests/testthat.Rout


R version 4.1.1 (2021-08-10) -- "Kick Things"
Copyright (C) 2021 The R Foundation for Statistical Computing
Platform: x86_64-pc-linux-gnu (64-bit)

R is free software and comes with ABSOLUTELY NO WARRANTY.
You are welcome to redistribute it under certain conditions.
Type 'license()' or 'licence()' for distribution details.

R is a collaborative project with many contributors.
Type 'contributors()' for more information and
'citation()' on how to cite R or R packages in publications.

Type 'demo()' for some demos, 'help()' for on-line help, or
'help.start()' for an HTML browser interface to help.
Type 'q()' to quit R.

> library(testthat)
> library(artMS)

> 
> test_check("artMS")
[ FAIL 0 | WARN 0 | SKIP 0 | PASS 8 ]
> 
> proc.time()
   user  system elapsed 
  7.445   0.388   7.764 

Example timings

artMS.Rcheck/artMS-Ex.timings

nameusersystemelapsed
artmsAnalysisQuantifications0.0060.0000.006
artmsAnnotateSpecie0.0080.0000.007
artmsAnnotationUniprot1.9160.1042.022
artmsAvgIntensityRT0.1890.0040.193
artmsChangeColumnName000
artmsConvertMetabolomics0.0000.0000.001
artmsDataPlots000
artmsEnrichLog2fc0.0000.0000.001
artmsEnrichProfiler000
artmsEvidenceToSAINTq0.0010.0000.001
artmsEvidenceToSaintExpress0.0010.0000.000
artmsFilterEvidenceContaminants0.0090.0000.008
artmsGeneratePhSiteExtended000
artmsIsEvidenceNewVersion0.0030.0000.003
artmsIsSpeciesSupported0.0630.0000.062
artmsLeaveOnlyUniprotEntryID0.0010.0000.001
artmsMapUniprot2Entrez0.1970.0000.196
artmsMergeEvidenceAndKeys0.0170.0000.017
artmsMsstatsSummary0.0010.0000.001
artmsPhosfateOutput000
artmsPhotonOutput000
artmsPlotHeatmapQuant0.4420.0110.454
artmsProtein2SiteConversion0.0010.0000.001
artmsQualityControlEvidenceBasic0.6190.0080.627
artmsQualityControlEvidenceExtended0.0050.0000.004
artmsQualityControlMetabolomics0.0010.0000.001
artmsQualityControlSummaryExtended0.0010.0000.002
artmsQuantification1.4810.0911.521
artmsResultsWide0.3330.0000.333
artmsSILACtoLong000
artmsSpectralCounts0.0350.0000.036
artmsVolcanoPlot0.2280.0000.228
artmsWriteConfigYamlFile000