Back to Multiple platform build/check report for BioC 3.14
[A]BCDEFGHIJKLMNOPQRSTUVWXYZ

This page was generated on 2021-11-29 15:05:47 -0500 (Mon, 29 Nov 2021).

INSTALL results for artMS on machv2

To the developers/maintainers of the artMS package:
- Please allow up to 24 hours (and sometimes 48 hours) for your latest push to git@git.bioconductor.org:packages/artMS.git to
reflect on this report. See How and When does the builder pull? When will my changes propagate? here for more information.
- Make sure to use the following settings in order to reproduce any error or warning you see on this page.

raw results

Package 84/2083HostnameOS / ArchINSTALLBUILDCHECKBUILD BIN
artMS 1.12.0  (landing page)
David Jimenez-Morales
Snapshot Date: 2021-11-28 04:15:06 -0500 (Sun, 28 Nov 2021)
git_url: https://git.bioconductor.org/packages/artMS
git_branch: RELEASE_3_14
git_last_commit: 58efc32
git_last_commit_date: 2021-10-26 12:47:58 -0500 (Tue, 26 Oct 2021)
nebbiolo2Linux (Ubuntu 20.04.3 LTS) / x86_64  OK    OK    OK  UNNEEDED, same version is already published
tokay2Windows Server 2012 R2 Standard / x64  OK    OK    OK    OK  UNNEEDED, same version is already published
machv2macOS 10.14.6 Mojave / x86_64  OK    OK    OK    OK  UNNEEDED, same version is already published

Summary

Package: artMS
Version: 1.12.0
Command: /Library/Frameworks/R.framework/Resources/bin/R CMD INSTALL artMS
StartedAt: 2021-11-28 06:36:03 -0500 (Sun, 28 Nov 2021)
EndedAt: 2021-11-28 06:36:54 -0500 (Sun, 28 Nov 2021)
EllapsedTime: 51.5 seconds
RetCode: 0
Status:   OK  

Command output

##############################################################################
##############################################################################
###
### Running command:
###
###   /Library/Frameworks/R.framework/Resources/bin/R CMD INSTALL artMS
###
##############################################################################
##############################################################################


* installing to library ‘/Library/Frameworks/R.framework/Versions/4.1/Resources/library’
* installing *source* package ‘artMS’ ...
** using staged installation
** R
** data
*** moving datasets to lazyload DB
** inst
** byte-compile and prepare package for lazy loading
** help
*** installing help indices
** building package indices
** installing vignettes
** testing if installed package can be loaded from temporary location
** testing if installed package can be loaded from final location
** testing if installed package keeps a record of temporary installation path
* DONE (artMS)