Back to Multiple platform build/check report for BioC 3.14
[A]BCDEFGHIJKLMNOPQRSTUVWXYZ

This page was generated on 2021-10-23 14:06:18 -0400 (Sat, 23 Oct 2021).

CHECK results for arrayQualityMetrics on riesling1

To the developers/maintainers of the arrayQualityMetrics package:
- Please allow up to 24 hours (and sometimes 48 hours) for your latest push to git@git.bioconductor.org:packages/arrayQualityMetrics.git to
reflect on this report. See How and When does the builder pull? When will my changes propagate? here for more information.
- Make sure to use the following settings in order to reproduce any error or warning you see on this page.

raw results

Package 82/2083HostnameOS / ArchINSTALLBUILDCHECKBUILD BIN
arrayQualityMetrics 3.49.0  (landing page)
Mike Smith
Snapshot Date: 2021-10-22 14:50:11 -0400 (Fri, 22 Oct 2021)
git_url: https://git.bioconductor.org/packages/arrayQualityMetrics
git_branch: master
git_last_commit: 4838486
git_last_commit_date: 2021-05-19 11:39:30 -0400 (Wed, 19 May 2021)
nebbiolo2Linux (Ubuntu 20.04.2 LTS) / x86_64  OK    OK    OK  UNNEEDED, same version is already published
riesling1Windows Server 2019 Standard / x64  OK    OK    OK    OK  UNNEEDED, same version is already published
merida1macOS 10.14.6 Mojave / x86_64  OK    OK    OK    OK  UNNEEDED, same version is already published

Summary

Package: arrayQualityMetrics
Version: 3.49.0
Command: D:\biocbuild\bbs-3.14-bioc\R\bin\R.exe CMD check --force-multiarch --install=check:arrayQualityMetrics.install-out.txt --library=D:\biocbuild\bbs-3.14-bioc\R\library --no-vignettes --timings arrayQualityMetrics_3.49.0.tar.gz
StartedAt: 2021-10-23 04:55:50 -0400 (Sat, 23 Oct 2021)
EndedAt: 2021-10-23 05:02:05 -0400 (Sat, 23 Oct 2021)
EllapsedTime: 374.3 seconds
RetCode: 0
Status:   OK  
CheckDir: arrayQualityMetrics.Rcheck
Warnings: 0

Command output

##############################################################################
##############################################################################
###
### Running command:
###
###   D:\biocbuild\bbs-3.14-bioc\R\bin\R.exe CMD check --force-multiarch --install=check:arrayQualityMetrics.install-out.txt --library=D:\biocbuild\bbs-3.14-bioc\R\library --no-vignettes --timings arrayQualityMetrics_3.49.0.tar.gz
###
##############################################################################
##############################################################################


* using log directory 'D:/biocbuild/bbs-3.14-bioc/meat/arrayQualityMetrics.Rcheck'
* using R version 4.1.1 (2021-08-10)
* using platform: x86_64-w64-mingw32 (64-bit)
* using session charset: ISO8859-1
* using option '--no-vignettes'
* checking for file 'arrayQualityMetrics/DESCRIPTION' ... OK
* this is package 'arrayQualityMetrics' version '3.49.0'
* checking package namespace information ... OK
* checking package dependencies ... OK
* checking if this is a source package ... OK
* checking if there is a namespace ... OK
* checking for hidden files and directories ... OK
* checking for portable file names ... OK
* checking whether package 'arrayQualityMetrics' can be installed ... OK
* checking installed package size ... OK
* checking package directory ... OK
* checking 'build' directory ... OK
* checking DESCRIPTION meta-information ... OK
* checking top-level files ... OK
* checking for left-over files ... OK
* checking index information ... OK
* checking package subdirectories ... OK
* checking R files for non-ASCII characters ... OK
* checking R files for syntax errors ... OK
* loading checks for arch 'i386'
** checking whether the package can be loaded ... OK
** checking whether the package can be loaded with stated dependencies ... OK
** checking whether the package can be unloaded cleanly ... OK
** checking whether the namespace can be loaded with stated dependencies ... OK
** checking whether the namespace can be unloaded cleanly ... OK
* loading checks for arch 'x64'
** checking whether the package can be loaded ... OK
** checking whether the package can be loaded with stated dependencies ... OK
** checking whether the package can be unloaded cleanly ... OK
** checking whether the namespace can be loaded with stated dependencies ... OK
** checking whether the namespace can be unloaded cleanly ... OK
* checking dependencies in R code ... OK
* checking S3 generic/method consistency ... OK
* checking replacement functions ... OK
* checking foreign function calls ... OK
* checking R code for possible problems ... NOTE
aqm.probesmap: no visible binding for global variable 'hasTarget'
Undefined global functions or variables:
  hasTarget
* checking Rd files ... OK
* checking Rd metadata ... OK
* checking Rd cross-references ... OK
* checking for missing documentation entries ... OK
* checking for code/documentation mismatches ... OK
* checking Rd \usage sections ... OK
* checking Rd contents ... OK
* checking for unstated dependencies in examples ... OK
* checking files in 'vignettes' ... OK
* checking examples ... NONE
* checking for unstated dependencies in vignettes ... OK
* checking package vignettes in 'inst/doc' ... OK
* checking running R code from vignettes ... SKIPPED
* checking re-building of vignette outputs ... SKIPPED
* checking PDF version of manual ... OK
* DONE

Status: 1 NOTE
See
  'D:/biocbuild/bbs-3.14-bioc/meat/arrayQualityMetrics.Rcheck/00check.log'
for details.



Installation output

arrayQualityMetrics.Rcheck/00install.out

##############################################################################
##############################################################################
###
### Running command:
###
###   C:\cygwin\bin\curl.exe -O http://155.52.207.166/BBS/3.14/bioc/src/contrib/arrayQualityMetrics_3.49.0.tar.gz && rm -rf arrayQualityMetrics.buildbin-libdir && mkdir arrayQualityMetrics.buildbin-libdir && D:\biocbuild\bbs-3.14-bioc\R\bin\R.exe CMD INSTALL --merge-multiarch --build --library=arrayQualityMetrics.buildbin-libdir arrayQualityMetrics_3.49.0.tar.gz && D:\biocbuild\bbs-3.14-bioc\R\bin\R.exe CMD INSTALL arrayQualityMetrics_3.49.0.zip && rm arrayQualityMetrics_3.49.0.tar.gz arrayQualityMetrics_3.49.0.zip
###
##############################################################################
##############################################################################


  % Total    % Received % Xferd  Average Speed   Time    Time     Time  Current
                                 Dload  Upload   Total   Spent    Left  Speed

  0     0    0     0    0     0      0      0 --:--:-- --:--:-- --:--:--     0
100  168k  100  168k    0     0   878k      0 --:--:-- --:--:-- --:--:--  882k

install for i386

* installing *source* package 'arrayQualityMetrics' ...
** using staged installation
** R
** inst
** byte-compile and prepare package for lazy loading
** help
*** installing help indices
  converting help for package 'arrayQualityMetrics'
    finding HTML links ... done
    XYfromGAL                               html  
    aqm.writereport                         html  
    aqmReportModule                         html  
    arrayQualityMetrics                     html  
    modulefunctions                         html  
    outlierDetection                        html  
    outliers                                html  
    prepdata                                html  
** building package indices
** installing vignettes
** testing if installed package can be loaded from temporary location
** testing if installed package can be loaded from final location
** testing if installed package keeps a record of temporary installation path

install for x64

* installing *source* package 'arrayQualityMetrics' ...
** testing if installed package can be loaded
* MD5 sums
packaged installation of 'arrayQualityMetrics' as arrayQualityMetrics_3.49.0.zip
* DONE (arrayQualityMetrics)
* installing to library 'D:/biocbuild/bbs-3.14-bioc/R/library'
package 'arrayQualityMetrics' successfully unpacked and MD5 sums checked

Tests output


Example timings