Back to Multiple platform build/check report for BioC 3.14
[A]BCDEFGHIJKLMNOPQRSTUVWXYZ

This page was generated on 2021-10-20 12:05:33 -0400 (Wed, 20 Oct 2021).

BUILD results for arrayQualityMetrics on merida1

To the developers/maintainers of the arrayQualityMetrics package:
- Please allow up to 24 hours (and sometimes 48 hours) for your latest push to git@git.bioconductor.org:packages/arrayQualityMetrics.git to
reflect on this report. See How and When does the builder pull? When will my changes propagate? here for more information.
- Make sure to use the following settings in order to reproduce any error or warning you see on this page.

raw results

Package 82/2072HostnameOS / ArchINSTALLBUILDCHECKBUILD BIN
arrayQualityMetrics 3.49.0  (landing page)
Mike Smith
Snapshot Date: 2021-10-19 14:50:04 -0400 (Tue, 19 Oct 2021)
git_url: https://git.bioconductor.org/packages/arrayQualityMetrics
git_branch: master
git_last_commit: 4838486
git_last_commit_date: 2021-05-19 11:39:30 -0400 (Wed, 19 May 2021)
nebbiolo2Linux (Ubuntu 20.04.2 LTS) / x86_64  OK    OK    OK  UNNEEDED, same version is already published
riesling1Windows Server 2019 Standard / x64  OK    OK    OK    OK  UNNEEDED, same version is already published
merida1macOS 10.14.6 Mojave / x86_64  OK    OK    OK    OK  UNNEEDED, same version is already published

Summary

Package: arrayQualityMetrics
Version: 3.49.0
Command: /Library/Frameworks/R.framework/Resources/bin/R CMD build --keep-empty-dirs --no-resave-data arrayQualityMetrics
StartedAt: 2021-10-19 18:30:40 -0400 (Tue, 19 Oct 2021)
EndedAt: 2021-10-19 18:38:16 -0400 (Tue, 19 Oct 2021)
EllapsedTime: 456.3 seconds
RetCode: 0
Status:   OK  
PackageFile: arrayQualityMetrics_3.49.0.tar.gz
PackageFileSize: 587.3 KiB

Command output

##############################################################################
##############################################################################
###
### Running command:
###
###   /Library/Frameworks/R.framework/Resources/bin/R CMD build --keep-empty-dirs --no-resave-data arrayQualityMetrics
###
##############################################################################
##############################################################################


* checking for file ‘arrayQualityMetrics/DESCRIPTION’ ... OK
* preparing ‘arrayQualityMetrics’:
* checking DESCRIPTION meta-information ... OK
* installing the package to build vignettes
* creating vignettes ... OK
* checking for LF line-endings in source and make files and shell scripts
* checking for empty or unneeded directories
* building ‘arrayQualityMetrics_3.49.0.tar.gz’