Back to Multiple platform build/check report for BioC 3.14
[A]BCDEFGHIJKLMNOPQRSTUVWXYZ

This page was generated on 2021-10-22 12:04:18 -0400 (Fri, 22 Oct 2021).

CHECK results for arrayMvout on riesling1

To the developers/maintainers of the arrayMvout package:
- Please allow up to 24 hours (and sometimes 48 hours) for your latest push to git@git.bioconductor.org:packages/arrayMvout.git to
reflect on this report. See How and When does the builder pull? When will my changes propagate? here for more information.
- Make sure to use the following settings in order to reproduce any error or warning you see on this page.

raw results

Package 80/2075HostnameOS / ArchINSTALLBUILDCHECKBUILD BIN
arrayMvout 1.51.0  (landing page)
V. Carey
Snapshot Date: 2021-10-21 14:50:08 -0400 (Thu, 21 Oct 2021)
git_url: https://git.bioconductor.org/packages/arrayMvout
git_branch: master
git_last_commit: 2c4db0c
git_last_commit_date: 2021-05-19 11:42:11 -0400 (Wed, 19 May 2021)
nebbiolo2Linux (Ubuntu 20.04.2 LTS) / x86_64  OK    OK    OK  UNNEEDED, same version is already published
riesling1Windows Server 2019 Standard / x64  OK    OK    OK    OK  NO, package depends on 'lumi' which is not available
merida1macOS 10.14.6 Mojave / x86_64  OK    OK    OK    OK  UNNEEDED, same version is already published

Summary

Package: arrayMvout
Version: 1.51.0
Command: D:\biocbuild\bbs-3.14-bioc\R\bin\R.exe CMD check --force-multiarch --install=check:arrayMvout.install-out.txt --library=D:\biocbuild\bbs-3.14-bioc\R\library --no-vignettes --timings arrayMvout_1.51.0.tar.gz
StartedAt: 2021-10-21 23:57:23 -0400 (Thu, 21 Oct 2021)
EndedAt: 2021-10-22 00:04:29 -0400 (Fri, 22 Oct 2021)
EllapsedTime: 426.3 seconds
RetCode: 0
Status:   OK  
CheckDir: arrayMvout.Rcheck
Warnings: 0

Command output

##############################################################################
##############################################################################
###
### Running command:
###
###   D:\biocbuild\bbs-3.14-bioc\R\bin\R.exe CMD check --force-multiarch --install=check:arrayMvout.install-out.txt --library=D:\biocbuild\bbs-3.14-bioc\R\library --no-vignettes --timings arrayMvout_1.51.0.tar.gz
###
##############################################################################
##############################################################################


* using log directory 'D:/biocbuild/bbs-3.14-bioc/meat/arrayMvout.Rcheck'
* using R version 4.1.1 (2021-08-10)
* using platform: x86_64-w64-mingw32 (64-bit)
* using session charset: ISO8859-1
* using option '--no-vignettes'
* checking for file 'arrayMvout/DESCRIPTION' ... OK
* this is package 'arrayMvout' version '1.51.0'
* checking package namespace information ... OK
* checking package dependencies ... OK
* checking if this is a source package ... OK
* checking if there is a namespace ... OK
* checking for hidden files and directories ... OK
* checking for portable file names ... OK
* checking whether package 'arrayMvout' can be installed ... OK
* checking installed package size ... OK
* checking package directory ... OK
* checking 'build' directory ... OK
* checking DESCRIPTION meta-information ... NOTE
Malformed Description field: should contain one or more complete sentences.
* checking top-level files ... OK
* checking for left-over files ... OK
* checking index information ... OK
* checking package subdirectories ... OK
* checking R files for non-ASCII characters ... OK
* checking R files for syntax errors ... OK
* loading checks for arch 'i386'
** checking whether the package can be loaded ... OK
** checking whether the package can be loaded with stated dependencies ... OK
** checking whether the package can be unloaded cleanly ... OK
** checking whether the namespace can be loaded with stated dependencies ... OK
** checking whether the namespace can be unloaded cleanly ... OK
* loading checks for arch 'x64'
** checking whether the package can be loaded ... OK
** checking whether the package can be loaded with stated dependencies ... OK
** checking whether the package can be unloaded cleanly ... OK
** checking whether the namespace can be loaded with stated dependencies ... OK
** checking whether the namespace can be unloaded cleanly ... OK
* checking dependencies in R code ... OK
* checking S3 generic/method consistency ... OK
* checking replacement functions ... OK
* checking foreign function calls ... OK
* checking R code for possible problems ... NOTE
.affyArrayOutliers: no visible global function definition for 'qc'
.affyArrayOutliers: no visible global function definition for 'avbg'
.affyArrayOutliers: no visible global function definition for 'sfs'
.affyArrayOutliers: no visible global function definition for
  'percent.present'
.affyArrayOutliers: no visible global function definition for 'ratios'
.affyArrayOutliers: no visible global function definition for 'fitPLM'
.affyArrayOutliers: no visible global function definition for 'prcomp'
.lumiArrayOutliers: no visible global function definition for 'prcomp'
ArrayOutliers,data.frame-numeric-ANY: no visible global function
  definition for 'prcomp'
plot,arrOutStruct-ANY: no visible global function definition for
  'biplot'
plot,arrOutStruct-ANY: no visible global function definition for
  'prcomp'
Undefined global functions or variables:
  avbg biplot fitPLM percent.present prcomp qc ratios sfs
Consider adding
  importFrom("stats", "biplot", "prcomp")
to your NAMESPACE file.
* checking Rd files ... OK
* checking Rd metadata ... OK
* checking Rd cross-references ... OK
* checking for missing documentation entries ... OK
* checking for code/documentation mismatches ... OK
* checking Rd \usage sections ... OK
* checking Rd contents ... OK
* checking for unstated dependencies in examples ... OK
* checking contents of 'data' directory ... OK
* checking data for non-ASCII characters ... OK
* checking data for ASCII and uncompressed saves ... OK
* checking files in 'vignettes' ... OK
* checking examples ...
** running examples for arch 'i386' ... OK
** running examples for arch 'x64' ... OK
* checking for unstated dependencies in vignettes ... OK
* checking package vignettes in 'inst/doc' ... OK
* checking running R code from vignettes ... SKIPPED
* checking re-building of vignette outputs ... SKIPPED
* checking PDF version of manual ... OK
* DONE

Status: 2 NOTEs
See
  'D:/biocbuild/bbs-3.14-bioc/meat/arrayMvout.Rcheck/00check.log'
for details.



Installation output

arrayMvout.Rcheck/00install.out

##############################################################################
##############################################################################
###
### Running command:
###
###   C:\cygwin\bin\curl.exe -O http://155.52.207.166/BBS/3.14/bioc/src/contrib/arrayMvout_1.51.0.tar.gz && rm -rf arrayMvout.buildbin-libdir && mkdir arrayMvout.buildbin-libdir && D:\biocbuild\bbs-3.14-bioc\R\bin\R.exe CMD INSTALL --merge-multiarch --build --library=arrayMvout.buildbin-libdir arrayMvout_1.51.0.tar.gz && D:\biocbuild\bbs-3.14-bioc\R\bin\R.exe CMD INSTALL arrayMvout_1.51.0.zip && rm arrayMvout_1.51.0.tar.gz arrayMvout_1.51.0.zip
###
##############################################################################
##############################################################################


  % Total    % Received % Xferd  Average Speed   Time    Time     Time  Current
                                 Dload  Upload   Total   Spent    Left  Speed

  0     0    0     0    0     0      0      0 --:--:-- --:--:-- --:--:--     0
 13  295k   13 40437    0     0   215k      0  0:00:01 --:--:--  0:00:01  214k
100  295k  100  295k    0     0  1141k      0 --:--:-- --:--:-- --:--:-- 1137k

install for i386

* installing *source* package 'arrayMvout' ...
** using staged installation
** R
** data
** inst
** byte-compile and prepare package for lazy loading
No methods found in package 'RSQLite' for request: 'dbListFields' when loading 'lumi'
** help
*** installing help indices
  converting help for package 'arrayMvout'
    finding HTML links ... done
    ArrayOutliers-methods                   html  
    ArrayOutliers                           html  
    arrOutStruct-class                      html  
** building package indices
** installing vignettes
** testing if installed package can be loaded from temporary location
No methods found in package 'RSQLite' for request: 'dbListFields' when loading 'lumi'
** testing if installed package can be loaded from final location
No methods found in package 'RSQLite' for request: 'dbListFields' when loading 'lumi'
** testing if installed package keeps a record of temporary installation path

install for x64

* installing *source* package 'arrayMvout' ...
** testing if installed package can be loaded
No methods found in package 'RSQLite' for request: 'dbListFields' when loading 'lumi'
* MD5 sums
packaged installation of 'arrayMvout' as arrayMvout_1.51.0.zip
* DONE (arrayMvout)
* installing to library 'D:/biocbuild/bbs-3.14-bioc/R/library'
package 'arrayMvout' successfully unpacked and MD5 sums checked

Tests output


Example timings

arrayMvout.Rcheck/examples_i386/arrayMvout-Ex.timings

nameusersystemelapsed
ArrayOutliers-methods0.010.000.02
ArrayOutliers000
arrOutStruct-class0.050.000.04

arrayMvout.Rcheck/examples_x64/arrayMvout-Ex.timings

nameusersystemelapsed
ArrayOutliers-methods0.020.000.01
ArrayOutliers000
arrOutStruct-class0.050.000.04