Back to Multiple platform build/check report for BioC 3.14
[A]BCDEFGHIJKLMNOPQRSTUVWXYZ

This page was generated on 2021-10-18 12:03:58 -0400 (Mon, 18 Oct 2021).

BUILD BIN results for arrayMvout on riesling1

To the developers/maintainers of the arrayMvout package:
- Please allow up to 24 hours (and sometimes 48 hours) for your latest push to git@git.bioconductor.org:packages/arrayMvout.git to
reflect on this report. See How and When does the builder pull? When will my changes propagate? here for more information.
- Make sure to use the following settings in order to reproduce any error or warning you see on this page.

raw results

Package 80/2060HostnameOS / ArchINSTALLBUILDCHECKBUILD BIN
arrayMvout 1.51.0  (landing page)
V. Carey
Snapshot Date: 2021-10-17 14:50:03 -0400 (Sun, 17 Oct 2021)
git_url: https://git.bioconductor.org/packages/arrayMvout
git_branch: master
git_last_commit: 2c4db0c
git_last_commit_date: 2021-05-19 11:42:11 -0400 (Wed, 19 May 2021)
nebbiolo2Linux (Ubuntu 20.04.2 LTS) / x86_64  OK    OK    OK  UNNEEDED, same version is already published
riesling1Windows Server 2019 Standard / x64  OK    OK    OK    OK  NO, package depends on 'lumi' which is not available
merida1macOS 10.14.6 Mojave / x86_64  OK    OK    OK    OK  UNNEEDED, same version is already published

Summary

Package: arrayMvout
Version: 1.51.0
Command: rm -rf arrayMvout.buildbin-libdir && mkdir arrayMvout.buildbin-libdir && D:\biocbuild\bbs-3.14-bioc\R\bin\R.exe CMD INSTALL --merge-multiarch --build --library=arrayMvout.buildbin-libdir arrayMvout_1.51.0.tar.gz
StartedAt: 2021-10-18 04:15:01 -0400 (Mon, 18 Oct 2021)
EndedAt: 2021-10-18 04:18:55 -0400 (Mon, 18 Oct 2021)
EllapsedTime: 233.2 seconds
RetCode: 0
Status:   OK  
PackageFile: arrayMvout_1.51.0.zip
PackageFileSize: 746.7 KiB

Command output

##############################################################################
##############################################################################
###
### Running command:
###
###   rm -rf arrayMvout.buildbin-libdir && mkdir arrayMvout.buildbin-libdir && D:\biocbuild\bbs-3.14-bioc\R\bin\R.exe CMD INSTALL --merge-multiarch --build --library=arrayMvout.buildbin-libdir arrayMvout_1.51.0.tar.gz
###
##############################################################################
##############################################################################



install for i386

* installing *source* package 'arrayMvout' ...
** using staged installation
** R
** data
** inst
** byte-compile and prepare package for lazy loading
No methods found in package 'RSQLite' for request: 'dbListFields' when loading 'lumi'
** help
*** installing help indices
  converting help for package 'arrayMvout'
    finding HTML links ... done
    ArrayOutliers-methods                   html  
    ArrayOutliers                           html  
    arrOutStruct-class                      html  
** building package indices
** installing vignettes
** testing if installed package can be loaded from temporary location
No methods found in package 'RSQLite' for request: 'dbListFields' when loading 'lumi'
** testing if installed package can be loaded from final location
No methods found in package 'RSQLite' for request: 'dbListFields' when loading 'lumi'
** testing if installed package keeps a record of temporary installation path

install for x64

* installing *source* package 'arrayMvout' ...
** testing if installed package can be loaded
No methods found in package 'RSQLite' for request: 'dbListFields' when loading 'lumi'
* MD5 sums
packaged installation of 'arrayMvout' as arrayMvout_1.51.0.zip
* DONE (arrayMvout)