Index of /checkResults/3.14/bioc-LATEST/arrayMvout/raw-results/nebbiolo2

[ICO]NameLast modifiedSizeDescription

[DIR]Parent Directory  -  
[TXT]buildsrc-out.txt27-Jan-2022 03:05 881  
[   ]buildsrc-summary.dcf27-Jan-2022 03:05 426  
[TXT]checksrc-out.txt27-Jan-2022 03:05 4.2K 
[   ]checksrc-summary.dcf27-Jan-2022 03:05 436  
[TXT]install-out.txt27-Jan-2022 03:05 1.2K 
[   ]install-summary.dcf27-Jan-2022 03:05 265