Index of /checkResults/3.14/bioc-LATEST/arrayMvout/raw-results/machv2

[ICO]NameLast modifiedSizeDescription

[DIR]Parent Directory  -  
[TXT]buildbin-out.txt22-Jan-2022 03:07 1.5K 
[   ]buildbin-summary.dcf22-Jan-2022 03:07 548  
[TXT]buildsrc-out.txt22-Jan-2022 03:07 891  
[   ]buildsrc-summary.dcf22-Jan-2022 03:07 436  
[TXT]checksrc-out.txt22-Jan-2022 03:07 4.3K 
[   ]checksrc-summary.dcf22-Jan-2022 03:07 456  
[TXT]install-out.txt22-Jan-2022 03:07 1.3K 
[   ]install-summary.dcf22-Jan-2022 03:07 275