Back to Multiple platform build/check report for BioC 3.14
[A]BCDEFGHIJKLMNOPQRSTUVWXYZ

This page was generated on 2021-10-20 12:04:36 -0400 (Wed, 20 Oct 2021).

INSTALL results for aroma.light on nebbiolo2

To the developers/maintainers of the aroma.light package:
- Please allow up to 24 hours (and sometimes 48 hours) for your latest push to git@git.bioconductor.org:packages/aroma.light.git to
reflect on this report. See How and When does the builder pull? When will my changes propagate? here for more information.
- Make sure to use the following settings in order to reproduce any error or warning you see on this page.

raw results

Package 77/2072HostnameOS / ArchINSTALLBUILDCHECKBUILD BIN
aroma.light 3.23.1  (landing page)
Henrik Bengtsson
Snapshot Date: 2021-10-19 14:50:04 -0400 (Tue, 19 Oct 2021)
git_url: https://git.bioconductor.org/packages/aroma.light
git_branch: master
git_last_commit: 1b3dc46
git_last_commit_date: 2021-08-19 07:30:58 -0400 (Thu, 19 Aug 2021)
nebbiolo2Linux (Ubuntu 20.04.2 LTS) / x86_64  OK    OK    OK  UNNEEDED, same version is already published
riesling1Windows Server 2019 Standard / x64  OK    OK    OK    OK  UNNEEDED, same version is already published
merida1macOS 10.14.6 Mojave / x86_64  OK    OK    OK    OK  UNNEEDED, same version is already published

Summary

Package: aroma.light
Version: 3.23.1
Command: /home/biocbuild/bbs-3.14-bioc/R/bin/R CMD INSTALL aroma.light
StartedAt: 2021-10-19 16:05:46 -0400 (Tue, 19 Oct 2021)
EndedAt: 2021-10-19 16:05:58 -0400 (Tue, 19 Oct 2021)
EllapsedTime: 11.9 seconds
RetCode: 0
Status:   OK  

Command output

##############################################################################
##############################################################################
###
### Running command:
###
###   /home/biocbuild/bbs-3.14-bioc/R/bin/R CMD INSTALL aroma.light
###
##############################################################################
##############################################################################


* installing to library ‘/home/biocbuild/bbs-3.14-bioc/R/library’
* installing *source* package ‘aroma.light’ ...
** using staged installation
** R
** inst
** byte-compile and prepare package for lazy loading
** help
*** installing help indices
** building package indices
** testing if installed package can be loaded from temporary location
** testing if installed package can be loaded from final location
** testing if installed package keeps a record of temporary installation path
* DONE (aroma.light)