Back to Multiple platform build/check report for BioC 3.14
[A]BCDEFGHIJKLMNOPQRSTUVWXYZ

This page was generated on 2021-10-25 14:06:05 -0400 (Mon, 25 Oct 2021).

BUILD BIN results for appreci8R on riesling1

To the developers/maintainers of the appreci8R package:
- Please allow up to 24 hours (and sometimes 48 hours) for your latest push to git@git.bioconductor.org:packages/appreci8R.git to
reflect on this report. See How and When does the builder pull? When will my changes propagate? here for more information.
- Make sure to use the following settings in order to reproduce any error or warning you see on this page.

raw results

Package 76/2083HostnameOS / ArchINSTALLBUILDCHECKBUILD BIN
appreci8R 1.11.1  (landing page)
Sarah Sandmann
Snapshot Date: 2021-10-24 14:50:04 -0400 (Sun, 24 Oct 2021)
git_url: https://git.bioconductor.org/packages/appreci8R
git_branch: master
git_last_commit: 20e44b5
git_last_commit_date: 2021-07-28 09:40:55 -0400 (Wed, 28 Jul 2021)
nebbiolo2Linux (Ubuntu 20.04.2 LTS) / x86_64  OK    OK    OK  UNNEEDED, same version is already published
riesling1Windows Server 2019 Standard / x64  OK    OK    OK    OK  UNNEEDED, same version is already published
merida1macOS 10.14.6 Mojave / x86_64  OK    OK    OK    OK  UNNEEDED, same version is already published
machv2macOS 10.14.6 Mojave / x86_64  OK    OK    OK    OK  

Summary

Package: appreci8R
Version: 1.11.1
Command: rm -rf appreci8R.buildbin-libdir && mkdir appreci8R.buildbin-libdir && D:\biocbuild\bbs-3.14-bioc\R\bin\R.exe CMD INSTALL --merge-multiarch --build --library=appreci8R.buildbin-libdir appreci8R_1.11.1.tar.gz
StartedAt: 2021-10-25 04:26:47 -0400 (Mon, 25 Oct 2021)
EndedAt: 2021-10-25 04:30:46 -0400 (Mon, 25 Oct 2021)
EllapsedTime: 239.1 seconds
RetCode: 0
Status:   OK  
PackageFile: appreci8R_1.11.1.zip
PackageFileSize: 1.417 MiB

Command output

##############################################################################
##############################################################################
###
### Running command:
###
###   rm -rf appreci8R.buildbin-libdir && mkdir appreci8R.buildbin-libdir && D:\biocbuild\bbs-3.14-bioc\R\bin\R.exe CMD INSTALL --merge-multiarch --build --library=appreci8R.buildbin-libdir appreci8R_1.11.1.tar.gz
###
##############################################################################
##############################################################################



install for i386

* installing *source* package 'appreci8R' ...
** using staged installation
** R
** inst
** byte-compile and prepare package for lazy loading
** help
*** installing help indices
  converting help for package 'appreci8R'
    finding HTML links ... done
    annotate                                html  
    appreci8R-package                       html  
    appreci8Rshiny                          html  
    combineOutput                           html  
    determineCharacteristics                html  
    evaluateCovAndBQ                        html  
    filterTarget                            html  
    finalFiltration                         html  
    normalize                               html  
** building package indices
** installing vignettes
** testing if installed package can be loaded from temporary location
** testing if installed package can be loaded from final location
** testing if installed package keeps a record of temporary installation path

install for x64

* installing *source* package 'appreci8R' ...
** testing if installed package can be loaded
* MD5 sums
packaged installation of 'appreci8R' as appreci8R_1.11.1.zip
* DONE (appreci8R)