Back to Multiple platform build/check report for BioC 3.14
[A]BCDEFGHIJKLMNOPQRSTUVWXYZ

This page was generated on 2021-10-23 14:06:52 -0400 (Sat, 23 Oct 2021).

BUILD results for apeglm on merida1

To the developers/maintainers of the apeglm package:
- Please allow up to 24 hours (and sometimes 48 hours) for your latest push to git@git.bioconductor.org:packages/apeglm.git to
reflect on this report. See How and When does the builder pull? When will my changes propagate? here for more information.
- Make sure to use the following settings in order to reproduce any error or warning you see on this page.

raw results

Package 75/2083HostnameOS / ArchINSTALLBUILDCHECKBUILD BIN
apeglm 1.15.0  (landing page)
Anqi Zhu
Snapshot Date: 2021-10-22 14:50:11 -0400 (Fri, 22 Oct 2021)
git_url: https://git.bioconductor.org/packages/apeglm
git_branch: master
git_last_commit: 3014871
git_last_commit_date: 2021-05-19 12:30:01 -0400 (Wed, 19 May 2021)
nebbiolo2Linux (Ubuntu 20.04.2 LTS) / x86_64  OK    OK    OK  UNNEEDED, same version is already published
riesling1Windows Server 2019 Standard / x64  OK    OK    OK    OK  UNNEEDED, same version is already published
merida1macOS 10.14.6 Mojave / x86_64  OK    OK    OK    OK  UNNEEDED, same version is already published

Summary

Package: apeglm
Version: 1.15.0
Command: /Library/Frameworks/R.framework/Resources/bin/R CMD build --keep-empty-dirs --no-resave-data apeglm
StartedAt: 2021-10-22 18:29:33 -0400 (Fri, 22 Oct 2021)
EndedAt: 2021-10-22 18:31:44 -0400 (Fri, 22 Oct 2021)
EllapsedTime: 131.1 seconds
RetCode: 0
Status:   OK  
PackageFile: apeglm_1.15.0.tar.gz
PackageFileSize: 1.034 MiB

Command output

##############################################################################
##############################################################################
###
### Running command:
###
###   /Library/Frameworks/R.framework/Resources/bin/R CMD build --keep-empty-dirs --no-resave-data apeglm
###
##############################################################################
##############################################################################


* checking for file ‘apeglm/DESCRIPTION’ ... OK
* preparing ‘apeglm’:
* checking DESCRIPTION meta-information ... OK
* cleaning src
* installing the package to build vignettes
* creating vignettes ... OK
* cleaning src
* checking for LF line-endings in source and make files and shell scripts
* checking for empty or unneeded directories
Omitted ‘LazyData’ from DESCRIPTION
* building ‘apeglm_1.15.0.tar.gz’