Back to Multiple platform build/check report for BioC 3.14
[A]BCDEFGHIJKLMNOPQRSTUVWXYZ

This page was generated on 2021-11-29 15:05:46 -0500 (Mon, 29 Nov 2021).

BUILD results for apeglm on machv2

To the developers/maintainers of the apeglm package:
- Please allow up to 24 hours (and sometimes 48 hours) for your latest push to git@git.bioconductor.org:packages/apeglm.git to
reflect on this report. See How and When does the builder pull? When will my changes propagate? here for more information.
- Make sure to use the following settings in order to reproduce any error or warning you see on this page.

raw results

Package 75/2083HostnameOS / ArchINSTALLBUILDCHECKBUILD BIN
apeglm 1.16.0  (landing page)
Anqi Zhu
Snapshot Date: 2021-11-28 04:15:06 -0500 (Sun, 28 Nov 2021)
git_url: https://git.bioconductor.org/packages/apeglm
git_branch: RELEASE_3_14
git_last_commit: 0d599df
git_last_commit_date: 2021-10-26 12:37:46 -0500 (Tue, 26 Oct 2021)
nebbiolo2Linux (Ubuntu 20.04.3 LTS) / x86_64  OK    OK    OK  UNNEEDED, same version is already published
tokay2Windows Server 2012 R2 Standard / x64  OK    OK    OK    OK  UNNEEDED, same version is already published
machv2macOS 10.14.6 Mojave / x86_64  OK    OK    OK    OK  UNNEEDED, same version is already published

Summary

Package: apeglm
Version: 1.16.0
Command: /Library/Frameworks/R.framework/Resources/bin/R CMD build --keep-empty-dirs --no-resave-data apeglm
StartedAt: 2021-11-28 07:35:29 -0500 (Sun, 28 Nov 2021)
EndedAt: 2021-11-28 07:37:38 -0500 (Sun, 28 Nov 2021)
EllapsedTime: 129.1 seconds
RetCode: 0
Status:   OK  
PackageFile: apeglm_1.16.0.tar.gz
PackageFileSize: 1.034 MiB

Command output

##############################################################################
##############################################################################
###
### Running command:
###
###   /Library/Frameworks/R.framework/Resources/bin/R CMD build --keep-empty-dirs --no-resave-data apeglm
###
##############################################################################
##############################################################################


* checking for file ‘apeglm/DESCRIPTION’ ... OK
* preparing ‘apeglm’:
* checking DESCRIPTION meta-information ... OK
* cleaning src
* installing the package to build vignettes
* creating vignettes ... OK
* cleaning src
* checking for LF line-endings in source and make files and shell scripts
* checking for empty or unneeded directories
Omitted ‘LazyData’ from DESCRIPTION
* building ‘apeglm_1.16.0.tar.gz’