Back to Multiple platform build/check report for BioC 3.14
[A]BCDEFGHIJKLMNOPQRSTUVWXYZ

This page was generated on 2021-10-19 12:04:47 -0400 (Tue, 19 Oct 2021).

INSTALL results for apComplex on riesling1

To the developers/maintainers of the apComplex package:
- Please allow up to 24 hours (and sometimes 48 hours) for your latest push to git@git.bioconductor.org:packages/apComplex.git to
reflect on this report. See How and When does the builder pull? When will my changes propagate? here for more information.
- Make sure to use the following settings in order to reproduce any error or warning you see on this page.

raw results

Package 74/2060HostnameOS / ArchINSTALLBUILDCHECKBUILD BIN
apComplex 2.59.0  (landing page)
Denise Scholtens
Snapshot Date: 2021-10-18 14:50:10 -0400 (Mon, 18 Oct 2021)
git_url: https://git.bioconductor.org/packages/apComplex
git_branch: master
git_last_commit: 0149fb2
git_last_commit_date: 2021-05-19 11:35:18 -0400 (Wed, 19 May 2021)
nebbiolo2Linux (Ubuntu 20.04.2 LTS) / x86_64  OK    OK    OK  UNNEEDED, same version is already published
riesling1Windows Server 2019 Standard / x64  OK    OK    OK    OK  UNNEEDED, same version is already published
merida1macOS 10.14.6 Mojave / x86_64  OK    OK    OK    OK  UNNEEDED, same version is already published

Summary

Package: apComplex
Version: 2.59.0
Command: C:\cygwin\bin\curl.exe -O http://155.52.207.166/BBS/3.14/bioc/src/contrib/apComplex_2.59.0.tar.gz && rm -rf apComplex.buildbin-libdir && mkdir apComplex.buildbin-libdir && D:\biocbuild\bbs-3.14-bioc\R\bin\R.exe CMD INSTALL --merge-multiarch --build --library=apComplex.buildbin-libdir apComplex_2.59.0.tar.gz && D:\biocbuild\bbs-3.14-bioc\R\bin\R.exe CMD INSTALL apComplex_2.59.0.zip && rm apComplex_2.59.0.tar.gz apComplex_2.59.0.zip
StartedAt: 2021-10-18 17:27:16 -0400 (Mon, 18 Oct 2021)
EndedAt: 2021-10-18 17:30:19 -0400 (Mon, 18 Oct 2021)
EllapsedTime: 182.8 seconds
RetCode: 0
Status:   OK  

Command output

##############################################################################
##############################################################################
###
### Running command:
###
###   C:\cygwin\bin\curl.exe -O http://155.52.207.166/BBS/3.14/bioc/src/contrib/apComplex_2.59.0.tar.gz && rm -rf apComplex.buildbin-libdir && mkdir apComplex.buildbin-libdir && D:\biocbuild\bbs-3.14-bioc\R\bin\R.exe CMD INSTALL --merge-multiarch --build --library=apComplex.buildbin-libdir apComplex_2.59.0.tar.gz && D:\biocbuild\bbs-3.14-bioc\R\bin\R.exe CMD INSTALL apComplex_2.59.0.zip && rm apComplex_2.59.0.tar.gz apComplex_2.59.0.zip
###
##############################################################################
##############################################################################


  % Total    % Received % Xferd  Average Speed   Time    Time     Time  Current
                                 Dload  Upload   Total   Spent    Left  Speed

  0     0    0     0    0     0      0      0 --:--:-- --:--:-- --:--:--     0
  0  472k    0  1137    0     0  14037      0  0:00:34 --:--:--  0:00:34 13865
100  472k  100  472k    0     0  1789k      0 --:--:-- --:--:-- --:--:-- 1783k

install for i386

* installing *source* package 'apComplex' ...
** using staged installation
** R
** data
** byte-compile and prepare package for lazy loading
** help
*** installing help indices
  converting help for package 'apComplex'
    finding HTML links ... done
    FilteredEstimates                       html  
    HMSPCI                                  html  
    Krogan                                  html  
    LCjoin                                  html  
    MBMEcHMSPCI                             html  
    MBMEcKrogan                             html  
    MBMEcTAP                                html  
    TAP                                     html  
    apEX                                    html  
    bhmaxSubgraph                           html  
    findComplexes                           html  
    gavinBP2006                             html  
    kroganBPMat2006                         html  
    mergeComplexes                          html  
    plotComplex                             html  
    sortComplexes                           html  
    yNameTAP                                html  
    yTAP                                    html  
** building package indices
** installing vignettes
** testing if installed package can be loaded from temporary location
** testing if installed package can be loaded from final location
** testing if installed package keeps a record of temporary installation path

install for x64

* installing *source* package 'apComplex' ...
** testing if installed package can be loaded
* MD5 sums
packaged installation of 'apComplex' as apComplex_2.59.0.zip
* DONE (apComplex)
* installing to library 'D:/biocbuild/bbs-3.14-bioc/R/library'
package 'apComplex' successfully unpacked and MD5 sums checked