Back to Multiple platform build/check report for BioC 3.14
[A]BCDEFGHIJKLMNOPQRSTUVWXYZ

This page was generated on 2021-12-06 13:04:52 -0500 (Mon, 06 Dec 2021).

CHECK results for antiProfiles on nebbiolo2

To the developers/maintainers of the antiProfiles package:
- Please allow up to 24 hours (and sometimes 48 hours) for your latest push to git@git.bioconductor.org:packages/antiProfiles.git to
reflect on this report. See How and When does the builder pull? When will my changes propagate? here for more information.
- Make sure to use the following settings in order to reproduce any error or warning you see on this page.

raw results

Package 69/2083HostnameOS / ArchINSTALLBUILDCHECKBUILD BIN
antiProfiles 1.34.0  (landing page)
Hector Corrada Bravo
Snapshot Date: 2021-12-05 01:55:05 -0500 (Sun, 05 Dec 2021)
git_url: https://git.bioconductor.org/packages/antiProfiles
git_branch: RELEASE_3_14
git_last_commit: b8869a9
git_last_commit_date: 2021-10-26 12:07:48 -0500 (Tue, 26 Oct 2021)
nebbiolo2Linux (Ubuntu 20.04.3 LTS) / x86_64  OK    OK    OK  UNNEEDED, same version is already published
tokay2Windows Server 2012 R2 Standard / x64  OK    OK    OK    OK  UNNEEDED, same version is already published
machv2macOS 10.14.6 Mojave / x86_64  OK    OK    OK    OK  UNNEEDED, same version is already published

Summary

Package: antiProfiles
Version: 1.34.0
Command: /home/biocbuild/bbs-3.14-bioc/R/bin/R CMD check --install=check:antiProfiles.install-out.txt --library=/home/biocbuild/bbs-3.14-bioc/R/library --no-vignettes --timings antiProfiles_1.34.0.tar.gz
StartedAt: 2021-12-05 06:53:28 -0500 (Sun, 05 Dec 2021)
EndedAt: 2021-12-05 06:53:48 -0500 (Sun, 05 Dec 2021)
EllapsedTime: 19.6 seconds
RetCode: 0
Status:   OK  
CheckDir: antiProfiles.Rcheck
Warnings: 0

Command output

##############################################################################
##############################################################################
###
### Running command:
###
###   /home/biocbuild/bbs-3.14-bioc/R/bin/R CMD check --install=check:antiProfiles.install-out.txt --library=/home/biocbuild/bbs-3.14-bioc/R/library --no-vignettes --timings antiProfiles_1.34.0.tar.gz
###
##############################################################################
##############################################################################


* using log directory ‘/home/biocbuild/bbs-3.14-bioc/meat/antiProfiles.Rcheck’
* using R version 4.1.2 (2021-11-01)
* using platform: x86_64-pc-linux-gnu (64-bit)
* using session charset: UTF-8
* using option ‘--no-vignettes’
* checking for file ‘antiProfiles/DESCRIPTION’ ... OK
* this is package ‘antiProfiles’ version ‘1.34.0’
* checking package namespace information ... OK
* checking package dependencies ... OK
* checking if this is a source package ... OK
* checking if there is a namespace ... OK
* checking for hidden files and directories ... OK
* checking for portable file names ... OK
* checking for sufficient/correct file permissions ... OK
* checking whether package ‘antiProfiles’ can be installed ... OK
* checking installed package size ... OK
* checking package directory ... OK
* checking ‘build’ directory ... OK
* checking DESCRIPTION meta-information ... OK
* checking top-level files ... OK
* checking for left-over files ... OK
* checking index information ... OK
* checking package subdirectories ... OK
* checking R files for non-ASCII characters ... OK
* checking R files for syntax errors ... OK
* checking whether the package can be loaded ... OK
* checking whether the package can be loaded with stated dependencies ... OK
* checking whether the package can be unloaded cleanly ... OK
* checking whether the namespace can be loaded with stated dependencies ... OK
* checking whether the namespace can be unloaded cleanly ... OK
* checking dependencies in R code ... OK
* checking S3 generic/method consistency ... OK
* checking replacement functions ... OK
* checking foreign function calls ... OK
* checking R code for possible problems ... NOTE
ev: no visible global function definition for ‘predict’
ev: no visible global function definition for ‘smoothScatter’
ev : f1: no visible global function definition for ‘predict’
ev: no visible global function definition for ‘curve’
Undefined global functions or variables:
  curve predict smoothScatter
Consider adding
  importFrom("graphics", "curve", "smoothScatter")
  importFrom("stats", "predict")
to your NAMESPACE file.
* checking Rd files ... OK
* checking Rd metadata ... OK
* checking Rd cross-references ... OK
* checking for missing documentation entries ... OK
* checking for code/documentation mismatches ... OK
* checking Rd \usage sections ... OK
* checking Rd contents ... OK
* checking for unstated dependencies in examples ... OK
* checking files in ‘vignettes’ ... OK
* checking examples ... OK
* checking for unstated dependencies in vignettes ... OK
* checking package vignettes in ‘inst/doc’ ... OK
* checking running R code from vignettes ... SKIPPED
* checking re-building of vignette outputs ... SKIPPED
* checking PDF version of manual ... OK
* DONE

Status: 1 NOTE
See
  ‘/home/biocbuild/bbs-3.14-bioc/meat/antiProfiles.Rcheck/00check.log’
for details.



Installation output

antiProfiles.Rcheck/00install.out

##############################################################################
##############################################################################
###
### Running command:
###
###   /home/biocbuild/bbs-3.14-bioc/R/bin/R CMD INSTALL antiProfiles
###
##############################################################################
##############################################################################


* installing to library ‘/home/biocbuild/bbs-3.14-bioc/R/library’
* installing *source* package ‘antiProfiles’ ...
** using staged installation
** R
** inst
** byte-compile and prepare package for lazy loading
** help
*** installing help indices
** building package indices
** installing vignettes
** testing if installed package can be loaded from temporary location
** testing if installed package can be loaded from final location
** testing if installed package keeps a record of temporary installation path
* DONE (antiProfiles)

Tests output


Example timings

antiProfiles.Rcheck/antiProfiles-Ex.timings

nameusersystemelapsed
antiprofile-class0.5410.0400.585
antiprofilestats-class0.1940.0400.234
apCount-methods0.0820.0200.101
apReorder-methods0.0900.0080.098
apStats0.0790.0000.079
buildAntiProfile-methods0.0780.0040.082
ev0.0710.0040.075
tissueSpecAntiprofile-class0.0920.0040.096