Back to Multiple platform build/check report for BioC 3.14
[A]BCDEFGHIJKLMNOPQRSTUVWXYZ

This page was generated on 2021-12-06 13:05:49 -0500 (Mon, 06 Dec 2021).

BUILD results for anota2seq on machv2

To the developers/maintainers of the anota2seq package:
- Please allow up to 24 hours (and sometimes 48 hours) for your latest push to git@git.bioconductor.org:packages/anota2seq.git to
reflect on this report. See How and When does the builder pull? When will my changes propagate? here for more information.
- Make sure to use the following settings in order to reproduce any error or warning you see on this page.

raw results

Package 68/2083HostnameOS / ArchINSTALLBUILDCHECKBUILD BIN
anota2seq 1.16.0  (landing page)
Christian Oertlin , Julie Lorent
Snapshot Date: 2021-12-05 01:55:05 -0500 (Sun, 05 Dec 2021)
git_url: https://git.bioconductor.org/packages/anota2seq
git_branch: RELEASE_3_14
git_last_commit: 9340b34
git_last_commit_date: 2021-10-26 12:38:52 -0500 (Tue, 26 Oct 2021)
nebbiolo2Linux (Ubuntu 20.04.3 LTS) / x86_64  OK    OK    OK  UNNEEDED, same version is already published
tokay2Windows Server 2012 R2 Standard / x64  OK    OK    OK    OK  UNNEEDED, same version is already published
machv2macOS 10.14.6 Mojave / x86_64  OK    OK    OK    OK  UNNEEDED, same version is already published

Summary

Package: anota2seq
Version: 1.16.0
Command: /Library/Frameworks/R.framework/Resources/bin/R CMD build --keep-empty-dirs --no-resave-data anota2seq
StartedAt: 2021-12-05 05:45:28 -0500 (Sun, 05 Dec 2021)
EndedAt: 2021-12-05 05:49:02 -0500 (Sun, 05 Dec 2021)
EllapsedTime: 214.4 seconds
RetCode: 0
Status:   OK  
PackageFile: anota2seq_1.16.0.tar.gz
PackageFileSize: 999.1 KiB

Command output

##############################################################################
##############################################################################
###
### Running command:
###
###   /Library/Frameworks/R.framework/Resources/bin/R CMD build --keep-empty-dirs --no-resave-data anota2seq
###
##############################################################################
##############################################################################


* checking for file ‘anota2seq/DESCRIPTION’ ... OK
* preparing ‘anota2seq’:
* checking DESCRIPTION meta-information ... OK
* installing the package to build vignettes
* creating vignettes ... OK
* checking for LF line-endings in source and make files and shell scripts
* checking for empty or unneeded directories
* building ‘anota2seq_1.16.0.tar.gz’