Back to Multiple platform build/check report for BioC 3.14
[A]BCDEFGHIJKLMNOPQRSTUVWXYZ

This page was generated on 2021-10-23 14:06:18 -0400 (Sat, 23 Oct 2021).

BUILD results for annotatr on riesling1

To the developers/maintainers of the annotatr package:
- Please allow up to 24 hours (and sometimes 48 hours) for your latest push to git@git.bioconductor.org:packages/annotatr.git to
reflect on this report. See How and When does the builder pull? When will my changes propagate? here for more information.
- Make sure to use the following settings in order to reproduce any error or warning you see on this page.

raw results

Package 66/2083HostnameOS / ArchINSTALLBUILDCHECKBUILD BIN
annotatr 1.19.2  (landing page)
Raymond G. Cavalcante
Snapshot Date: 2021-10-22 14:50:11 -0400 (Fri, 22 Oct 2021)
git_url: https://git.bioconductor.org/packages/annotatr
git_branch: master
git_last_commit: 9e33501
git_last_commit_date: 2021-10-21 14:58:34 -0400 (Thu, 21 Oct 2021)
nebbiolo2Linux (Ubuntu 20.04.2 LTS) / x86_64  OK    OK    OK  YES
riesling1Windows Server 2019 Standard / x64  OK    OK    OK    OK  YES
merida1macOS 10.14.6 Mojave / x86_64  OK    OK    OK    OK  YES

Summary

Package: annotatr
Version: 1.19.2
Command: chmod a+r annotatr -R && D:\biocbuild\bbs-3.14-bioc\R\bin\R.exe CMD build --keep-empty-dirs --no-resave-data annotatr
StartedAt: 2021-10-22 19:26:44 -0400 (Fri, 22 Oct 2021)
EndedAt: 2021-10-22 19:31:26 -0400 (Fri, 22 Oct 2021)
EllapsedTime: 282.8 seconds
RetCode: 0
Status:   OK  
PackageFile: annotatr_1.19.2.tar.gz
PackageFileSize: 1.992 MiB

Command output

##############################################################################
##############################################################################
###
### Running command:
###
###   chmod a+r annotatr -R && D:\biocbuild\bbs-3.14-bioc\R\bin\R.exe CMD build --keep-empty-dirs --no-resave-data annotatr
###
##############################################################################
##############################################################################


* checking for file 'annotatr/DESCRIPTION' ... OK
* preparing 'annotatr':
* checking DESCRIPTION meta-information ... OK
* installing the package to build vignettes
* creating vignettes ... OK
* checking for LF line-endings in source and make files and shell scripts
* checking for empty or unneeded directories
* building 'annotatr_1.19.2.tar.gz'