Back to Multiple platform build/check report for BioC 3.14
[A]BCDEFGHIJKLMNOPQRSTUVWXYZ

This page was generated on 2021-10-26 14:05:25 -0400 (Tue, 26 Oct 2021).

All results for package annotatr

To the developers/maintainers of the annotatr package:
- Please allow up to 24 hours (and sometimes 48 hours) for your latest push to git@git.bioconductor.org:packages/annotatr.git to
reflect on this report. See How and When does the builder pull? When will my changes propagate? here for more information.
- Make sure to use the following settings in order to reproduce any error or warning you see on this page.

raw results

Package 66/2083HostnameOS / ArchINSTALLBUILDCHECKBUILD BIN
annotatr 1.19.2  (landing page)
Raymond G. Cavalcante
Snapshot Date: 2021-10-25 14:50:11 -0400 (Mon, 25 Oct 2021)
git_url: https://git.bioconductor.org/packages/annotatr
git_branch: master
git_last_commit: 9e33501
git_last_commit_date: 2021-10-21 14:58:34 -0400 (Thu, 21 Oct 2021)
nebbiolo2Linux (Ubuntu 20.04.2 LTS) / x86_64  OK    OK    OK  UNNEEDED, same version is already published
riesling1Windows Server 2019 Standard / x64  OK    OK    OK    OK  UNNEEDED, same version is already published
merida1macOS 10.14.6 Mojave / x86_64  OK    OK    OK    OK  UNNEEDED, same version is already published
machv2macOS 10.14.6 Mojave / x86_64  OK    OK    OK    OK  

Results for Bioconductor software packages that depend directly on package annotatr

QUICK STATSOS / ArchINSTALLBUILDCHECKBUILD BIN
nebbiolo2Linux (Ubuntu 20.04.2 LTS) / x86_64
002
002
0011
riesling1Windows Server 2019 Standard / x64
002
002
0011
002
merida1macOS 10.14.6 Mojave / x86_64
002
002
0011
002
machv2macOS 10.14.6 Mojave / x86_64
002
002
0011
002
Package 1/2HostnameOS / ArchINSTALLBUILDCHECKBUILD BIN
dmrseq 1.13.0  (landing page)
Keegan Korthauer
git_last_commit: 1f13e60
git_last_commit_date: 2021-05-19 12:33:43 -0400
nebbiolo2Linux (Ubuntu 20.04.2 LTS) / x86_64  OK    OK    WARNINGS  UNNEEDED, same version is already published
riesling1Windows Server 2019 Standard / x64  OK    OK    WARNINGS    OK  UNNEEDED, same version is already published
merida1macOS 10.14.6 Mojave / x86_64  OK    OK    WARNINGS    OK  UNNEEDED, same version is already published
machv2macOS 10.14.6 Mojave / x86_64  OK    OK    WARNINGS    OK  
Package 2/2HostnameOS / ArchINSTALLBUILDCHECKBUILD BIN
scmeth 1.13.0  (landing page)
Divy Kangeyan
git_last_commit: 12409eb
git_last_commit_date: 2021-05-19 12:33:28 -0400
nebbiolo2Linux (Ubuntu 20.04.2 LTS) / x86_64  OK    OK    OK  UNNEEDED, same version is already published
riesling1Windows Server 2019 Standard / x64  OK    OK    OK    OK  UNNEEDED, same version is already published
merida1macOS 10.14.6 Mojave / x86_64  OK    OK    OK    OK  UNNEEDED, same version is already published
machv2macOS 10.14.6 Mojave / x86_64  OK    OK    OK    OK