Back to Multiple platform build/check report for BioC 3.14
[A]BCDEFGHIJKLMNOPQRSTUVWXYZ

This page was generated on 2021-10-23 14:06:18 -0400 (Sat, 23 Oct 2021).

INSTALL results for annotationTools on riesling1

To the developers/maintainers of the annotationTools package:
- Please allow up to 24 hours (and sometimes 48 hours) for your latest push to git@git.bioconductor.org:packages/annotationTools.git to
reflect on this report. See How and When does the builder pull? When will my changes propagate? here for more information.
- Make sure to use the following settings in order to reproduce any error or warning you see on this page.

raw results

Package 65/2083HostnameOS / ArchINSTALLBUILDCHECKBUILD BIN
annotationTools 1.67.0  (landing page)
Alexandre Kuhn
Snapshot Date: 2021-10-22 14:50:11 -0400 (Fri, 22 Oct 2021)
git_url: https://git.bioconductor.org/packages/annotationTools
git_branch: master
git_last_commit: 12c30a3
git_last_commit_date: 2021-05-19 11:38:49 -0400 (Wed, 19 May 2021)
nebbiolo2Linux (Ubuntu 20.04.2 LTS) / x86_64  OK    OK    OK  UNNEEDED, same version is already published
riesling1Windows Server 2019 Standard / x64  OK    OK    OK    OK  UNNEEDED, same version is already published
merida1macOS 10.14.6 Mojave / x86_64  OK    OK    OK    OK  UNNEEDED, same version is already published

Summary

Package: annotationTools
Version: 1.67.0
Command: C:\cygwin\bin\curl.exe -O http://155.52.207.166/BBS/3.14/bioc/src/contrib/annotationTools_1.67.0.tar.gz && rm -rf annotationTools.buildbin-libdir && mkdir annotationTools.buildbin-libdir && D:\biocbuild\bbs-3.14-bioc\R\bin\R.exe CMD INSTALL --merge-multiarch --build --library=annotationTools.buildbin-libdir annotationTools_1.67.0.tar.gz && D:\biocbuild\bbs-3.14-bioc\R\bin\R.exe CMD INSTALL annotationTools_1.67.0.zip && rm annotationTools_1.67.0.tar.gz annotationTools_1.67.0.zip
StartedAt: 2021-10-22 16:49:08 -0400 (Fri, 22 Oct 2021)
EndedAt: 2021-10-22 16:52:09 -0400 (Fri, 22 Oct 2021)
EllapsedTime: 181.0 seconds
RetCode: 0
Status:   OK  

Command output

##############################################################################
##############################################################################
###
### Running command:
###
###   C:\cygwin\bin\curl.exe -O http://155.52.207.166/BBS/3.14/bioc/src/contrib/annotationTools_1.67.0.tar.gz && rm -rf annotationTools.buildbin-libdir && mkdir annotationTools.buildbin-libdir && D:\biocbuild\bbs-3.14-bioc\R\bin\R.exe CMD INSTALL --merge-multiarch --build --library=annotationTools.buildbin-libdir annotationTools_1.67.0.tar.gz && D:\biocbuild\bbs-3.14-bioc\R\bin\R.exe CMD INSTALL annotationTools_1.67.0.zip && rm annotationTools_1.67.0.tar.gz annotationTools_1.67.0.zip
###
##############################################################################
##############################################################################


  % Total    % Received % Xferd  Average Speed   Time    Time     Time  Current
                                 Dload  Upload   Total   Spent    Left  Speed

  0     0    0     0    0     0      0      0 --:--:-- --:--:-- --:--:--     0
100  125k  100  125k    0     0   655k      0 --:--:-- --:--:-- --:--:--  655k

install for i386

* installing *source* package 'annotationTools' ...
** using staged installation
** R
** data
** inst
** byte-compile and prepare package for lazy loading
** help
*** installing help indices
  converting help for package 'annotationTools'
    finding HTML links ... done
    HG-U133_Plus_2_annot_part               html  
    HG-U133_Plus_2_ortholog_part            html  
    Mouse430_2_annot_part                   html  
    annot_HGU133A                           html  
    compactList                             html  
    gene_orthologs_part                     html  
    getANNOTATION                           html  
    getGENEID                               html  
    getGENEONTOLOGY                         html  
    getGENESYMBOL                           html  
    getGENETITLE                            html  
    getHOMOLOG                              html  
    getMULTIANNOTATION                      html  
    getOrthologousProbesets                 html  
    getPROBESET                             html  
    homologene_part                         html  
    listToCharacterVector                   html  
    ortho                                   html  
    ps2ps                                   html  
    table_human                             html  
    table_mouse                             html  
** building package indices
** installing vignettes
** testing if installed package can be loaded from temporary location
** testing if installed package can be loaded from final location
** testing if installed package keeps a record of temporary installation path

install for x64

* installing *source* package 'annotationTools' ...
** testing if installed package can be loaded
* MD5 sums
packaged installation of 'annotationTools' as annotationTools_1.67.0.zip
* DONE (annotationTools)
* installing to library 'D:/biocbuild/bbs-3.14-bioc/R/library'
package 'annotationTools' successfully unpacked and MD5 sums checked