Back to Multiple platform build/check report for BioC 3.14
[A]BCDEFGHIJKLMNOPQRSTUVWXYZ

This page was generated on 2021-10-20 12:05:32 -0400 (Wed, 20 Oct 2021).

BUILD BIN results for annotate on merida1

To the developers/maintainers of the annotate package:
- Please allow up to 24 hours (and sometimes 48 hours) for your latest push to git@git.bioconductor.org:packages/annotate.git to
reflect on this report. See How and When does the builder pull? When will my changes propagate? here for more information.
- Make sure to use the following settings in order to reproduce any error or warning you see on this page.

raw results

Package 59/2072HostnameOS / ArchINSTALLBUILDCHECKBUILD BIN
annotate 1.71.0  (landing page)
Bioconductor Package Maintainer
Snapshot Date: 2021-10-19 14:50:04 -0400 (Tue, 19 Oct 2021)
git_url: https://git.bioconductor.org/packages/annotate
git_branch: master
git_last_commit: f4b8119
git_last_commit_date: 2021-05-19 11:32:35 -0400 (Wed, 19 May 2021)
nebbiolo2Linux (Ubuntu 20.04.2 LTS) / x86_64  OK    OK    OK  UNNEEDED, same version is already published
riesling1Windows Server 2019 Standard / x64  OK    OK    OK    OK  UNNEEDED, same version is already published
merida1macOS 10.14.6 Mojave / x86_64  OK    OK    OK    OK  UNNEEDED, same version is already published

Summary

Package: annotate
Version: 1.71.0
Command: rm -rf annotate.buildbin-libdir && mkdir annotate.buildbin-libdir && /Users/biocbuild/BBS/utils/build-universal.sh annotate_1.71.0.tar.gz /Library/Frameworks/R.framework/Resources/bin/R annotate.buildbin-libdir
StartedAt: 2021-10-20 10:58:23 -0400 (Wed, 20 Oct 2021)
EndedAt: 2021-10-20 10:59:24 -0400 (Wed, 20 Oct 2021)
EllapsedTime: 60.9 seconds
RetCode: 0
Status:   OK  
PackageFile: annotate_1.71.0.tgz
PackageFileSize: 1.984 MiB

Command output

##############################################################################
##############################################################################
###
### Running command:
###
###   rm -rf annotate.buildbin-libdir && mkdir annotate.buildbin-libdir && /Users/biocbuild/BBS/utils/build-universal.sh annotate_1.71.0.tar.gz /Library/Frameworks/R.framework/Resources/bin/R annotate.buildbin-libdir
###
##############################################################################
##############################################################################


>>>>>>> 
>>>>>>> INSTALLATION WITH 'R CMD INSTALL --preclean --no-multiarch --library=annotate.buildbin-libdir annotate_1.71.0.tar.gz'
>>>>>>> 

* installing *source* package ‘annotate’ ...
** using staged installation
** R
** data
** inst
** byte-compile and prepare package for lazy loading
** help
*** installing help indices
** building package indices
** installing vignettes
** testing if installed package can be loaded from temporary location
** testing if installed package can be loaded from final location
** testing if installed package keeps a record of temporary installation path
* DONE (annotate)