Back to Multiple platform build/check report for BioC 3.14
[A]BCDEFGHIJKLMNOPQRSTUVWXYZ

This page was generated on 2021-12-03 13:04:09 -0500 (Fri, 03 Dec 2021).

All results for package annotate

To the developers/maintainers of the annotate package:
- Please allow up to 24 hours (and sometimes 48 hours) for your latest push to git@git.bioconductor.org:packages/annotate.git to
reflect on this report. See How and When does the builder pull? When will my changes propagate? here for more information.
- Make sure to use the following settings in order to reproduce any error or warning you see on this page.

raw results

Package 59/2083HostnameOS / ArchINSTALLBUILDCHECKBUILD BIN
annotate 1.72.0  (landing page)
Bioconductor Package Maintainer
Snapshot Date: 2021-12-02 01:55:06 -0500 (Thu, 02 Dec 2021)
git_url: https://git.bioconductor.org/packages/annotate
git_branch: RELEASE_3_14
git_last_commit: 67ac76a
git_last_commit_date: 2021-10-26 11:45:29 -0500 (Tue, 26 Oct 2021)
nebbiolo2Linux (Ubuntu 20.04.3 LTS) / x86_64  OK    OK    OK  UNNEEDED, same version is already published
tokay2Windows Server 2012 R2 Standard / x64  OK    OK    OK    OK  UNNEEDED, same version is already published
machv2macOS 10.14.6 Mojave / x86_64  OK    OK    OK    OK  UNNEEDED, same version is already published

Results for Bioconductor software packages that depend directly on package annotate

QUICK STATSOS / ArchINSTALLBUILDCHECKBUILD BIN
nebbiolo2Linux (Ubuntu 20.04.3 LTS) / x86_64
0034
0232
10625
tokay2Windows Server 2012 R2 Standard / x64
0034
0232
00923
0032
machv2macOS 10.14.6 Mojave / x86_64
0034
0133
00825
0033
Package 1/34HostnameOS / ArchINSTALLBUILDCHECKBUILD BIN
CAFE 1.30.0  (landing page)
Sander Bollen
git_last_commit: 95b0e67
git_last_commit_date: 2021-10-26 12:12:15 -0500
nebbiolo2Linux (Ubuntu 20.04.3 LTS) / x86_64  OK    OK    WARNINGS  UNNEEDED, same version is already published
tokay2Windows Server 2012 R2 Standard / x64  OK    OK    WARNINGS    OK  UNNEEDED, same version is already published
machv2macOS 10.14.6 Mojave / x86_64  OK    OK    WARNINGS    OK  UNNEEDED, same version is already published
Package 2/34HostnameOS / ArchINSTALLBUILDCHECKBUILD BIN
Category 2.60.0  (landing page)
Bioconductor Package Maintainer
git_last_commit: 55210d8
git_last_commit_date: 2021-10-26 11:48:11 -0500
nebbiolo2Linux (Ubuntu 20.04.3 LTS) / x86_64  OK    OK    OK  UNNEEDED, same version is already published
tokay2Windows Server 2012 R2 Standard / x64  OK    OK    OK    OK  UNNEEDED, same version is already published
machv2macOS 10.14.6 Mojave / x86_64  OK    OK    OK    OK  UNNEEDED, same version is already published
Package 3/34HostnameOS / ArchINSTALLBUILDCHECKBUILD BIN
categoryCompare 1.38.0  (landing page)
Robert M. Flight
git_last_commit: 13d544a
git_last_commit_date: 2021-10-26 12:03:05 -0500
nebbiolo2Linux (Ubuntu 20.04.3 LTS) / x86_64  OK    OK    OK  UNNEEDED, same version is already published
tokay2Windows Server 2012 R2 Standard / x64  OK    OK    OK    OK  UNNEEDED, same version is already published
machv2macOS 10.14.6 Mojave / x86_64  OK    OK    OK    OK  UNNEEDED, same version is already published
Package 4/34HostnameOS / ArchINSTALLBUILDCHECKBUILD BIN
ChromHeatMap 1.48.0  (landing page)
Tim F. Rayner
git_last_commit: 488d509
git_last_commit_date: 2021-10-26 11:54:52 -0500
nebbiolo2Linux (Ubuntu 20.04.3 LTS) / x86_64  OK    OK    OK  UNNEEDED, same version is already published
tokay2Windows Server 2012 R2 Standard / x64  OK    OK    OK    OK  UNNEEDED, same version is already published
machv2macOS 10.14.6 Mojave / x86_64  OK    OK    OK    OK  UNNEEDED, same version is already published
Package 5/34HostnameOS / ArchINSTALLBUILDCHECKBUILD BIN
CNEr 1.30.0  (landing page)
Ge Tan
git_last_commit: e682f2a
git_last_commit_date: 2021-10-26 12:11:47 -0500
nebbiolo2Linux (Ubuntu 20.04.3 LTS) / x86_64  OK    OK    OK  UNNEEDED, same version is already published
tokay2Windows Server 2012 R2 Standard / x64  OK    OK    WARNINGS    OK  UNNEEDED, same version is already published
machv2macOS 10.14.6 Mojave / x86_64  OK    OK    WARNINGS    OK  UNNEEDED, same version is already published
Package 6/34HostnameOS / ArchINSTALLBUILDCHECKBUILD BIN
codelink 1.62.0  (landing page)
Diego Diez
git_last_commit: c6116c2
git_last_commit_date: 2021-10-26 11:49:04 -0500
nebbiolo2Linux (Ubuntu 20.04.3 LTS) / x86_64  OK    OK    OK  UNNEEDED, same version is already published
tokay2Windows Server 2012 R2 Standard / x64  OK    OK    OK    OK  UNNEEDED, same version is already published
machv2macOS 10.14.6 Mojave / x86_64  OK    OK    OK    OK  UNNEEDED, same version is already published
Package 7/34HostnameOS / ArchINSTALLBUILDCHECKBUILD BIN
debrowser 1.22.2  (landing page)
Alper Kucukural
git_last_commit: 227faa0
git_last_commit_date: 2021-11-08 12:41:29 -0500
nebbiolo2Linux (Ubuntu 20.04.3 LTS) / x86_64  OK    OK    OK  UNNEEDED, same version is already published
tokay2Windows Server 2012 R2 Standard / x64  OK    OK    OK    OK  UNNEEDED, same version is already published
machv2macOS 10.14.6 Mojave / x86_64  OK    OK    OK    OK  UNNEEDED, same version is already published
Package 8/34HostnameOS / ArchINSTALLBUILDCHECKBUILD BIN
DrugVsDisease 2.36.0  (landing page)
j. Saez-Rodriguez
git_last_commit: 06798d2
git_last_commit_date: 2021-10-26 12:06:31 -0500
nebbiolo2Linux (Ubuntu 20.04.3 LTS) / x86_64  OK    OK    OK  UNNEEDED, same version is already published
tokay2Windows Server 2012 R2 Standard / x64  OK    OK    OK    OK  UNNEEDED, same version is already published
machv2macOS 10.14.6 Mojave / x86_64  OK    OK    OK    OK  UNNEEDED, same version is already published
Package 9/34HostnameOS / ArchINSTALLBUILDCHECKBUILD BIN
GeneAnswers 2.36.0  (landing page)
Lei Huang and Gang Feng
git_last_commit: ada47cb
git_last_commit_date: 2021-10-26 11:54:49 -0500
nebbiolo2Linux (Ubuntu 20.04.3 LTS) / x86_64  OK    OK    TIMEOUT  
tokay2Windows Server 2012 R2 Standard / x64  OK    OK    WARNINGS    OK  UNNEEDED, same version is already published
machv2macOS 10.14.6 Mojave / x86_64  OK    OK    WARNINGS    OK  UNNEEDED, same version is already published
Package 10/34HostnameOS / ArchINSTALLBUILDCHECKBUILD BIN
genefilter 1.76.0  (landing page)
Bioconductor Package Maintainer
git_last_commit: 8d630fd
git_last_commit_date: 2021-10-26 11:45:31 -0500
nebbiolo2Linux (Ubuntu 20.04.3 LTS) / x86_64  OK    OK    WARNINGS  UNNEEDED, same version is already published
tokay2Windows Server 2012 R2 Standard / x64  OK    OK    WARNINGS    OK  UNNEEDED, same version is already published
machv2macOS 10.14.6 Mojave / x86_64  OK    OK    OK    OK  UNNEEDED, same version is already published
Package 11/34HostnameOS / ArchINSTALLBUILDCHECKBUILD BIN
geneplotter 1.72.0  (landing page)
Bioconductor Package Maintainer
git_last_commit: 57a1d83
git_last_commit_date: 2021-10-26 11:45:33 -0500
nebbiolo2Linux (Ubuntu 20.04.3 LTS) / x86_64  OK    OK    OK  UNNEEDED, same version is already published
tokay2Windows Server 2012 R2 Standard / x64  OK    OK    OK    OK  UNNEEDED, same version is already published
machv2macOS 10.14.6 Mojave / x86_64  OK    OK    OK    OK  UNNEEDED, same version is already published
Package 12/34HostnameOS / ArchINSTALLBUILDCHECKBUILD BIN
GlobalAncova 4.12.0  (landing page)
Manuela Hummel
git_last_commit: 16a2b80
git_last_commit_date: 2021-10-26 11:48:41 -0500
nebbiolo2Linux (Ubuntu 20.04.3 LTS) / x86_64  OK    OK    OK  UNNEEDED, same version is already published
tokay2Windows Server 2012 R2 Standard / x64  OK    OK    OK    OK  UNNEEDED, same version is already published
machv2macOS 10.14.6 Mojave / x86_64  OK    OK    OK    OK  UNNEEDED, same version is already published
Package 13/34HostnameOS / ArchINSTALLBUILDCHECKBUILD BIN
globaltest 5.48.0  (landing page)
Jelle Goeman
git_last_commit: 86c2c8f
git_last_commit_date: 2021-10-26 11:47:08 -0500
nebbiolo2Linux (Ubuntu 20.04.3 LTS) / x86_64  OK    OK    OK  UNNEEDED, same version is already published
tokay2Windows Server 2012 R2 Standard / x64  OK    OK    OK    OK  UNNEEDED, same version is already published
machv2macOS 10.14.6 Mojave / x86_64  OK    OK    OK    OK  UNNEEDED, same version is already published
Package 14/34HostnameOS / ArchINSTALLBUILDCHECKBUILD BIN
GOSim 1.32.0  (landing page)
Holger Froehlich
git_last_commit: 0c5092d
git_last_commit_date: 2021-10-26 12:09:55 -0500
nebbiolo2Linux (Ubuntu 20.04.3 LTS) / x86_64  OK    OK    OK  UNNEEDED, same version is already published
tokay2Windows Server 2012 R2 Standard / x64  OK    OK    OK    OK  UNNEEDED, same version is already published
machv2macOS 10.14.6 Mojave / x86_64  OK    OK    OK    OK  UNNEEDED, same version is already published
Package 15/34HostnameOS / ArchINSTALLBUILDCHECKBUILD BIN
GOstats 2.60.0  (landing page)
Bioconductor Package Maintainer
git_last_commit: a20055c
git_last_commit_date: 2021-10-26 11:47:01 -0500
nebbiolo2Linux (Ubuntu 20.04.3 LTS) / x86_64  OK    OK    OK  UNNEEDED, same version is already published
tokay2Windows Server 2012 R2 Standard / x64  OK    OK    OK    OK  UNNEEDED, same version is already published
machv2macOS 10.14.6 Mojave / x86_64  OK    OK    OK    OK  UNNEEDED, same version is already published
Package 16/34HostnameOS / ArchINSTALLBUILDCHECKBUILD BIN
GSEABase 1.56.0  (landing page)
Bioconductor Package Maintainer
git_last_commit: ee7c3ca
git_last_commit_date: 2021-10-26 11:51:15 -0500
nebbiolo2Linux (Ubuntu 20.04.3 LTS) / x86_64  OK    OK    OK  UNNEEDED, same version is already published
tokay2Windows Server 2012 R2 Standard / x64  OK    OK    OK    OK  UNNEEDED, same version is already published
machv2macOS 10.14.6 Mojave / x86_64  OK    OK    OK    OK  UNNEEDED, same version is already published
Package 17/34HostnameOS / ArchINSTALLBUILDCHECKBUILD BIN
idiogram 1.70.0  (landing page)
Karl J. Dykema
git_last_commit: 2d1c671
git_last_commit_date: 2021-10-26 11:47:59 -0500
nebbiolo2Linux (Ubuntu 20.04.3 LTS) / x86_64  OK    OK    OK  UNNEEDED, same version is already published
tokay2Windows Server 2012 R2 Standard / x64  OK    OK    OK    OK  UNNEEDED, same version is already published
machv2macOS 10.14.6 Mojave / x86_64  OK    OK    OK    OK  UNNEEDED, same version is already published
Package 18/34HostnameOS / ArchINSTALLBUILDCHECKBUILD BIN
lumi 2.46.0  (landing page)
Lei Huang
git_last_commit: a68932c
git_last_commit_date: 2021-10-26 11:50:43 -0500
nebbiolo2Linux (Ubuntu 20.04.3 LTS) / x86_64  OK    OK    WARNINGS  UNNEEDED, same version is already published
tokay2Windows Server 2012 R2 Standard / x64  OK    OK    WARNINGS    OK  UNNEEDED, same version is already published
machv2macOS 10.14.6 Mojave / x86_64  OK    OK    WARNINGS    OK  UNNEEDED, same version is already published
Package 19/34HostnameOS / ArchINSTALLBUILDCHECKBUILD BIN
macat 1.68.0  (landing page)
Joern Toedling
git_last_commit: 741a67b
git_last_commit_date: 2021-10-26 11:47:29 -0500
nebbiolo2Linux (Ubuntu 20.04.3 LTS) / x86_64  OK    OK    OK  UNNEEDED, same version is already published
tokay2Windows Server 2012 R2 Standard / x64  OK    OK    OK    OK  UNNEEDED, same version is already published
machv2macOS 10.14.6 Mojave / x86_64  OK    OK    OK    OK  UNNEEDED, same version is already published
Package 20/34HostnameOS / ArchINSTALLBUILDCHECKBUILD BIN
methylumi 2.40.1  (landing page)
Sean Davis
git_last_commit: 2110392
git_last_commit_date: 2021-10-30 09:58:54 -0500
nebbiolo2Linux (Ubuntu 20.04.3 LTS) / x86_64  OK    OK    OK  UNNEEDED, same version is already published
tokay2Windows Server 2012 R2 Standard / x64  OK    OK    OK    OK  UNNEEDED, same version is already published
machv2macOS 10.14.6 Mojave / x86_64  OK    OK    OK    OK  UNNEEDED, same version is already published
Package 21/34HostnameOS / ArchINSTALLBUILDCHECKBUILD BIN
MGFM 1.28.0  (landing page)
Khadija El Amrani
git_last_commit: 7d190dc
git_last_commit_date: 2021-10-26 12:16:03 -0500
nebbiolo2Linux (Ubuntu 20.04.3 LTS) / x86_64  OK    OK    OK  UNNEEDED, same version is already published
tokay2Windows Server 2012 R2 Standard / x64  OK    OK    OK    OK  UNNEEDED, same version is already published
machv2macOS 10.14.6 Mojave / x86_64  OK    OK    OK    OK  UNNEEDED, same version is already published
Package 22/34HostnameOS / ArchINSTALLBUILDCHECKBUILD BIN
MGFR 1.20.0  (landing page)
Khadija El Amrani
git_last_commit: a5ccf6a
git_last_commit_date: 2021-10-26 12:28:52 -0500
nebbiolo2Linux (Ubuntu 20.04.3 LTS) / x86_64  OK    OK    OK  UNNEEDED, same version is already published
tokay2Windows Server 2012 R2 Standard / x64  OK    ERROR  skippedskipped
machv2macOS 10.14.6 Mojave / x86_64  OK    OK    OK    OK  UNNEEDED, same version is already published
Package 23/34HostnameOS / ArchINSTALLBUILDCHECKBUILD BIN
MineICA 1.34.0  (landing page)
Anne Biton
git_last_commit: 602994d
git_last_commit_date: 2021-10-26 12:06:44 -0500
nebbiolo2Linux (Ubuntu 20.04.3 LTS) / x86_64  OK    ERROR  skipped
tokay2Windows Server 2012 R2 Standard / x64  OK    OK    WARNINGS    OK  UNNEEDED, same version is already published
machv2macOS 10.14.6 Mojave / x86_64  OK    OK    WARNINGS    OK  UNNEEDED, same version is already published
Package 24/34HostnameOS / ArchINSTALLBUILDCHECKBUILD BIN
MLInterfaces 1.74.0  (landing page)
V. Carey
git_last_commit: 5ee73b6
git_last_commit_date: 2021-10-26 11:47:12 -0500
nebbiolo2Linux (Ubuntu 20.04.3 LTS) / x86_64  OK    OK    OK  UNNEEDED, same version is already published
tokay2Windows Server 2012 R2 Standard / x64  OK    OK    OK    OK  UNNEEDED, same version is already published
machv2macOS 10.14.6 Mojave / x86_64  OK    OK    OK    OK  UNNEEDED, same version is already published
Package 25/34HostnameOS / ArchINSTALLBUILDCHECKBUILD BIN
phenoTest 1.42.0  (landing page)
Evarist Planet
git_last_commit: 28925db
git_last_commit_date: 2021-10-26 11:57:57 -0500
nebbiolo2Linux (Ubuntu 20.04.3 LTS) / x86_64  OK    OK    WARNINGS  UNNEEDED, same version is already published
tokay2Windows Server 2012 R2 Standard / x64  OK    OK    WARNINGS    OK  UNNEEDED, same version is already published
machv2macOS 10.14.6 Mojave / x86_64  OK    OK    WARNINGS    OK  UNNEEDED, same version is already published
Package 26/34HostnameOS / ArchINSTALLBUILDCHECKBUILD BIN
PREDA 1.40.0  (landing page)
Francesco Ferrari
git_last_commit: 65d1da0
git_last_commit_date: 2021-10-26 11:59:54 -0500
nebbiolo2Linux (Ubuntu 20.04.3 LTS) / x86_64  OK    OK    WARNINGS  UNNEEDED, same version is already published
tokay2Windows Server 2012 R2 Standard / x64  OK    OK    WARNINGS    OK  UNNEEDED, same version is already published
machv2macOS 10.14.6 Mojave / x86_64  OK    OK    WARNINGS    OK  UNNEEDED, same version is already published
Package 27/34HostnameOS / ArchINSTALLBUILDCHECKBUILD BIN
qpgraph 2.28.0  (landing page)
Robert Castelo
git_last_commit: 5953468
git_last_commit_date: 2021-10-26 11:53:27 -0500
nebbiolo2Linux (Ubuntu 20.04.3 LTS) / x86_64  OK    OK    WARNINGS  UNNEEDED, same version is already published
tokay2Windows Server 2012 R2 Standard / x64  OK    OK    WARNINGS    OK  UNNEEDED, same version is already published
machv2macOS 10.14.6 Mojave / x86_64  OK    OK    WARNINGS    OK  UNNEEDED, same version is already published
Package 28/34HostnameOS / ArchINSTALLBUILDCHECKBUILD BIN
ReportingTools 2.34.0  (landing page)
Jason A. Hackney , Gabriel Becker
git_last_commit: fb5aef0
git_last_commit_date: 2021-10-26 12:04:45 -0500
nebbiolo2Linux (Ubuntu 20.04.3 LTS) / x86_64  OK    OK    OK  UNNEEDED, same version is already published
tokay2Windows Server 2012 R2 Standard / x64  OK    OK    OK    OK  UNNEEDED, same version is already published
machv2macOS 10.14.6 Mojave / x86_64  OK    OK    OK    OK  UNNEEDED, same version is already published
Package 29/34HostnameOS / ArchINSTALLBUILDCHECKBUILD BIN
RpsiXML 2.36.0  (landing page)
Jitao David Zhang
git_last_commit: cc895e5
git_last_commit_date: 2021-10-26 11:52:47 -0500
nebbiolo2Linux (Ubuntu 20.04.3 LTS) / x86_64  OK    OK    OK  UNNEEDED, same version is already published
tokay2Windows Server 2012 R2 Standard / x64  OK    OK    OK    OK  UNNEEDED, same version is already published
machv2macOS 10.14.6 Mojave / x86_64  OK    OK    OK    OK  UNNEEDED, same version is already published
Package 30/34HostnameOS / ArchINSTALLBUILDCHECKBUILD BIN
sampleClassifier 1.18.0  (landing page)
Khadija El Amrani
git_last_commit: 4a223a7
git_last_commit_date: 2021-10-26 13:06:21 -0500
nebbiolo2Linux (Ubuntu 20.04.3 LTS) / x86_64  OK    OK    OK  UNNEEDED, same version is already published
tokay2Windows Server 2012 R2 Standard / x64  OK    OK    OK    OK  UNNEEDED, same version is already published
machv2macOS 10.14.6 Mojave / x86_64  OK    OK    OK    OK  UNNEEDED, same version is already published
Package 31/34HostnameOS / ArchINSTALLBUILDCHECKBUILD BIN
ScISI 1.66.0  (landing page)
Tony Chiang
git_last_commit: 1e8f20b
git_last_commit_date: 2021-10-26 11:49:12 -0500
nebbiolo2Linux (Ubuntu 20.04.3 LTS) / x86_64  OK    ERROR  skipped
tokay2Windows Server 2012 R2 Standard / x64  OK    ERROR  skippedskipped
machv2macOS 10.14.6 Mojave / x86_64  OK    ERROR  skippedskipped
Package 32/34HostnameOS / ArchINSTALLBUILDCHECKBUILD BIN
SemDist 1.28.0  (landing page)
Ian Gonzalez
git_last_commit: 53871da
git_last_commit_date: 2021-10-26 12:15:20 -0500
nebbiolo2Linux (Ubuntu 20.04.3 LTS) / x86_64  OK    OK    OK  UNNEEDED, same version is already published
tokay2Windows Server 2012 R2 Standard / x64  OK    OK    OK    OK  UNNEEDED, same version is already published
machv2macOS 10.14.6 Mojave / x86_64  OK    OK    OK    OK  UNNEEDED, same version is already published
Package 33/34HostnameOS / ArchINSTALLBUILDCHECKBUILD BIN
tigre 1.48.0  (landing page)
Antti Honkela
git_last_commit: bb256f7
git_last_commit_date: 2021-10-26 11:55:49 -0500
nebbiolo2Linux (Ubuntu 20.04.3 LTS) / x86_64  OK    OK    OK  UNNEEDED, same version is already published
tokay2Windows Server 2012 R2 Standard / x64  OK    OK    OK    OK  UNNEEDED, same version is already published
machv2macOS 10.14.6 Mojave / x86_64  OK    OK    OK    OK  UNNEEDED, same version is already published
Package 34/34HostnameOS / ArchINSTALLBUILDCHECKBUILD BIN
UMI4Cats 1.4.0  (landing page)
Mireia Ramos-Rodriguez
git_last_commit: b355dcd
git_last_commit_date: 2021-10-26 13:01:42 -0500
nebbiolo2Linux (Ubuntu 20.04.3 LTS) / x86_64  OK    OK    OK  UNNEEDED, same version is already published
tokay2Windows Server 2012 R2 Standard / x64  OK    OK    OK    OK  UNNEEDED, same version is already published
machv2macOS 10.14.6 Mojave / x86_64  OK    OK    OK    OK  UNNEEDED, same version is already published