Index of /checkResults/3.14/bioc-LATEST/annmap/raw-results

[ICO]NameLast modifiedSizeDescription

[DIR]Parent Directory  -  
[   ]info.dcf04-Dec-2021 03:05 287  
[DIR]machv2/04-Dec-2021 03:05 -  
[DIR]nebbiolo2/04-Dec-2021 03:04 -