Back to Multiple platform build/check report for BioC 3.14
[A]BCDEFGHIJKLMNOPQRSTUVWXYZ

This page was generated on 2021-10-23 14:06:52 -0400 (Sat, 23 Oct 2021).

BUILD BIN results for annmap on merida1

To the developers/maintainers of the annmap package:
- Please allow up to 24 hours (and sometimes 48 hours) for your latest push to git@git.bioconductor.org:packages/annmap.git to
reflect on this report. See How and When does the builder pull? When will my changes propagate? here for more information.
- Make sure to use the following settings in order to reproduce any error or warning you see on this page.

raw results

Package 58/2083HostnameOS / ArchINSTALLBUILDCHECKBUILD BIN
annmap 1.35.0  (landing page)
Chris Wirth
Snapshot Date: 2021-10-22 14:50:11 -0400 (Fri, 22 Oct 2021)
git_url: https://git.bioconductor.org/packages/annmap
git_branch: master
git_last_commit: 46784b2
git_last_commit_date: 2021-05-19 11:52:37 -0400 (Wed, 19 May 2021)
nebbiolo2Linux (Ubuntu 20.04.2 LTS) / x86_64  OK    OK    WARNINGS  UNNEEDED, same version is already published
riesling1Windows Server 2019 Standard / x64... NOT SUPPORTED ...
merida1macOS 10.14.6 Mojave / x86_64  OK    OK    WARNINGS    OK  UNNEEDED, same version is already published

Summary

Package: annmap
Version: 1.35.0
Command: rm -rf annmap.buildbin-libdir && mkdir annmap.buildbin-libdir && /Users/biocbuild/BBS/utils/build-universal.sh annmap_1.35.0.tar.gz /Library/Frameworks/R.framework/Resources/bin/R annmap.buildbin-libdir
StartedAt: 2021-10-23 11:03:28 -0400 (Sat, 23 Oct 2021)
EndedAt: 2021-10-23 11:04:31 -0400 (Sat, 23 Oct 2021)
EllapsedTime: 63.2 seconds
RetCode: 0
Status:   OK  
PackageFile: annmap_1.35.0.tgz
PackageFileSize: 1.147 MiB

Command output

##############################################################################
##############################################################################
###
### Running command:
###
###   rm -rf annmap.buildbin-libdir && mkdir annmap.buildbin-libdir && /Users/biocbuild/BBS/utils/build-universal.sh annmap_1.35.0.tar.gz /Library/Frameworks/R.framework/Resources/bin/R annmap.buildbin-libdir
###
##############################################################################
##############################################################################


>>>>>>> 
>>>>>>> INSTALLATION WITH 'R CMD INSTALL --preclean --no-multiarch --library=annmap.buildbin-libdir annmap_1.35.0.tar.gz'
>>>>>>> 

* installing *source* package ‘annmap’ ...
** using staged installation
** R
** inst
** byte-compile and prepare package for lazy loading
in method for ‘probesetInRange’ with signature ‘x="RangedData"’: no definition for class “RangedData”
in method for ‘probeInRange’ with signature ‘x="RangedData"’: no definition for class “RangedData”
in method for ‘proteinInRange’ with signature ‘x="RangedData"’: no definition for class “RangedData”
in method for ‘domainInRange’ with signature ‘x="RangedData"’: no definition for class “RangedData”
in method for ‘geneInRange’ with signature ‘x="RangedData"’: no definition for class “RangedData”
in method for ‘transcriptInRange’ with signature ‘x="RangedData"’: no definition for class “RangedData”
in method for ‘exonInRange’ with signature ‘x="RangedData"’: no definition for class “RangedData”
in method for ‘estGeneInRange’ with signature ‘x="RangedData"’: no definition for class “RangedData”
in method for ‘estTranscriptInRange’ with signature ‘x="RangedData"’: no definition for class “RangedData”
in method for ‘estExonInRange’ with signature ‘x="RangedData"’: no definition for class “RangedData”
in method for ‘predictionTranscriptInRange’ with signature ‘x="RangedData"’: no definition for class “RangedData”
** help
*** installing help indices
** building package indices
** installing vignettes
** testing if installed package can be loaded from temporary location
** testing if installed package can be loaded from final location
** testing if installed package keeps a record of temporary installation path
* DONE (annmap)