Back to Multiple platform build/check report for BioC 3.14
[A]BCDEFGHIJKLMNOPQRSTUVWXYZ

This page was generated on 2022-01-14 13:05:59 -0500 (Fri, 14 Jan 2022).

HostnameOSArch (*)R versionInstalled pkgs
nebbiolo2Linux (Ubuntu 20.04.4 LTS)x86_644.1.2 (2021-11-01) -- "Bird Hippie" 4327
tokay2Windows Server 2012 R2 Standardx644.1.2 (2021-11-01) -- "Bird Hippie" 4076
machv2macOS 10.14.6 Mojavex86_644.1.2 (2021-11-01) -- "Bird Hippie" 4137
Click on any hostname to see more info about the system (e.g. compilers)      (*) as reported by 'uname -p', except on Windows and Mac OS X

INSTALL results for annaffy on tokay2


To the developers/maintainers of the annaffy package:
- Please allow up to 24 hours (and sometimes 48 hours) for your latest push to git@git.bioconductor.org:packages/annaffy.git to
reflect on this report. See How and When does the builder pull? When will my changes propagate? here for more information.
- Make sure to use the following settings in order to reproduce any error or warning you see on this page.

raw results

Package 57/2083HostnameOS / ArchINSTALLBUILDCHECKBUILD BIN
annaffy 1.66.0  (landing page)
Colin A. Smith
Snapshot Date: 2022-01-13 01:55:04 -0500 (Thu, 13 Jan 2022)
git_url: https://git.bioconductor.org/packages/annaffy
git_branch: RELEASE_3_14
git_last_commit: aa1afa1
git_last_commit_date: 2021-10-26 11:46:08 -0500 (Tue, 26 Oct 2021)
nebbiolo2Linux (Ubuntu 20.04.4 LTS) / x86_64  OK    OK    WARNINGS  UNNEEDED, same version is already published
tokay2Windows Server 2012 R2 Standard / x64  OK    OK    WARNINGS    OK  UNNEEDED, same version is already published
machv2macOS 10.14.6 Mojave / x86_64  OK    OK    WARNINGS    OK  UNNEEDED, same version is already published

Summary

Package: annaffy
Version: 1.66.0
Command: C:\cygwin\bin\curl.exe -O http://155.52.207.166/BBS/3.14/bioc/src/contrib/annaffy_1.66.0.tar.gz && rm -rf annaffy.buildbin-libdir && mkdir annaffy.buildbin-libdir && C:\Users\biocbuild\bbs-3.14-bioc\R\bin\R.exe CMD INSTALL --merge-multiarch --build --library=annaffy.buildbin-libdir annaffy_1.66.0.tar.gz && C:\Users\biocbuild\bbs-3.14-bioc\R\bin\R.exe CMD INSTALL annaffy_1.66.0.zip && rm annaffy_1.66.0.tar.gz annaffy_1.66.0.zip
StartedAt: 2022-01-13 04:48:46 -0500 (Thu, 13 Jan 2022)
EndedAt: 2022-01-13 04:50:52 -0500 (Thu, 13 Jan 2022)
EllapsedTime: 125.4 seconds
RetCode: 0
Status:   OK  

Command output

##############################################################################
##############################################################################
###
### Running command:
###
###   C:\cygwin\bin\curl.exe -O http://155.52.207.166/BBS/3.14/bioc/src/contrib/annaffy_1.66.0.tar.gz && rm -rf annaffy.buildbin-libdir && mkdir annaffy.buildbin-libdir && C:\Users\biocbuild\bbs-3.14-bioc\R\bin\R.exe CMD INSTALL --merge-multiarch --build --library=annaffy.buildbin-libdir annaffy_1.66.0.tar.gz && C:\Users\biocbuild\bbs-3.14-bioc\R\bin\R.exe CMD INSTALL annaffy_1.66.0.zip && rm annaffy_1.66.0.tar.gz annaffy_1.66.0.zip
###
##############################################################################
##############################################################################


  % Total    % Received % Xferd  Average Speed   Time    Time     Time  Current
                                 Dload  Upload   Total   Spent    Left  Speed

  0     0    0     0    0     0      0      0 --:--:-- --:--:-- --:--:--     0
100 71147  100 71147    0     0   646k      0 --:--:-- --:--:-- --:--:--  655k

install for i386

* installing *source* package 'annaffy' ...
** using staged installation
** R
** data
** byte-compile and prepare package for lazy loading
** help
*** installing help indices
  converting help for package 'annaffy'
    finding HTML links ... done
    aaf.character                           html  
    aaf.goterm                              html  
    aaf.handler                             html  
    aaf.integer                             html  
    aaf.raw                                 html  
    aafChromLoc-class                       html  
    aafChromLoc                             html  
    aafChromosome-class                     html  
    aafChromosome                           html  
    aafCytoband-class                       html  
    aafCytoband                             html  
    aafDescription-class                    html  
    aafDescription                          html  
    aafExpr                                 html  
    aafGO-class                             html  
    aafGO                                   html  
    aafGOItem-class                         html  
    aafGenBank-class                        html  
    aafGenBank                              html  
    aafIntensity-class                      html  
    aafList-class                           html  
    aafLocusLink-class                      html  
    aafLocusLink                            html  
    aafPathway-class                        html  
    aafPathway                              html  
    aafPathwayItem-class                    html  
    aafProbe-class                          html  
    aafProbe                                html  
    aafPubMed-class                         html  
    aafPubMed                               html  
    aafSearchGO                             html  
    aafSearchText                           html  
    aafSigned-class                         html  
    aafSymbol-class                         html  
    aafSymbol                               html  
    aafTable-class                          html  
    aafTable                                html  
    aafTableAnn                             html  
    aafTableFrame                           html  
    aafTableInt                             html  
    chkPkgs                                 html  
    getCSS-methods                          html  
    getHTML-methods                         html  
    getTD-methods                           html  
    getText-methods                         html  
    getURL-methods                          html  
    finding level-2 HTML links ... done

Rd warning: C:/Users/biocbuild/bbs-3.14-bioc/tmpdir/RtmpCU81km/R.INSTALLd281851ce5/annaffy/man/getURL-methods.Rd:25: missing link 'aafUniGene-class'
    is.annpkg                               html  
    selectorWidget                          html  
** building package indices
** installing vignettes
** testing if installed package can be loaded from temporary location
** testing if installed package can be loaded from final location
** testing if installed package keeps a record of temporary installation path

install for x64

* installing *source* package 'annaffy' ...
** testing if installed package can be loaded
* MD5 sums
packaged installation of 'annaffy' as annaffy_1.66.0.zip
* DONE (annaffy)
* installing to library 'C:/Users/biocbuild/bbs-3.14-bioc/R/library'
package 'annaffy' successfully unpacked and MD5 sums checked