Back to Multiple platform build/check report for BioC 3.14
[A]BCDEFGHIJKLMNOPQRSTUVWXYZ

This page was generated on 2021-10-23 14:06:18 -0400 (Sat, 23 Oct 2021).

INSTALL results for annaffy on riesling1

To the developers/maintainers of the annaffy package:
- Please allow up to 24 hours (and sometimes 48 hours) for your latest push to git@git.bioconductor.org:packages/annaffy.git to
reflect on this report. See How and When does the builder pull? When will my changes propagate? here for more information.
- Make sure to use the following settings in order to reproduce any error or warning you see on this page.

raw results

Package 57/2083HostnameOS / ArchINSTALLBUILDCHECKBUILD BIN
annaffy 1.65.2  (landing page)
Colin A. Smith
Snapshot Date: 2021-10-22 14:50:11 -0400 (Fri, 22 Oct 2021)
git_url: https://git.bioconductor.org/packages/annaffy
git_branch: master
git_last_commit: a9d40d7
git_last_commit_date: 2021-06-19 21:05:19 -0400 (Sat, 19 Jun 2021)
nebbiolo2Linux (Ubuntu 20.04.2 LTS) / x86_64  OK    OK    WARNINGS  UNNEEDED, same version is already published
riesling1Windows Server 2019 Standard / x64  OK    OK    WARNINGS    OK  UNNEEDED, same version is already published
merida1macOS 10.14.6 Mojave / x86_64  OK    OK    WARNINGS    OK  UNNEEDED, same version is already published

Summary

Package: annaffy
Version: 1.65.2
Command: C:\cygwin\bin\curl.exe -O http://155.52.207.166/BBS/3.14/bioc/src/contrib/annaffy_1.65.2.tar.gz && rm -rf annaffy.buildbin-libdir && mkdir annaffy.buildbin-libdir && D:\biocbuild\bbs-3.14-bioc\R\bin\R.exe CMD INSTALL --merge-multiarch --build --library=annaffy.buildbin-libdir annaffy_1.65.2.tar.gz && D:\biocbuild\bbs-3.14-bioc\R\bin\R.exe CMD INSTALL annaffy_1.65.2.zip && rm annaffy_1.65.2.tar.gz annaffy_1.65.2.zip
StartedAt: 2021-10-22 17:20:29 -0400 (Fri, 22 Oct 2021)
EndedAt: 2021-10-22 17:23:29 -0400 (Fri, 22 Oct 2021)
EllapsedTime: 179.8 seconds
RetCode: 0
Status:   OK  

Command output

##############################################################################
##############################################################################
###
### Running command:
###
###   C:\cygwin\bin\curl.exe -O http://155.52.207.166/BBS/3.14/bioc/src/contrib/annaffy_1.65.2.tar.gz && rm -rf annaffy.buildbin-libdir && mkdir annaffy.buildbin-libdir && D:\biocbuild\bbs-3.14-bioc\R\bin\R.exe CMD INSTALL --merge-multiarch --build --library=annaffy.buildbin-libdir annaffy_1.65.2.tar.gz && D:\biocbuild\bbs-3.14-bioc\R\bin\R.exe CMD INSTALL annaffy_1.65.2.zip && rm annaffy_1.65.2.tar.gz annaffy_1.65.2.zip
###
##############################################################################
##############################################################################


  % Total    % Received % Xferd  Average Speed   Time    Time     Time  Current
                                 Dload  Upload   Total   Spent    Left  Speed

  0     0    0     0    0     0      0      0 --:--:-- --:--:-- --:--:--     0
100 71171  100 71171    0     0   448k      0 --:--:-- --:--:-- --:--:--  448k

install for i386

* installing *source* package 'annaffy' ...
** using staged installation
** R
** data
** byte-compile and prepare package for lazy loading
** help
*** installing help indices
  converting help for package 'annaffy'
    finding HTML links ... done
    aaf.character                           html  
    aaf.goterm                              html  
    aaf.handler                             html  
    aaf.integer                             html  
    aaf.raw                                 html  
    aafChromLoc-class                       html  
    aafChromLoc                             html  
    aafChromosome-class                     html  
    aafChromosome                           html  
    aafCytoband-class                       html  
    aafCytoband                             html  
    aafDescription-class                    html  
    aafDescription                          html  
    aafExpr                                 html  
    aafGO-class                             html  
    aafGO                                   html  
    aafGOItem-class                         html  
    aafGenBank-class                        html  
    aafGenBank                              html  
    aafIntensity-class                      html  
    aafList-class                           html  
    aafLocusLink-class                      html  
    aafLocusLink                            html  
    aafPathway-class                        html  
    aafPathway                              html  
    aafPathwayItem-class                    html  
    aafProbe-class                          html  
    aafProbe                                html  
    aafPubMed-class                         html  
    aafPubMed                               html  
    aafSearchGO                             html  
    aafSearchText                           html  
    aafSigned-class                         html  
    aafSymbol-class                         html  
    aafSymbol                               html  
    aafTable-class                          html  
    aafTable                                html  
    aafTableAnn                             html  
    aafTableFrame                           html  
    aafTableInt                             html  
    chkPkgs                                 html  
    getCSS-methods                          html  
    getHTML-methods                         html  
    getTD-methods                           html  
    getText-methods                         html  
    getURL-methods                          html  
    finding level-2 HTML links ... done

Rd warning: D:/biocbuild/bbs-3.14-bioc/tmpdir/RtmpwJsMzb/R.INSTALLb18184b53ab/annaffy/man/getURL-methods.Rd:25: missing link 'aafUniGene-class'
    is.annpkg                               html  
    selectorWidget                          html  
** building package indices
** installing vignettes
** testing if installed package can be loaded from temporary location
** testing if installed package can be loaded from final location
** testing if installed package keeps a record of temporary installation path

install for x64

* installing *source* package 'annaffy' ...
** testing if installed package can be loaded
* MD5 sums
packaged installation of 'annaffy' as annaffy_1.65.2.zip
* DONE (annaffy)
* installing to library 'D:/biocbuild/bbs-3.14-bioc/R/library'
package 'annaffy' successfully unpacked and MD5 sums checked