Back to Multiple platform build/check report for BioC 3.14
[A]BCDEFGHIJKLMNOPQRSTUVWXYZ

This page was generated on 2021-10-26 14:07:38 -0400 (Tue, 26 Oct 2021).

BUILD results for annaffy on merida1

To the developers/maintainers of the annaffy package:
- Please allow up to 24 hours (and sometimes 48 hours) for your latest push to git@git.bioconductor.org:packages/annaffy.git to
reflect on this report. See How and When does the builder pull? When will my changes propagate? here for more information.
- Make sure to use the following settings in order to reproduce any error or warning you see on this page.

raw results

Package 57/2083HostnameOS / ArchINSTALLBUILDCHECKBUILD BIN
annaffy 1.65.2  (landing page)
Colin A. Smith
Snapshot Date: 2021-10-25 14:50:11 -0400 (Mon, 25 Oct 2021)
git_url: https://git.bioconductor.org/packages/annaffy
git_branch: master
git_last_commit: a9d40d7
git_last_commit_date: 2021-06-19 21:05:19 -0400 (Sat, 19 Jun 2021)
nebbiolo2Linux (Ubuntu 20.04.2 LTS) / x86_64  OK    OK    WARNINGS  UNNEEDED, same version is already published
riesling1Windows Server 2019 Standard / x64  OK    OK    WARNINGS    OK  UNNEEDED, same version is already published
merida1macOS 10.14.6 Mojave / x86_64  OK    OK    WARNINGS    OK  UNNEEDED, same version is already published
machv2macOS 10.14.6 Mojave / x86_64  OK    OK    WARNINGS    OK  

Summary

Package: annaffy
Version: 1.65.2
Command: /Library/Frameworks/R.framework/Resources/bin/R CMD build --keep-empty-dirs --no-resave-data annaffy
StartedAt: 2021-10-25 18:26:57 -0400 (Mon, 25 Oct 2021)
EndedAt: 2021-10-25 18:27:40 -0400 (Mon, 25 Oct 2021)
EllapsedTime: 42.4 seconds
RetCode: 0
Status:   OK  
PackageFile: annaffy_1.65.2.tar.gz
PackageFileSize: 229.5 KiB

Command output

##############################################################################
##############################################################################
###
### Running command:
###
###   /Library/Frameworks/R.framework/Resources/bin/R CMD build --keep-empty-dirs --no-resave-data annaffy
###
##############################################################################
##############################################################################


* checking for file ‘annaffy/DESCRIPTION’ ... OK
* preparing ‘annaffy’:
* checking DESCRIPTION meta-information ... OK
* installing the package to build vignettes
* creating vignettes ... OK
* checking for LF line-endings in source and make files and shell scripts
* checking for empty or unneeded directories
* looking to see if a ‘data/datalist’ file should be added
* building ‘annaffy_1.65.2.tar.gz’