Back to Multiple platform build/check report for BioC 3.14
[A]BCDEFGHIJKLMNOPQRSTUVWXYZ

This page was generated on 2021-10-25 14:06:48 -0400 (Mon, 25 Oct 2021).

CHECK results for animalcules on merida1

To the developers/maintainers of the animalcules package:
- Please allow up to 24 hours (and sometimes 48 hours) for your latest push to git@git.bioconductor.org:packages/animalcules.git to
reflect on this report. See How and When does the builder pull? When will my changes propagate? here for more information.
- Make sure to use the following settings in order to reproduce any error or warning you see on this page.

raw results

Package 56/2083HostnameOS / ArchINSTALLBUILDCHECKBUILD BIN
animalcules 1.9.3  (landing page)
Yue Zhao
Snapshot Date: 2021-10-24 14:50:04 -0400 (Sun, 24 Oct 2021)
git_url: https://git.bioconductor.org/packages/animalcules
git_branch: master
git_last_commit: b1ebe5f
git_last_commit_date: 2021-10-19 16:07:00 -0400 (Tue, 19 Oct 2021)
nebbiolo2Linux (Ubuntu 20.04.2 LTS) / x86_64  OK    OK    OK  UNNEEDED, same version is already published
riesling1Windows Server 2019 Standard / x64  OK    OK    OK    OK  UNNEEDED, same version is already published
merida1macOS 10.14.6 Mojave / x86_64  OK    OK    OK    OK  UNNEEDED, same version is already published
machv2macOS 10.14.6 Mojave / x86_64  OK    OK    OK    OK  

Summary

Package: animalcules
Version: 1.9.3
Command: /Library/Frameworks/R.framework/Resources/bin/R CMD check --install=check:animalcules.install-out.txt --library=/Library/Frameworks/R.framework/Resources/library --no-vignettes --timings animalcules_1.9.3.tar.gz
StartedAt: 2021-10-25 00:30:21 -0400 (Mon, 25 Oct 2021)
EndedAt: 2021-10-25 00:37:27 -0400 (Mon, 25 Oct 2021)
EllapsedTime: 426.3 seconds
RetCode: 0
Status:   OK  
CheckDir: animalcules.Rcheck
Warnings: 0

Command output

##############################################################################
##############################################################################
###
### Running command:
###
###   /Library/Frameworks/R.framework/Resources/bin/R CMD check --install=check:animalcules.install-out.txt --library=/Library/Frameworks/R.framework/Resources/library --no-vignettes --timings animalcules_1.9.3.tar.gz
###
##############################################################################
##############################################################################


* using log directory ‘/Users/biocbuild/bbs-3.14-bioc/meat/animalcules.Rcheck’
* using R version 4.1.1 Patched (2021-08-22 r80813)
* using platform: x86_64-apple-darwin17.0 (64-bit)
* using session charset: UTF-8
* using option ‘--no-vignettes’
* checking for file ‘animalcules/DESCRIPTION’ ... OK
* this is package ‘animalcules’ version ‘1.9.3’
* package encoding: UTF-8
* checking package namespace information ... OK
* checking package dependencies ... OK
* checking if this is a source package ... OK
* checking if there is a namespace ... OK
* checking for hidden files and directories ... OK
* checking for portable file names ... OK
* checking for sufficient/correct file permissions ... OK
* checking whether package ‘animalcules’ can be installed ... OK
* checking installed package size ... OK
* checking package directory ... OK
* checking ‘build’ directory ... OK
* checking DESCRIPTION meta-information ... OK
* checking top-level files ... OK
* checking for left-over files ... OK
* checking index information ... OK
* checking package subdirectories ... OK
* checking R files for non-ASCII characters ... OK
* checking R files for syntax errors ... OK
* checking whether the package can be loaded ... OK
* checking whether the package can be loaded with stated dependencies ... OK
* checking whether the package can be unloaded cleanly ... OK
* checking whether the namespace can be loaded with stated dependencies ... OK
* checking whether the namespace can be unloaded cleanly ... OK
* checking dependencies in R code ... OK
* checking S3 generic/method consistency ... OK
* checking replacement functions ... OK
* checking foreign function calls ... OK
* checking R code for possible problems ... NOTE
alpha_div_boxplot: no visible binding for global variable ‘richness’
differential_abundance: no visible binding for global variable ‘padj’
differential_abundance: no visible binding for global variable ‘pValue’
differential_abundance: no visible binding for global variable
  ‘log2FoldChange’
diversities_help: no visible binding for global variable ‘x’
find_biomarker: no visible binding for global variable ‘rowname’
find_biomarker: no visible binding for global variable ‘importance’
find_biomarker: no visible binding for global variable ‘.’
find_biomarker: no visible binding for global variable ‘Overall’
find_biomarker: no visible binding for global variable ‘y’
find_biomarker: no visible binding for global variable ‘m’
find_biomarker: no visible binding for global variable ‘d’
relabu_barplot: no visible binding for global variable ‘.’
relabu_boxplot: no visible binding for global variable ‘.’
relabu_heatmap: no visible binding for global variable ‘.’
upsample_counts: no visible binding for global variable ‘.’
Undefined global functions or variables:
  . Overall d importance log2FoldChange m pValue padj richness rowname
  x y
* checking Rd files ... OK
* checking Rd metadata ... OK
* checking Rd cross-references ... OK
* checking for missing documentation entries ... OK
* checking for code/documentation mismatches ... OK
* checking Rd \usage sections ... OK
* checking Rd contents ... OK
* checking for unstated dependencies in examples ... OK
* checking files in ‘vignettes’ ... OK
* checking examples ... OK
Examples with CPU (user + system) or elapsed time > 5s
                         user system elapsed
differential_abundance 11.860  0.150  12.025
dimred_tsne            10.288  0.137  10.441
find_biomarker          8.580  0.079   8.673
* checking for unstated dependencies in ‘tests’ ... OK
* checking tests ...
  Running ‘testthat.R’
 OK
* checking for unstated dependencies in vignettes ... OK
* checking package vignettes in ‘inst/doc’ ... OK
* checking running R code from vignettes ... SKIPPED
* checking re-building of vignette outputs ... SKIPPED
* checking PDF version of manual ... OK
* DONE

Status: 1 NOTE
See
  ‘/Users/biocbuild/bbs-3.14-bioc/meat/animalcules.Rcheck/00check.log’
for details.



Installation output

animalcules.Rcheck/00install.out

##############################################################################
##############################################################################
###
### Running command:
###
###   /Library/Frameworks/R.framework/Resources/bin/R CMD INSTALL animalcules
###
##############################################################################
##############################################################################


* installing to library ‘/Library/Frameworks/R.framework/Versions/4.1/Resources/library’
* installing *source* package ‘animalcules’ ...
** using staged installation
** R
** inst
** byte-compile and prepare package for lazy loading
** help
*** installing help indices
** building package indices
** installing vignettes
** testing if installed package can be loaded from temporary location
** testing if installed package can be loaded from final location
** testing if installed package keeps a record of temporary installation path
* DONE (animalcules)

Tests output

animalcules.Rcheck/tests/testthat.Rout


R version 4.1.1 Patched (2021-08-22 r80813) -- "Kick Things"
Copyright (C) 2021 The R Foundation for Statistical Computing
Platform: x86_64-apple-darwin17.0 (64-bit)

R is free software and comes with ABSOLUTELY NO WARRANTY.
You are welcome to redistribute it under certain conditions.
Type 'license()' or 'licence()' for distribution details.

R is a collaborative project with many contributors.
Type 'contributors()' for more information and
'citation()' on how to cite R or R packages in publications.

Type 'demo()' for some demos, 'help()' for on-line help, or
'help.start()' for an HTML browser interface to help.
Type 'q()' to quit R.

> library(testthat)
> library(animalcules)
> 
> test_check("animalcules")
[ FAIL 0 | WARN 5 | SKIP 0 | PASS 38 ]
> 
> proc.time()
   user  system elapsed 
 55.452   1.502  57.553 

Example timings

animalcules.Rcheck/animalcules-Ex.timings

nameusersystemelapsed
alpha_div_boxplot1.5080.0641.579
alpha_div_test0.0040.0000.004
counts_to_logcpm0.0010.0000.002
counts_to_relabu0.0030.0000.004
df_char_to_factor0.0010.0000.001
differential_abundance11.860 0.15012.025
dimred_pca0.2570.0300.300
dimred_pcoa0.1920.0270.223
dimred_tsne10.288 0.13710.441
dimred_umap0.5280.0290.560
diversities000
diversities_help000
diversity_beta_boxplot0.3440.0190.364
diversity_beta_heatmap0.3450.0250.372
diversity_beta_test0.1410.0010.142
do_alpha_div_test0.0750.0010.076
filter_categorize0.4190.0460.467
filter_summary_bar_density0.4160.0230.441
filter_summary_pie_box0.2550.0220.277
find_biomarker8.5800.0798.673
find_taxon_mat0.2590.0070.837
find_taxonomy0.0390.0000.610
find_taxonomy_3000.0440.0000.647
gini_simpson0.0000.0010.000
grep_tid000
inverse_simpson0.0010.0000.001
is_categorical0.0000.0000.001
is_integer00.0000.0010.001
is_integer10.0010.0000.000
mae_pick_organisms0.2200.0010.222
mae_pick_samples0.1250.0000.125
pct2str0.0000.0000.001
percent0.0000.0000.001
relabu_barplot1.6680.0301.703
relabu_boxplot0.1780.0230.203
relabu_heatmap0.1990.0210.222
run_animalcules000
shannon0.0000.0000.001
simpson_index0.0000.0000.001
upsample_counts0.0130.0000.015