Back to Multiple platform build/check report for BioC 3.14
[A]BCDEFGHIJKLMNOPQRSTUVWXYZ

This page was generated on 2021-10-19 12:05:19 -0400 (Tue, 19 Oct 2021).

BUILD results for animalcules on merida1

To the developers/maintainers of the animalcules package:
- Please allow up to 24 hours (and sometimes 48 hours) for your latest push to git@git.bioconductor.org:packages/animalcules.git to
reflect on this report. See How and When does the builder pull? When will my changes propagate? here for more information.
- Make sure to use the following settings in order to reproduce any error or warning you see on this page.

raw results

Package 56/2060HostnameOS / ArchINSTALLBUILDCHECKBUILD BIN
animalcules 1.9.1  (landing page)
Yue Zhao
Snapshot Date: 2021-10-18 14:50:10 -0400 (Mon, 18 Oct 2021)
git_url: https://git.bioconductor.org/packages/animalcules
git_branch: master
git_last_commit: 6d94ed8
git_last_commit_date: 2021-06-07 08:29:10 -0400 (Mon, 07 Jun 2021)
nebbiolo2Linux (Ubuntu 20.04.2 LTS) / x86_64  OK    OK    OK  UNNEEDED, same version is already published
riesling1Windows Server 2019 Standard / x64  OK    OK    OK    OK  UNNEEDED, same version is already published
merida1macOS 10.14.6 Mojave / x86_64  OK    OK    OK    OK  YES

Summary

Package: animalcules
Version: 1.9.1
Command: /Library/Frameworks/R.framework/Resources/bin/R CMD build --keep-empty-dirs --no-resave-data animalcules
StartedAt: 2021-10-18 18:24:48 -0400 (Mon, 18 Oct 2021)
EndedAt: 2021-10-18 18:26:21 -0400 (Mon, 18 Oct 2021)
EllapsedTime: 92.2 seconds
RetCode: 0
Status:   OK  
PackageFile: animalcules_1.9.1.tar.gz
PackageFileSize: 3.185 MiB

Command output

##############################################################################
##############################################################################
###
### Running command:
###
###   /Library/Frameworks/R.framework/Resources/bin/R CMD build --keep-empty-dirs --no-resave-data animalcules
###
##############################################################################
##############################################################################


* checking for file ‘animalcules/DESCRIPTION’ ... OK
* preparing ‘animalcules’:
* checking DESCRIPTION meta-information ... OK
* installing the package to build vignettes
* creating vignettes ... OK
* checking for LF line-endings in source and make files and shell scripts
* checking for empty or unneeded directories
Omitted ‘LazyData’ from DESCRIPTION
* building ‘animalcules_1.9.1.tar.gz’