Back to Multiple platform build/check report for BioC 3.14
[A]BCDEFGHIJKLMNOPQRSTUVWXYZ

This page was generated on 2021-10-20 12:05:32 -0400 (Wed, 20 Oct 2021).

BUILD BIN results for animalcules on merida1

To the developers/maintainers of the animalcules package:
- Please allow up to 24 hours (and sometimes 48 hours) for your latest push to git@git.bioconductor.org:packages/animalcules.git to
reflect on this report. See How and When does the builder pull? When will my changes propagate? here for more information.
- Make sure to use the following settings in order to reproduce any error or warning you see on this page.

raw results

Package 56/2072HostnameOS / ArchINSTALLBUILDCHECKBUILD BIN
animalcules 1.9.1  (landing page)
Yue Zhao
Snapshot Date: 2021-10-19 14:50:04 -0400 (Tue, 19 Oct 2021)
git_url: https://git.bioconductor.org/packages/animalcules
git_branch: master
git_last_commit: 6d94ed8
git_last_commit_date: 2021-06-07 08:29:10 -0400 (Mon, 07 Jun 2021)
nebbiolo2Linux (Ubuntu 20.04.2 LTS) / x86_64  OK    OK    OK  UNNEEDED, same version is already published
riesling1Windows Server 2019 Standard / x64  OK    OK    OK    OK  UNNEEDED, same version is already published
merida1macOS 10.14.6 Mojave / x86_64  OK    OK    OK    OK  UNNEEDED, same version is already published

Summary

Package: animalcules
Version: 1.9.1
Command: rm -rf animalcules.buildbin-libdir && mkdir animalcules.buildbin-libdir && /Users/biocbuild/BBS/utils/build-universal.sh animalcules_1.9.1.tar.gz /Library/Frameworks/R.framework/Resources/bin/R animalcules.buildbin-libdir
StartedAt: 2021-10-20 10:58:09 -0400 (Wed, 20 Oct 2021)
EndedAt: 2021-10-20 10:59:10 -0400 (Wed, 20 Oct 2021)
EllapsedTime: 61.3 seconds
RetCode: 0
Status:   OK  
PackageFile: animalcules_1.9.1.tgz
PackageFileSize: 3.331 MiB

Command output

##############################################################################
##############################################################################
###
### Running command:
###
###   rm -rf animalcules.buildbin-libdir && mkdir animalcules.buildbin-libdir && /Users/biocbuild/BBS/utils/build-universal.sh animalcules_1.9.1.tar.gz /Library/Frameworks/R.framework/Resources/bin/R animalcules.buildbin-libdir
###
##############################################################################
##############################################################################


>>>>>>> 
>>>>>>> INSTALLATION WITH 'R CMD INSTALL --preclean --no-multiarch --library=animalcules.buildbin-libdir animalcules_1.9.1.tar.gz'
>>>>>>> 

* installing *source* package ‘animalcules’ ...
** using staged installation
** R
** inst
** byte-compile and prepare package for lazy loading
** help
*** installing help indices
** building package indices
** installing vignettes
** testing if installed package can be loaded from temporary location
** testing if installed package can be loaded from final location
** testing if installed package keeps a record of temporary installation path
* DONE (animalcules)