Back to Multiple platform build/check report for BioC 3.14
[A]BCDEFGHIJKLMNOPQRSTUVWXYZ

This page was generated on 2021-10-20 12:05:00 -0400 (Wed, 20 Oct 2021).

CHECK results for amplican on riesling1

To the developers/maintainers of the amplican package:
- Please allow up to 24 hours (and sometimes 48 hours) for your latest push to git@git.bioconductor.org:packages/amplican.git to
reflect on this report. See How and When does the builder pull? When will my changes propagate? here for more information.
- Make sure to use the following settings in order to reproduce any error or warning you see on this page.

raw results

Package 51/2072HostnameOS / ArchINSTALLBUILDCHECKBUILD BIN
amplican 1.15.5  (landing page)
Eivind Valen
Snapshot Date: 2021-10-19 14:50:04 -0400 (Tue, 19 Oct 2021)
git_url: https://git.bioconductor.org/packages/amplican
git_branch: master
git_last_commit: ff83818
git_last_commit_date: 2021-10-06 12:19:11 -0400 (Wed, 06 Oct 2021)
nebbiolo2Linux (Ubuntu 20.04.2 LTS) / x86_64  OK    OK    OK  UNNEEDED, same version is already published
riesling1Windows Server 2019 Standard / x64  OK    OK    OK    OK  UNNEEDED, same version is already published
merida1macOS 10.14.6 Mojave / x86_64  OK    OK    OK    OK  UNNEEDED, same version is already published

Summary

Package: amplican
Version: 1.15.5
Command: D:\biocbuild\bbs-3.14-bioc\R\bin\R.exe CMD check --force-multiarch --install=check:amplican.install-out.txt --library=D:\biocbuild\bbs-3.14-bioc\R\library --no-vignettes --timings amplican_1.15.5.tar.gz
StartedAt: 2021-10-20 00:07:58 -0400 (Wed, 20 Oct 2021)
EndedAt: 2021-10-20 00:12:51 -0400 (Wed, 20 Oct 2021)
EllapsedTime: 293.9 seconds
RetCode: 0
Status:   OK  
CheckDir: amplican.Rcheck
Warnings: 0

Command output

##############################################################################
##############################################################################
###
### Running command:
###
###   D:\biocbuild\bbs-3.14-bioc\R\bin\R.exe CMD check --force-multiarch --install=check:amplican.install-out.txt --library=D:\biocbuild\bbs-3.14-bioc\R\library --no-vignettes --timings amplican_1.15.5.tar.gz
###
##############################################################################
##############################################################################


* using log directory 'D:/biocbuild/bbs-3.14-bioc/meat/amplican.Rcheck'
* using R version 4.1.1 (2021-08-10)
* using platform: x86_64-w64-mingw32 (64-bit)
* using session charset: ISO8859-1
* using option '--no-vignettes'
* checking for file 'amplican/DESCRIPTION' ... OK
* checking extension type ... Package
* this is package 'amplican' version '1.15.5'
* package encoding: UTF-8
* checking package namespace information ... OK
* checking package dependencies ... OK
* checking if this is a source package ... OK
* checking if there is a namespace ... OK
* checking for hidden files and directories ... OK
* checking for portable file names ... OK
* checking whether package 'amplican' can be installed ... OK
* checking installed package size ... OK
* checking package directory ... OK
* checking 'build' directory ... OK
* checking DESCRIPTION meta-information ... OK
* checking top-level files ... OK
* checking for left-over files ... OK
* checking index information ... OK
* checking package subdirectories ... OK
* checking R files for non-ASCII characters ... OK
* checking R files for syntax errors ... OK
* loading checks for arch 'i386'
** checking whether the package can be loaded ... OK
** checking whether the package can be loaded with stated dependencies ... OK
** checking whether the package can be unloaded cleanly ... OK
** checking whether the namespace can be loaded with stated dependencies ... OK
** checking whether the namespace can be unloaded cleanly ... OK
* loading checks for arch 'x64'
** checking whether the package can be loaded ... OK
** checking whether the package can be loaded with stated dependencies ... OK
** checking whether the package can be unloaded cleanly ... OK
** checking whether the namespace can be loaded with stated dependencies ... OK
** checking whether the namespace can be unloaded cleanly ... OK
* checking dependencies in R code ... OK
* checking S3 generic/method consistency ... OK
* checking replacement functions ... OK
* checking foreign function calls ... OK
* checking R code for possible problems ... OK
* checking Rd files ... OK
* checking Rd metadata ... OK
* checking Rd cross-references ... OK
* checking for missing documentation entries ... OK
* checking for code/documentation mismatches ... OK
* checking Rd \usage sections ... OK
* checking Rd contents ... OK
* checking for unstated dependencies in examples ... OK
* checking line endings in C/C++/Fortran sources/headers ... OK
* checking compiled code ... NOTE
Note: information on .o files for i386 is not available
Note: information on .o files for x64 is not available
File 'D:/biocbuild/bbs-3.14-bioc/R/library/amplican/libs/i386/amplican.dll':
  Found 'abort', possibly from 'abort' (C), 'runtime' (Fortran)
  Found 'exit', possibly from 'exit' (C), 'stop' (Fortran)
  Found 'printf', possibly from 'printf' (C)
File 'D:/biocbuild/bbs-3.14-bioc/R/library/amplican/libs/x64/amplican.dll':
  Found 'abort', possibly from 'abort' (C), 'runtime' (Fortran)
  Found 'exit', possibly from 'exit' (C), 'stop' (Fortran)
  Found 'printf', possibly from 'printf' (C)

Compiled code should not call entry points which might terminate R nor
write to stdout/stderr instead of to the console, nor use Fortran I/O
nor system RNGs. The detected symbols are linked into the code but
might come from libraries and not actually be called.

See 'Writing portable packages' in the 'Writing R Extensions' manual.
* checking files in 'vignettes' ... OK
* checking examples ...
** running examples for arch 'i386' ... OK
Examples with CPU (user + system) or elapsed time > 5s
              user system elapsed
amplicanAlign 4.38   1.28    5.66
** running examples for arch 'x64' ... OK
Examples with CPU (user + system) or elapsed time > 5s
              user system elapsed
amplicanAlign  4.8   0.86    5.66
* checking for unstated dependencies in 'tests' ... OK
* checking tests ...
** running tests for arch 'i386' ...
  Running 'testthat.R'
 OK
** running tests for arch 'x64' ...
  Running 'testthat.R'
 OK
* checking for unstated dependencies in vignettes ... OK
* checking package vignettes in 'inst/doc' ... OK
* checking running R code from vignettes ... SKIPPED
* checking re-building of vignette outputs ... SKIPPED
* checking PDF version of manual ... OK
* DONE

Status: 1 NOTE
See
  'D:/biocbuild/bbs-3.14-bioc/meat/amplican.Rcheck/00check.log'
for details.



Installation output

amplican.Rcheck/00install.out

##############################################################################
##############################################################################
###
### Running command:
###
###   C:\cygwin\bin\curl.exe -O http://155.52.207.166/BBS/3.14/bioc/src/contrib/amplican_1.15.5.tar.gz && rm -rf amplican.buildbin-libdir && mkdir amplican.buildbin-libdir && D:\biocbuild\bbs-3.14-bioc\R\bin\R.exe CMD INSTALL --merge-multiarch --build --library=amplican.buildbin-libdir amplican_1.15.5.tar.gz && D:\biocbuild\bbs-3.14-bioc\R\bin\R.exe CMD INSTALL amplican_1.15.5.zip && rm amplican_1.15.5.tar.gz amplican_1.15.5.zip
###
##############################################################################
##############################################################################


  % Total    % Received % Xferd  Average Speed   Time    Time     Time  Current
                                 Dload  Upload   Total   Spent    Left  Speed

  0     0    0     0    0     0      0      0 --:--:-- --:--:-- --:--:--     0
100 2196k  100 2196k    0     0  4192k      0 --:--:-- --:--:-- --:--:-- 4192k

install for i386

* installing *source* package 'amplican' ...
** using staged installation
** libs
"C:/rtools40/mingw32/bin/"g++ -std=gnu++11  -I"D:/biocbuild/bbs-3.14-bioc/R/include" -DNDEBUG  -I'D:/biocbuild/bbs-3.14-bioc/R/library/Rcpp/include'   -I"C:/extsoft/include"     -O2 -Wall  -mfpmath=sse -msse2 -mstackrealign  -c RcppExports.cpp -o RcppExports.o
"C:/rtools40/mingw32/bin/"g++ -std=gnu++11  -I"D:/biocbuild/bbs-3.14-bioc/R/include" -DNDEBUG  -I'D:/biocbuild/bbs-3.14-bioc/R/library/Rcpp/include'   -I"C:/extsoft/include"     -O2 -Wall  -mfpmath=sse -msse2 -mstackrealign  -c bezier.cpp -o bezier.o
C:/rtools40/mingw32/bin/g++ -std=gnu++11 -shared -s -static-libgcc -o amplican.dll tmp.def RcppExports.o bezier.o -LC:/extsoft/lib/i386 -LC:/extsoft/lib -LD:/biocbuild/bbs-3.14-bioc/R/bin/i386 -lR
installing to D:/biocbuild/bbs-3.14-bioc/meat/amplican.buildbin-libdir/00LOCK-amplican/00new/amplican/libs/i386
** R
** inst
** byte-compile and prepare package for lazy loading
** help
*** installing help indices
  converting help for package 'amplican'
    finding HTML links ... done
    AlignmentsExperimentSet-class           html  
    finding level-2 HTML links ... done

    alphabetQuality                         html  
    amplican                                html  
    amplicanAlign                           html  
    amplicanConsensus                       html  
    amplicanFilter                          html  
    amplicanMap                             html  
    amplicanNormalize                       html  
    amplicanOverlap                         html  
    amplicanPipeline                        html  
    amplicanPipelineConservative            html  
    amplicanReport                          html  
    amplicanSummarize                       html  
    amplican_print_reads                    html  
    assignedCount                           html  
    barcodeData-set                         html  
    barcodeData                             html  
    checkConfigFile                         html  
    checkFileWriteAccess                    html  
    checkPrimers                            html  
    checkTarget                             html  
    cigarsToEvents                          html  
    comb_along                              html  
    cumsumw                                 html  
    decode                                  html  
    defGR                                   html  
    experimentData-set                      html  
    experimentData                          html  
    extractEvents                           html  
    findEOP                                 html  
    findLQR                                 html  
    findPD                                  html  
    flipRanges                              html  
    fwdReads-set                            html  
    fwdReads                                html  
    fwdReadsType-set                        html  
    fwdReadsType                            html  
    geom_bezier                             html  
    getEventInfo                            html  
    getEvents                               html  
    get_amplicon                            html  
    get_left_primer                         html  
    get_right_primer                        html  
    goodAvgQuality                          html  
    goodBaseQuality                         html  
    lookupAlignment                         html  
    makeAlignment                           html  
    metaplot_deletions                      html  
    metaplot_insertions                     html  
    metaplot_mismatches                     html  
    pairToEvents                            html  
    plot_amplicon                           html  
    plot_cuts                               html  
    plot_deletions                          html  
    plot_height                             html  
    plot_heterogeneity                      html  
    plot_insertions                         html  
    plot_mismatches                         html  
    plot_variants                           html  
    readCounts-set                          html  
    readCounts                              html  
    revComp                                 html  
    rveReads-set                            html  
    rveReads                                html  
    rveReadsType-set                        html  
    rveReadsType                            html  
    unassignedCount                         html  
    unassignedData-set                      html  
    unassignedData                          html  
    upperGroups                             html  
    writeAlignments                         html  
** building package indices
** installing vignettes
** testing if installed package can be loaded from temporary location
** testing if installed package can be loaded from final location
** testing if installed package keeps a record of temporary installation path

install for x64

* installing *source* package 'amplican' ...
** libs
"C:/rtools40/mingw64/bin/"g++ -std=gnu++11  -I"D:/biocbuild/bbs-3.14-bioc/R/include" -DNDEBUG  -I'D:/biocbuild/bbs-3.14-bioc/R/library/Rcpp/include'   -I"C:/extsoft/include"     -O2 -Wall  -mfpmath=sse -msse2 -mstackrealign  -c RcppExports.cpp -o RcppExports.o
"C:/rtools40/mingw64/bin/"g++ -std=gnu++11  -I"D:/biocbuild/bbs-3.14-bioc/R/include" -DNDEBUG  -I'D:/biocbuild/bbs-3.14-bioc/R/library/Rcpp/include'   -I"C:/extsoft/include"     -O2 -Wall  -mfpmath=sse -msse2 -mstackrealign  -c bezier.cpp -o bezier.o
C:/rtools40/mingw64/bin/g++ -std=gnu++11 -shared -s -static-libgcc -o amplican.dll tmp.def RcppExports.o bezier.o -LC:/extsoft/lib/x64 -LC:/extsoft/lib -LD:/biocbuild/bbs-3.14-bioc/R/bin/x64 -lR
installing to D:/biocbuild/bbs-3.14-bioc/meat/amplican.buildbin-libdir/amplican/libs/x64
** testing if installed package can be loaded
* MD5 sums
packaged installation of 'amplican' as amplican_1.15.5.zip
* DONE (amplican)
* installing to library 'D:/biocbuild/bbs-3.14-bioc/R/library'
package 'amplican' successfully unpacked and MD5 sums checked

Tests output

amplican.Rcheck/tests_i386/testthat.Rout


R version 4.1.1 (2021-08-10) -- "Kick Things"
Copyright (C) 2021 The R Foundation for Statistical Computing
Platform: i386-w64-mingw32/i386 (32-bit)

R is free software and comes with ABSOLUTELY NO WARRANTY.
You are welcome to redistribute it under certain conditions.
Type 'license()' or 'licence()' for distribution details.

R is a collaborative project with many contributors.
Type 'contributors()' for more information and
'citation()' on how to cite R or R packages in publications.

Type 'demo()' for some demos, 'help()' for on-line help, or
'help.start()' for an HTML browser interface to help.
Type 'q()' to quit R.

> library(testthat)
> library(amplican)
Loading required package: BiocGenerics

Attaching package: 'BiocGenerics'

The following objects are masked from 'package:stats':

    IQR, mad, sd, var, xtabs

The following objects are masked from 'package:base':

    Filter, Find, Map, Position, Reduce, anyDuplicated, append,
    as.data.frame, basename, cbind, colnames, dirname, do.call,
    duplicated, eval, evalq, get, grep, grepl, intersect, is.unsorted,
    lapply, mapply, match, mget, order, paste, pmax, pmax.int, pmin,
    pmin.int, rank, rbind, rownames, sapply, setdiff, sort, table,
    tapply, union, unique, unsplit, which.max, which.min

Loading required package: Biostrings
Loading required package: S4Vectors
Loading required package: stats4

Attaching package: 'S4Vectors'

The following objects are masked from 'package:base':

    I, expand.grid, unname

Loading required package: IRanges

Attaching package: 'IRanges'

The following object is masked from 'package:grDevices':

    windows

Loading required package: XVector
Loading required package: GenomeInfoDb

Attaching package: 'Biostrings'

The following object is masked from 'package:base':

    strsplit

Loading required package: data.table

Attaching package: 'data.table'

The following object is masked from 'package:IRanges':

    shift

The following objects are masked from 'package:S4Vectors':

    first, second

Pease consider supporting this software by citing:

Labun et al. 2019
Accurate analysis of genuine CRISPR editing events with ampliCan.
Genome Res. 2019 Mar 8
doi: 10.1101/gr.244293.118

Without appreciation scientific software is usually abandoned and eventually deprecated, but you can easily support authors by citations.
> 
> test_check("amplican")
[ FAIL 0 | WARN 4 | SKIP 0 | PASS 57 ]
> 
> proc.time()
   user  system elapsed 
  15.75    1.06   16.89 

amplican.Rcheck/tests_x64/testthat.Rout


R version 4.1.1 (2021-08-10) -- "Kick Things"
Copyright (C) 2021 The R Foundation for Statistical Computing
Platform: x86_64-w64-mingw32/x64 (64-bit)

R is free software and comes with ABSOLUTELY NO WARRANTY.
You are welcome to redistribute it under certain conditions.
Type 'license()' or 'licence()' for distribution details.

R is a collaborative project with many contributors.
Type 'contributors()' for more information and
'citation()' on how to cite R or R packages in publications.

Type 'demo()' for some demos, 'help()' for on-line help, or
'help.start()' for an HTML browser interface to help.
Type 'q()' to quit R.

> library(testthat)
> library(amplican)
Loading required package: BiocGenerics

Attaching package: 'BiocGenerics'

The following objects are masked from 'package:stats':

    IQR, mad, sd, var, xtabs

The following objects are masked from 'package:base':

    Filter, Find, Map, Position, Reduce, anyDuplicated, append,
    as.data.frame, basename, cbind, colnames, dirname, do.call,
    duplicated, eval, evalq, get, grep, grepl, intersect, is.unsorted,
    lapply, mapply, match, mget, order, paste, pmax, pmax.int, pmin,
    pmin.int, rank, rbind, rownames, sapply, setdiff, sort, table,
    tapply, union, unique, unsplit, which.max, which.min

Loading required package: Biostrings
Loading required package: S4Vectors
Loading required package: stats4

Attaching package: 'S4Vectors'

The following objects are masked from 'package:base':

    I, expand.grid, unname

Loading required package: IRanges

Attaching package: 'IRanges'

The following object is masked from 'package:grDevices':

    windows

Loading required package: XVector
Loading required package: GenomeInfoDb

Attaching package: 'Biostrings'

The following object is masked from 'package:base':

    strsplit

Loading required package: data.table

Attaching package: 'data.table'

The following object is masked from 'package:IRanges':

    shift

The following objects are masked from 'package:S4Vectors':

    first, second

Pease consider supporting this software by citing:

Labun et al. 2019
Accurate analysis of genuine CRISPR editing events with ampliCan.
Genome Res. 2019 Mar 8
doi: 10.1101/gr.244293.118

Without appreciation scientific software is usually abandoned and eventually deprecated, but you can easily support authors by citations.
> 
> test_check("amplican")
[ FAIL 0 | WARN 4 | SKIP 0 | PASS 57 ]
> 
> proc.time()
   user  system elapsed 
  15.79    1.65   17.51 

Example timings

amplican.Rcheck/examples_i386/amplican-Ex.timings

nameusersystemelapsed
AlignmentsExperimentSet-class0.710.030.75
amplicanAlign4.381.285.66
amplicanConsensus0.050.020.06
amplicanFilter0.010.010.03
amplicanMap0.220.000.22
amplicanNormalize0.020.000.02
amplicanOverlap0.000.020.01
amplicanPipeline3.281.004.38
amplicanReport0.030.000.12
amplicanSummarize000
amplican_print_reads0.160.010.17
assignedCount0.030.000.04
barcodeData-set0.010.000.01
barcodeData0.020.000.02
comb_along0.010.000.01
experimentData-set0.020.000.02
experimentData0.010.000.01
extractEvents1.910.001.91
findEOP000
findLQR000
findPD0.000.020.02
fwdReads-set0.020.000.01
fwdReads0.250.000.25
fwdReadsType-set0.010.000.02
fwdReadsType0.020.000.01
geom_bezier0.190.000.19
lookupAlignment0.150.000.16
metaplot_deletions0.110.000.11
metaplot_insertions0.140.000.14
metaplot_mismatches0.160.000.15
plot_cuts0.140.000.14
plot_deletions0.120.000.13
plot_height000
plot_heterogeneity0.180.000.17
plot_insertions0.210.000.22
plot_mismatches0.250.000.25
plot_variants0.380.000.37
readCounts-set0.010.000.02
readCounts0.020.000.02
rveReads-set0.020.000.01
rveReads0.250.000.25
rveReadsType-set0.010.000.02
rveReadsType0.020.000.01
unassignedCount0.010.000.02
unassignedData-set0.020.000.01
unassignedData0.010.000.02
writeAlignments0.040.000.03

amplican.Rcheck/examples_x64/amplican-Ex.timings

nameusersystemelapsed
AlignmentsExperimentSet-class0.980.011.00
amplicanAlign4.800.865.66
amplicanConsensus0.070.000.06
amplicanFilter0.010.000.02
amplicanMap0.250.000.25
amplicanNormalize0.020.000.02
amplicanOverlap0.010.000.01
amplicanPipeline3.580.774.45
amplicanReport0.020.010.13
amplicanSummarize0.010.000.01
amplican_print_reads0.190.020.21
assignedCount0.020.000.02
barcodeData-set0.010.000.01
barcodeData0.020.000.02
comb_along0.010.000.02
experimentData-set0.020.000.01
experimentData0.010.000.02
extractEvents2.070.012.08
findEOP000
findLQR000
findPD000
fwdReads-set0.020.000.02
fwdReads0.260.000.26
fwdReadsType-set0.020.000.02
fwdReadsType0.010.000.01
geom_bezier0.190.000.19
lookupAlignment0.170.000.17
metaplot_deletions0.110.020.13
metaplot_insertions0.160.000.15
metaplot_mismatches0.140.010.16
plot_cuts0.160.000.16
plot_deletions0.140.000.14
plot_height000
plot_heterogeneity0.220.000.22
plot_insertions0.310.000.31
plot_mismatches0.260.000.28
plot_variants0.390.000.39
readCounts-set0.020.000.02
readCounts0.020.000.01
rveReads-set000
rveReads0.320.000.33
rveReadsType-set0.020.000.02
rveReadsType0.010.000.01
unassignedCount0.020.000.02
unassignedData-set0.020.000.01
unassignedData0.010.000.02
writeAlignments0.030.000.03