Back to Multiple platform build/check report for BioC 3.14
[A]BCDEFGHIJKLMNOPQRSTUVWXYZ

This page was generated on 2021-10-22 12:04:17 -0400 (Fri, 22 Oct 2021).

BUILD results for amplican on riesling1

To the developers/maintainers of the amplican package:
- Please allow up to 24 hours (and sometimes 48 hours) for your latest push to git@git.bioconductor.org:packages/amplican.git to
reflect on this report. See How and When does the builder pull? When will my changes propagate? here for more information.
- Make sure to use the following settings in order to reproduce any error or warning you see on this page.

raw results

Package 51/2075HostnameOS / ArchINSTALLBUILDCHECKBUILD BIN
amplican 1.15.5  (landing page)
Eivind Valen
Snapshot Date: 2021-10-21 14:50:08 -0400 (Thu, 21 Oct 2021)
git_url: https://git.bioconductor.org/packages/amplican
git_branch: master
git_last_commit: ff83818
git_last_commit_date: 2021-10-06 12:19:11 -0400 (Wed, 06 Oct 2021)
nebbiolo2Linux (Ubuntu 20.04.2 LTS) / x86_64  OK    OK    OK  UNNEEDED, same version is already published
riesling1Windows Server 2019 Standard / x64  OK    OK    OK    OK  UNNEEDED, same version is already published
merida1macOS 10.14.6 Mojave / x86_64  OK    OK    OK    OK  UNNEEDED, same version is already published

Summary

Package: amplican
Version: 1.15.5
Command: chmod a+r amplican -R && D:\biocbuild\bbs-3.14-bioc\R\bin\R.exe CMD build --keep-empty-dirs --no-resave-data amplican
StartedAt: 2021-10-21 19:31:46 -0400 (Thu, 21 Oct 2021)
EndedAt: 2021-10-21 19:36:26 -0400 (Thu, 21 Oct 2021)
EllapsedTime: 279.9 seconds
RetCode: 0
Status:   OK  
PackageFile: amplican_1.15.5.tar.gz
PackageFileSize: 6.823 MiB

Command output

##############################################################################
##############################################################################
###
### Running command:
###
###   chmod a+r amplican -R && D:\biocbuild\bbs-3.14-bioc\R\bin\R.exe CMD build --keep-empty-dirs --no-resave-data amplican
###
##############################################################################
##############################################################################


* checking for file 'amplican/DESCRIPTION' ... OK
* preparing 'amplican':
* checking DESCRIPTION meta-information ... OK
* cleaning src
* installing the package to build vignettes
* creating vignettes ... OK
* cleaning src
* checking for LF line-endings in source and make files and shell scripts
* checking for empty or unneeded directories
Omitted 'LazyData' from DESCRIPTION
* building 'amplican_1.15.5.tar.gz'