Back to Multiple platform build/check report for BioC 3.14
[A]BCDEFGHIJKLMNOPQRSTUVWXYZ

This page was generated on 2021-10-26 14:07:38 -0400 (Tue, 26 Oct 2021).

BUILD results for amplican on merida1

To the developers/maintainers of the amplican package:
- Please allow up to 24 hours (and sometimes 48 hours) for your latest push to git@git.bioconductor.org:packages/amplican.git to
reflect on this report. See How and When does the builder pull? When will my changes propagate? here for more information.
- Make sure to use the following settings in order to reproduce any error or warning you see on this page.

raw results

Package 51/2083HostnameOS / ArchINSTALLBUILDCHECKBUILD BIN
amplican 1.15.6  (landing page)
Eivind Valen
Snapshot Date: 2021-10-25 14:50:11 -0400 (Mon, 25 Oct 2021)
git_url: https://git.bioconductor.org/packages/amplican
git_branch: master
git_last_commit: 0b45efe
git_last_commit_date: 2021-10-22 05:49:35 -0400 (Fri, 22 Oct 2021)
nebbiolo2Linux (Ubuntu 20.04.2 LTS) / x86_64  OK    OK    OK  UNNEEDED, same version is already published
riesling1Windows Server 2019 Standard / x64  OK    OK    OK    OK  UNNEEDED, same version is already published
merida1macOS 10.14.6 Mojave / x86_64  OK    OK    OK    OK  UNNEEDED, same version is already published
machv2macOS 10.14.6 Mojave / x86_64  OK    OK    OK    OK  

Summary

Package: amplican
Version: 1.15.6
Command: /Library/Frameworks/R.framework/Resources/bin/R CMD build --keep-empty-dirs --no-resave-data amplican
StartedAt: 2021-10-25 18:26:15 -0400 (Mon, 25 Oct 2021)
EndedAt: 2021-10-25 18:28:01 -0400 (Mon, 25 Oct 2021)
EllapsedTime: 106.3 seconds
RetCode: 0
Status:   OK  
PackageFile: amplican_1.15.6.tar.gz
PackageFileSize: 9.093 MiB

Command output

##############################################################################
##############################################################################
###
### Running command:
###
###   /Library/Frameworks/R.framework/Resources/bin/R CMD build --keep-empty-dirs --no-resave-data amplican
###
##############################################################################
##############################################################################


* checking for file ‘amplican/DESCRIPTION’ ... OK
* preparing ‘amplican’:
* checking DESCRIPTION meta-information ... OK
* cleaning src
* installing the package to build vignettes
* creating vignettes ... OK
* cleaning src
* checking for LF line-endings in source and make files and shell scripts
* checking for empty or unneeded directories
Omitted ‘LazyData’ from DESCRIPTION
* building ‘amplican_1.15.6.tar.gz’