Back to Multiple platform build/check report for BioC 3.14
[A]BCDEFGHIJKLMNOPQRSTUVWXYZ

This page was generated on 2021-10-19 12:04:46 -0400 (Tue, 19 Oct 2021).

INSTALL results for alsace on riesling1

To the developers/maintainers of the alsace package:
- Please allow up to 24 hours (and sometimes 48 hours) for your latest push to git@git.bioconductor.org:packages/alsace.git to
reflect on this report. See How and When does the builder pull? When will my changes propagate? here for more information.
- Make sure to use the following settings in order to reproduce any error or warning you see on this page.

raw results

Package 47/2060HostnameOS / ArchINSTALLBUILDCHECKBUILD BIN
alsace 1.29.1  (landing page)
Ron Wehrens
Snapshot Date: 2021-10-18 14:50:10 -0400 (Mon, 18 Oct 2021)
git_url: https://git.bioconductor.org/packages/alsace
git_branch: master
git_last_commit: 66b404d
git_last_commit_date: 2021-08-30 07:59:33 -0400 (Mon, 30 Aug 2021)
nebbiolo2Linux (Ubuntu 20.04.2 LTS) / x86_64  OK    OK    WARNINGS  UNNEEDED, same version is already published
riesling1Windows Server 2019 Standard / x64  OK    OK    WARNINGS    OK  UNNEEDED, same version is already published
merida1macOS 10.14.6 Mojave / x86_64  OK    OK    WARNINGS    OK  UNNEEDED, same version is already published

Summary

Package: alsace
Version: 1.29.1
Command: C:\cygwin\bin\curl.exe -O http://155.52.207.166/BBS/3.14/bioc/src/contrib/alsace_1.29.1.tar.gz && rm -rf alsace.buildbin-libdir && mkdir alsace.buildbin-libdir && D:\biocbuild\bbs-3.14-bioc\R\bin\R.exe CMD INSTALL --merge-multiarch --build --library=alsace.buildbin-libdir alsace_1.29.1.tar.gz && D:\biocbuild\bbs-3.14-bioc\R\bin\R.exe CMD INSTALL alsace_1.29.1.zip && rm alsace_1.29.1.tar.gz alsace_1.29.1.zip
StartedAt: 2021-10-18 16:46:55 -0400 (Mon, 18 Oct 2021)
EndedAt: 2021-10-18 16:50:06 -0400 (Mon, 18 Oct 2021)
EllapsedTime: 191.3 seconds
RetCode: 0
Status:   OK  

Command output

##############################################################################
##############################################################################
###
### Running command:
###
###   C:\cygwin\bin\curl.exe -O http://155.52.207.166/BBS/3.14/bioc/src/contrib/alsace_1.29.1.tar.gz && rm -rf alsace.buildbin-libdir && mkdir alsace.buildbin-libdir && D:\biocbuild\bbs-3.14-bioc\R\bin\R.exe CMD INSTALL --merge-multiarch --build --library=alsace.buildbin-libdir alsace_1.29.1.tar.gz && D:\biocbuild\bbs-3.14-bioc\R\bin\R.exe CMD INSTALL alsace_1.29.1.zip && rm alsace_1.29.1.tar.gz alsace_1.29.1.zip
###
##############################################################################
##############################################################################


  % Total    % Received % Xferd  Average Speed   Time    Time     Time  Current
                                 Dload  Upload   Total   Spent    Left  Speed

  0     0    0     0    0     0      0      0 --:--:-- --:--:-- --:--:--     0
100 1067k  100 1067k    0     0  3357k      0 --:--:-- --:--:-- --:--:-- 3357k

install for i386

* installing *source* package 'alsace' ...
** using staged installation
** R
** data
** byte-compile and prepare package for lazy loading
** help
*** installing help indices
  converting help for package 'alsace'
    finding HTML links ... done
    alsace-package                          html  
    components                              html  
    correctPeaks                            html  
    correctRT                               html  
    finding level-2 HTML links ... done

    doALS                                   html  
    filterPeaks                             html  
    fitpeaks                                html  
    getAllPeaks                             html  
    getPeakTable                            html  
    opa                                     html  
    preprocess                              html  
    showALSresult                           html  
    tea                                     html  
    teaMerged                               html  
    windows                                 html  
** building package indices
** installing vignettes
** testing if installed package can be loaded from temporary location
Warning: Package 'alsace' is deprecated and will be removed from Bioconductor
  version 3.15
** testing if installed package can be loaded from final location
Warning: Package 'alsace' is deprecated and will be removed from Bioconductor
  version 3.15
** testing if installed package keeps a record of temporary installation path

install for x64

* installing *source* package 'alsace' ...
** testing if installed package can be loaded
Warning: Package 'alsace' is deprecated and will be removed from Bioconductor
  version 3.15
* MD5 sums
packaged installation of 'alsace' as alsace_1.29.1.zip
* DONE (alsace)
* installing to library 'D:/biocbuild/bbs-3.14-bioc/R/library'
package 'alsace' successfully unpacked and MD5 sums checked